BEGIN:VCALENDAR
VERSION:2.0
PRODID:-//Tapahtumakalenteri - ECPv6.15.18//NONSGML v1.0//EN
CALSCALE:GREGORIAN
METHOD:PUBLISH
X-WR-CALNAME:Tapahtumakalenteri
X-ORIGINAL-URL:https://kalenteri.niemikoti.fi/en/
X-WR-CALDESC:Events for Tapahtumakalenteri
REFRESH-INTERVAL;VALUE=DURATION:PT1H
X-Robots-Tag:noindex
X-PUBLISHED-TTL:PT1H
BEGIN:VTIMEZONE
TZID:Europe/Helsinki
BEGIN:DAYLIGHT
TZOFFSETFROM:+0200
TZOFFSETTO:+0300
TZNAME:EEST
DTSTART:20240331T010000
END:DAYLIGHT
BEGIN:STANDARD
TZOFFSETFROM:+0300
TZOFFSETTO:+0200
TZNAME:EET
DTSTART:20241027T010000
END:STANDARD
BEGIN:DAYLIGHT
TZOFFSETFROM:+0200
TZOFFSETTO:+0300
TZNAME:EEST
DTSTART:20250330T010000
END:DAYLIGHT
BEGIN:STANDARD
TZOFFSETFROM:+0300
TZOFFSETTO:+0200
TZNAME:EET
DTSTART:20251026T010000
END:STANDARD
BEGIN:DAYLIGHT
TZOFFSETFROM:+0200
TZOFFSETTO:+0300
TZNAME:EEST
DTSTART:20260329T010000
END:DAYLIGHT
BEGIN:STANDARD
TZOFFSETFROM:+0300
TZOFFSETTO:+0200
TZNAME:EET
DTSTART:20261025T010000
END:STANDARD
END:VTIMEZONE
BEGIN:VEVENT
DTSTART;TZID=Europe/Helsinki:20250331T100000
DTEND;TZID=Europe/Helsinki:20250331T120000
DTSTAMP:20260425T052744
CREATED:20250314T080108Z
LAST-MODIFIED:20250314T080108Z
UID:10021966-1743415200-1743422400@kalenteri.niemikoti.fi
SUMMARY:Kuukauden aloitus: Yhdessä ulkokuntosalille
DESCRIPTION:Toivotetaan Hissitön huhtikuu tervetulleeksi Linnunlaulun ulkokuntosalilla! Uusi Linnunlaulun ulkokuntosali sijaitsee Töölönlahdella. Lähdemme yhdessä Valtti Valmennuksesta klo 10. Kävelymatka kestää n. 35 minuuttia. \nHissittömän huhtikuun kunniaksi lähdemme yhdessä liikkeelle matalalla kynnyksellä. Vaikka menemme ryhmänä\, voit osallistua juuri itsellesi sopivalla tavalla. Halutessasi voit osallistua myös vain esimerkiksi kävelyosuudelle. \nRyhmään ei tarvitse ilmoittautua etukäteen. \n 
URL:https://kalenteri.niemikoti.fi/en/tapahtuma/kuukauden-aloitus-yhdessa-ulkokuntosalille/
LOCATION:Valtti Valmennus\, Elimäenkatu 26\, Helsinki\, 00510\, Finland
CATEGORIES:Tapahtumat palvelunkäyttäjille,Valtti Valmennus
ATTACH;FMTTYPE=image/png:https://kalenteri.niemikoti.fi/wp-content/uploads/2025/03/HISSITON-HUHTIKUU.png
END:VEVENT
BEGIN:VEVENT
DTSTART;TZID=Europe/Helsinki:20250331T113000
DTEND;TZID=Europe/Helsinki:20250331T120000
DTSTAMP:20260425T052744
CREATED:20240814T064838Z
LAST-MODIFIED:20250321T104505Z
UID:10013849-1743420600-1743422400@kalenteri.niemikoti.fi
SUMMARY:Kävelylenkki
DESCRIPTION:Yhteisön kävelylenkki toimintakeskuksen lähimaastossa.
URL:https://kalenteri.niemikoti.fi/en/tapahtuma/kavelylenkki/2025-03-31/
LOCATION:Toimintakeskus Villa Borgis\, Linnavuorentie 13\, Helsinki\, 00950\, Finland
CATEGORIES:Toimintakeskus Villa Borgis
END:VEVENT
BEGIN:VEVENT
DTSTART;TZID=Europe/Helsinki:20250402T110000
DTEND;TZID=Europe/Helsinki:20250402T120000
DTSTAMP:20260425T052744
CREATED:20250120T151955Z
LAST-MODIFIED:20250612T131742Z
UID:10021272-1743591600-1743595200@kalenteri.niemikoti.fi
SUMMARY:Luonto & liikunta -kävelyryhmä
DESCRIPTION:Kävelemme Malmin päivätoimintakeskuksen lähiluonnossa mukavan kävelylenkin. Kaksi ryhmää\, joista voit valita rauhallisesti tai reippaasti etenevän ryhmän. \nTäydentyvä ryhmä\, ilmoittaudu mukaan! \nEi ryhmää 21.5.
URL:https://kalenteri.niemikoti.fi/en/tapahtuma/luonto-liikunta-kavelyryhma-4/2025-04-02/
LOCATION:Malmin päivätoimintakeskus\, Vanha Helsingintie 9\, Helsinki\, 00700\, Finland
CATEGORIES:Malmin päivätoimintakeskus
ATTACH;FMTTYPE=image/jpeg:https://kalenteri.niemikoti.fi/wp-content/uploads/2025/01/Luonto-ja-liikunta-kavelyryhma_valmis-2.jpg
END:VEVENT
BEGIN:VEVENT
DTSTART;TZID=Europe/Helsinki:20250402T110000
DTEND;TZID=Europe/Helsinki:20250402T120000
DTSTAMP:20260425T052744
CREATED:20250325T082019Z
LAST-MODIFIED:20250326T124928Z
UID:10022014-1743591600-1743595200@kalenteri.niemikoti.fi
SUMMARY:Mukavat muuvit -tanssiryhmä
DESCRIPTION:Kaikille sopivaa luovaa liikuskelua musiikin tahdissa.
URL:https://kalenteri.niemikoti.fi/en/tapahtuma/mukavat-muuvit-tanssiryhma-2/2025-04-02/
LOCATION:Toimintakeskus Villa Borgis\, Linnavuorentie 13\, Helsinki\, 00950\, Finland
CATEGORIES:Toimintakeskus Villa Borgis
ATTACH;FMTTYPE=image/jpeg:https://kalenteri.niemikoti.fi/wp-content/uploads/2025/03/mukavat_muuvit.jpg
END:VEVENT
BEGIN:VEVENT
DTSTART;TZID=Europe/Helsinki:20250403T110000
DTEND;TZID=Europe/Helsinki:20250403T120000
DTSTAMP:20260425T052744
CREATED:20250110T120858Z
LAST-MODIFIED:20250811T001608Z
UID:10021791-1743678000-1743681600@kalenteri.niemikoti.fi
SUMMARY:Letkeä liikunta
DESCRIPTION:Yhteisön rentoa liikuntaa\, esimerkiksi tanssia\, jumppaa\, joogaa tai sauvakävelyä. Täydentyvä ryhmä\, ilmoittaudu mukaan! \nEi ryhmää 1.5.\, 15.5. ja 29.5.
URL:https://kalenteri.niemikoti.fi/en/tapahtuma/letkea-liikunta-malmilla/2025-04-03/
LOCATION:Malmin päivätoimintakeskus\, Vanha Helsingintie 9\, Helsinki\, 00700\, Finland
CATEGORIES:Malmin päivätoimintakeskus
ATTACH;FMTTYPE=image/jpeg:https://kalenteri.niemikoti.fi/wp-content/uploads/2025/01/Letkea_liikunta.jpg
END:VEVENT
END:VCALENDAR