BEGIN:VCALENDAR
VERSION:2.0
PRODID:-//Tapahtumakalenteri - ECPv6.15.18//NONSGML v1.0//EN
CALSCALE:GREGORIAN
METHOD:PUBLISH
X-WR-CALNAME:Tapahtumakalenteri
X-ORIGINAL-URL:https://kalenteri.niemikoti.fi/en/
X-WR-CALDESC:Events for Tapahtumakalenteri
REFRESH-INTERVAL;VALUE=DURATION:PT1H
X-Robots-Tag:noindex
X-PUBLISHED-TTL:PT1H
BEGIN:VTIMEZONE
TZID:Europe/Helsinki
BEGIN:DAYLIGHT
TZOFFSETFROM:+0200
TZOFFSETTO:+0300
TZNAME:EEST
DTSTART:20240331T010000
END:DAYLIGHT
BEGIN:STANDARD
TZOFFSETFROM:+0300
TZOFFSETTO:+0200
TZNAME:EET
DTSTART:20241027T010000
END:STANDARD
BEGIN:DAYLIGHT
TZOFFSETFROM:+0200
TZOFFSETTO:+0300
TZNAME:EEST
DTSTART:20250330T010000
END:DAYLIGHT
BEGIN:STANDARD
TZOFFSETFROM:+0300
TZOFFSETTO:+0200
TZNAME:EET
DTSTART:20251026T010000
END:STANDARD
BEGIN:DAYLIGHT
TZOFFSETFROM:+0200
TZOFFSETTO:+0300
TZNAME:EEST
DTSTART:20260329T010000
END:DAYLIGHT
BEGIN:STANDARD
TZOFFSETFROM:+0300
TZOFFSETTO:+0200
TZNAME:EET
DTSTART:20261025T010000
END:STANDARD
END:VTIMEZONE
BEGIN:VEVENT
DTSTART;TZID=Europe/Helsinki:20250519T113000
DTEND;TZID=Europe/Helsinki:20250519T120000
DTSTAMP:20260424T052221
CREATED:20240814T064838Z
LAST-MODIFIED:20250321T104505Z
UID:10013856-1747654200-1747656000@kalenteri.niemikoti.fi
SUMMARY:Kävelylenkki
DESCRIPTION:Yhteisön kävelylenkki toimintakeskuksen lähimaastossa.
URL:https://kalenteri.niemikoti.fi/en/tapahtuma/kavelylenkki/2025-05-19/
LOCATION:Toimintakeskus Villa Borgis\, Linnavuorentie 13\, Helsinki\, 00950\, Finland
CATEGORIES:Toimintakeskus Villa Borgis
END:VEVENT
BEGIN:VEVENT
DTSTART;TZID=Europe/Helsinki:20250522T110000
DTEND;TZID=Europe/Helsinki:20250522T120000
DTSTAMP:20260424T052221
CREATED:20250110T120858Z
LAST-MODIFIED:20250811T001608Z
UID:10021798-1747911600-1747915200@kalenteri.niemikoti.fi
SUMMARY:Letkeä liikunta
DESCRIPTION:Yhteisön rentoa liikuntaa\, esimerkiksi tanssia\, jumppaa\, joogaa tai sauvakävelyä. Täydentyvä ryhmä\, ilmoittaudu mukaan! \nEi ryhmää 1.5.\, 15.5. ja 29.5.
URL:https://kalenteri.niemikoti.fi/en/tapahtuma/letkea-liikunta-malmilla/2025-05-22/
LOCATION:Malmin päivätoimintakeskus\, Vanha Helsingintie 9\, Helsinki\, 00700\, Finland
CATEGORIES:Malmin päivätoimintakeskus
ATTACH;FMTTYPE=image/jpeg:https://kalenteri.niemikoti.fi/wp-content/uploads/2025/01/Letkea_liikunta.jpg
END:VEVENT
END:VCALENDAR