BEGIN:VCALENDAR
VERSION:2.0
PRODID:-//Tapahtumakalenteri - ECPv6.15.18//NONSGML v1.0//EN
CALSCALE:GREGORIAN
METHOD:PUBLISH
X-WR-CALNAME:Tapahtumakalenteri
X-ORIGINAL-URL:https://kalenteri.niemikoti.fi/en/
X-WR-CALDESC:Events for Tapahtumakalenteri
REFRESH-INTERVAL;VALUE=DURATION:PT1H
X-Robots-Tag:noindex
X-PUBLISHED-TTL:PT1H
BEGIN:VTIMEZONE
TZID:Europe/Helsinki
BEGIN:DAYLIGHT
TZOFFSETFROM:+0200
TZOFFSETTO:+0300
TZNAME:EEST
DTSTART:20250330T010000
END:DAYLIGHT
BEGIN:STANDARD
TZOFFSETFROM:+0300
TZOFFSETTO:+0200
TZNAME:EET
DTSTART:20251026T010000
END:STANDARD
BEGIN:DAYLIGHT
TZOFFSETFROM:+0200
TZOFFSETTO:+0300
TZNAME:EEST
DTSTART:20260329T010000
END:DAYLIGHT
BEGIN:STANDARD
TZOFFSETFROM:+0300
TZOFFSETTO:+0200
TZNAME:EET
DTSTART:20261025T010000
END:STANDARD
BEGIN:DAYLIGHT
TZOFFSETFROM:+0200
TZOFFSETTO:+0300
TZNAME:EEST
DTSTART:20270328T010000
END:DAYLIGHT
BEGIN:STANDARD
TZOFFSETFROM:+0300
TZOFFSETTO:+0200
TZNAME:EET
DTSTART:20271031T010000
END:STANDARD
END:VTIMEZONE
BEGIN:VEVENT
DTSTART;TZID=Europe/Helsinki:20260126T113000
DTEND;TZID=Europe/Helsinki:20260126T120000
DTSTAMP:20260421T204040
CREATED:20251217T074626Z
LAST-MODIFIED:20260331T081041Z
UID:10026036-1769427000-1769428800@kalenteri.niemikoti.fi
SUMMARY:Kävelyryhmä
DESCRIPTION:Pieni kävelyretki Villa Borgiksen lähiluontoon.
URL:https://kalenteri.niemikoti.fi/en/tapahtuma/kavelyryhma-4/2026-01-26/
LOCATION:Toimintakeskus Villa Borgis\, Linnavuorentie 13\, Helsinki\, 00950\, Finland
CATEGORIES:Toimintakeskus Villa Borgis
END:VEVENT
BEGIN:VEVENT
DTSTART;TZID=Europe/Helsinki:20260128T134500
DTEND;TZID=Europe/Helsinki:20260128T144500
DTSTAMP:20260421T204040
CREATED:20251217T134031Z
LAST-MODIFIED:20260209T084428Z
UID:10025996-1769607900-1769611500@kalenteri.niemikoti.fi
SUMMARY:Kuntosaliryhmä Elviksessä
DESCRIPTION:Tehdään ryhmässä lämmittely\, jonka jälkeen voi harjoitella kuntosalin laitteilla. Aiempaa kuntosalikokemusta ei tarvitse olla. Lähtö Villa Borgiksesta klo 13.00. Ilmoittaudu mukaan.
URL:https://kalenteri.niemikoti.fi/en/tapahtuma/kuntosaliryhma-elviksessa/2026-01-28/
LOCATION:Kulttuuripaja ELVIS\, Lautatarhankatu 4\, Helsinki\, 00580\, Finland
CATEGORIES:Toimintakeskus Villa Borgis
END:VEVENT
BEGIN:VEVENT
DTSTART;TZID=Europe/Helsinki:20260129T111500
DTEND;TZID=Europe/Helsinki:20260129T120000
DTSTAMP:20260421T204040
CREATED:20251217T134814Z
LAST-MODIFIED:20251217T134814Z
UID:10025999-1769685300-1769688000@kalenteri.niemikoti.fi
SUMMARY:Mukavat muuvit
DESCRIPTION:Luovaa liikuskelua musiikin tahdissa.
URL:https://kalenteri.niemikoti.fi/en/tapahtuma/mukavat-muuvit-2/2026-01-29/
LOCATION:Toimintakeskus Villa Borgis\, Linnavuorentie 13\, Helsinki\, 00950\, Finland
CATEGORIES:Toimintakeskus Villa Borgis
END:VEVENT
END:VCALENDAR