BEGIN:VCALENDAR
VERSION:2.0
PRODID:-//Tapahtumakalenteri - ECPv6.15.18//NONSGML v1.0//EN
CALSCALE:GREGORIAN
METHOD:PUBLISH
X-ORIGINAL-URL:https://kalenteri.niemikoti.fi/en/
X-WR-CALDESC:Events for Tapahtumakalenteri
REFRESH-INTERVAL;VALUE=DURATION:PT1H
X-Robots-Tag:noindex
X-PUBLISHED-TTL:PT1H
BEGIN:VTIMEZONE
TZID:Europe/Helsinki
BEGIN:DAYLIGHT
TZOFFSETFROM:+0200
TZOFFSETTO:+0300
TZNAME:EEST
DTSTART:20240331T010000
END:DAYLIGHT
BEGIN:STANDARD
TZOFFSETFROM:+0300
TZOFFSETTO:+0200
TZNAME:EET
DTSTART:20241027T010000
END:STANDARD
BEGIN:DAYLIGHT
TZOFFSETFROM:+0200
TZOFFSETTO:+0300
TZNAME:EEST
DTSTART:20250330T010000
END:DAYLIGHT
BEGIN:STANDARD
TZOFFSETFROM:+0300
TZOFFSETTO:+0200
TZNAME:EET
DTSTART:20251026T010000
END:STANDARD
BEGIN:DAYLIGHT
TZOFFSETFROM:+0200
TZOFFSETTO:+0300
TZNAME:EEST
DTSTART:20260329T010000
END:DAYLIGHT
BEGIN:STANDARD
TZOFFSETFROM:+0300
TZOFFSETTO:+0200
TZNAME:EET
DTSTART:20261025T010000
END:STANDARD
END:VTIMEZONE
BEGIN:VEVENT
DTSTART;TZID=Europe/Helsinki:20251006T080000
DTEND;TZID=Europe/Helsinki:20251006T170000
DTSTAMP:20260425T063619
CREATED:20251003T094751Z
LAST-MODIFIED:20251003T094751Z
UID:10024928-1759737600-1759770000@kalenteri.niemikoti.fi
SUMMARY:Niilon musakahvila 6.10 klo 17-18
DESCRIPTION:Jutellaan kevyesti musiikista ja musiikin tekemisestä\, tervetuloa mukaan! Jos sinulla ei ole Niiloa niin saat sen osoitteesta niilo.niemikoti.fi
URL:https://kalenteri.niemikoti.fi/en/tapahtuma/niilon-musakahvila-6-10-klo-17-18/
CATEGORIES:Niilo-sovellus
ATTACH;FMTTYPE=image/jpeg:https://kalenteri.niemikoti.fi/wp-content/uploads/2025/10/558117234_836678572031610_2134014004697948820_n.jpg
END:VEVENT
BEGIN:VEVENT
DTSTART;TZID=Europe/Helsinki:20251013T080000
DTEND;TZID=Europe/Helsinki:20251013T170000
DTSTAMP:20260425T063619
CREATED:20251010T124731Z
LAST-MODIFIED:20251010T124810Z
UID:10024929-1760342400-1760374800@kalenteri.niemikoti.fi
SUMMARY:Harrastuskahvila 13.10 klo 17-18
DESCRIPTION:Karaoke vai kutominen? Liikunta vai lautapelit? Mitä tahansa harrastatkin\, tule mukaan Niilon chatkahvilaan harrastuksista ja niiden vaikutuksista maanantaina 13.10. klo 17-18! Baristana häärää Sanniainen. Tervetuloa! Jos sinulla ei vielä ole Niiloa\, saat sen täältä niilo.niemikoti.fi
URL:https://kalenteri.niemikoti.fi/en/tapahtuma/harrastuskahvila-13-10-klo-17-18/
CATEGORIES:Niilo-sovellus
ATTACH;FMTTYPE=image/jpeg:https://kalenteri.niemikoti.fi/wp-content/uploads/2025/10/561306360_845418087824325_6841301623015503461_n-1.jpg
END:VEVENT
BEGIN:VEVENT
DTSTART;TZID=Europe/Helsinki:20251020T080000
DTEND;TZID=Europe/Helsinki:20251020T170000
DTSTAMP:20260425T063619
CREATED:20251017T095607Z
LAST-MODIFIED:20251017T095607Z
UID:10024930-1760947200-1760979600@kalenteri.niemikoti.fi
SUMMARY:Niilon syyskahvila 20.10 klo 17-18
DESCRIPTION:Mitä kuvioita syksy tuo tullessaan\, jotain uutta\, vaiko rutinoituneempaa menoa? Tule kanssamme keskustelemaan syksyisistä kuvioista Niilon chat-kahvilaan maanantaina 20.10 klo 17-18. Baristana silloin Sanniainen. Tervetuloa! Mikäli sinulla ei vielä ole Niiloa\, saat sen täältä niilo.niemikoti.fi
URL:https://kalenteri.niemikoti.fi/en/tapahtuma/niilon-syyskahvila-20-10-klo-17-18/
CATEGORIES:Niilo-sovellus
ATTACH;FMTTYPE=image/jpeg:https://kalenteri.niemikoti.fi/wp-content/uploads/2025/10/563440025_850617113971089_7400633591283295350_n.jpg
END:VEVENT
BEGIN:VEVENT
DTSTART;TZID=Europe/Helsinki:20251027T080000
DTEND;TZID=Europe/Helsinki:20251027T170000
DTSTAMP:20260425T063619
CREATED:20251027T142834Z
LAST-MODIFIED:20251027T142834Z
UID:10024931-1761552000-1761584400@kalenteri.niemikoti.fi
SUMMARY:Niilon chatkahvila 27.10 klo 17-18
DESCRIPTION:Tervetuloa ensi maanantaina 27.10 klo 17-18 chatkahvilaan kertomaan kuulumisia mukavaan seuraan. Vetäjänä toimii Heini. Jos sinulla ei ole vielä Niiloa\, voit ladata sen täältä https://niilo.niemikoti.fi
URL:https://kalenteri.niemikoti.fi/en/tapahtuma/niilon-chatkahvila-27-10-klo-17-18/
CATEGORIES:Niilo-sovellus
ATTACH;FMTTYPE=image/jpeg:https://kalenteri.niemikoti.fi/wp-content/uploads/2025/10/569396326_854888616877272_1219572410839646500_n.jpg
END:VEVENT
END:VCALENDAR