BEGIN:VCALENDAR
VERSION:2.0
PRODID:-//Tapahtumakalenteri - ECPv6.15.18//NONSGML v1.0//EN
CALSCALE:GREGORIAN
METHOD:PUBLISH
X-ORIGINAL-URL:https://kalenteri.niemikoti.fi/en/
X-WR-CALDESC:Events for Tapahtumakalenteri
REFRESH-INTERVAL;VALUE=DURATION:PT1H
X-Robots-Tag:noindex
X-PUBLISHED-TTL:PT1H
BEGIN:VTIMEZONE
TZID:Europe/Helsinki
BEGIN:DAYLIGHT
TZOFFSETFROM:+0200
TZOFFSETTO:+0300
TZNAME:EEST
DTSTART:20240331T010000
END:DAYLIGHT
BEGIN:STANDARD
TZOFFSETFROM:+0300
TZOFFSETTO:+0200
TZNAME:EET
DTSTART:20241027T010000
END:STANDARD
BEGIN:DAYLIGHT
TZOFFSETFROM:+0200
TZOFFSETTO:+0300
TZNAME:EEST
DTSTART:20250330T010000
END:DAYLIGHT
BEGIN:STANDARD
TZOFFSETFROM:+0300
TZOFFSETTO:+0200
TZNAME:EET
DTSTART:20251026T010000
END:STANDARD
BEGIN:DAYLIGHT
TZOFFSETFROM:+0200
TZOFFSETTO:+0300
TZNAME:EEST
DTSTART:20260329T010000
END:DAYLIGHT
BEGIN:STANDARD
TZOFFSETFROM:+0300
TZOFFSETTO:+0200
TZNAME:EET
DTSTART:20261025T010000
END:STANDARD
END:VTIMEZONE
BEGIN:VEVENT
DTSTART;TZID=Europe/Helsinki:20251117T080000
DTEND;TZID=Europe/Helsinki:20251117T170000
DTSTAMP:20260424T083800
CREATED:20251114T110307Z
LAST-MODIFIED:20251114T110307Z
UID:10025403-1763366400-1763398800@kalenteri.niemikoti.fi
SUMMARY:Syksyn satoa-kahvila 17.11. klo 17-18
DESCRIPTION:Syksy on hiljalleen kääntymässä talveksi. Mitä se on sinulle tuonut tullessaan? Syksyn tunnelmia jaetaan chat-kahvilassa maanantaina 17.11. klo 17-18. Baristana häärii Sanniainen. Tervetuloa! Jos sinulla ei vielä ole Niiloa\, saat sen täältä niilo.niemikoti.fi
URL:https://kalenteri.niemikoti.fi/en/tapahtuma/syksyn-satoa-kahvila-17-11-klo-17-18/
CATEGORIES:Niilo-sovellus
ATTACH;FMTTYPE=image/jpeg:https://kalenteri.niemikoti.fi/wp-content/uploads/2025/11/581185868_873037805062353_110504453494056999_n.jpg
END:VEVENT
END:VCALENDAR