BEGIN:VCALENDAR
VERSION:2.0
PRODID:-//Tapahtumakalenteri - ECPv6.15.18//NONSGML v1.0//EN
CALSCALE:GREGORIAN
METHOD:PUBLISH
X-WR-CALNAME:Tapahtumakalenteri
X-ORIGINAL-URL:https://kalenteri.niemikoti.fi/en/
X-WR-CALDESC:Events for Tapahtumakalenteri
REFRESH-INTERVAL;VALUE=DURATION:PT1H
X-Robots-Tag:noindex
X-PUBLISHED-TTL:PT1H
BEGIN:VTIMEZONE
TZID:Europe/Helsinki
BEGIN:DAYLIGHT
TZOFFSETFROM:+0200
TZOFFSETTO:+0300
TZNAME:EEST
DTSTART:20240331T010000
END:DAYLIGHT
BEGIN:STANDARD
TZOFFSETFROM:+0300
TZOFFSETTO:+0200
TZNAME:EET
DTSTART:20241027T010000
END:STANDARD
BEGIN:DAYLIGHT
TZOFFSETFROM:+0200
TZOFFSETTO:+0300
TZNAME:EEST
DTSTART:20250330T010000
END:DAYLIGHT
BEGIN:STANDARD
TZOFFSETFROM:+0300
TZOFFSETTO:+0200
TZNAME:EET
DTSTART:20251026T010000
END:STANDARD
BEGIN:DAYLIGHT
TZOFFSETFROM:+0200
TZOFFSETTO:+0300
TZNAME:EEST
DTSTART:20260329T010000
END:DAYLIGHT
BEGIN:STANDARD
TZOFFSETFROM:+0300
TZOFFSETTO:+0200
TZNAME:EET
DTSTART:20261025T010000
END:STANDARD
END:VTIMEZONE
BEGIN:VEVENT
DTSTART;VALUE=DATE:20251124
DTEND;VALUE=DATE:20251125
DTSTAMP:20260426T032206
CREATED:20251103T132509Z
LAST-MODIFIED:20251217T071041Z
UID:10025065-1763942400-1764028799@kalenteri.niemikoti.fi
SUMMARY:Malmin pakohuone
DESCRIPTION:Tule Malmin pakohuoneeseen ratkomaan arvoituksia ja auta matkallaan eksynyt Jemi kotiin! Kesto noin 45min\, max. 5 hengen ryhmät. \nLisätiedot ja ajanvaraukset ohjaajilta. \n 
URL:https://kalenteri.niemikoti.fi/en/tapahtuma/malmin-pakohuone/2025-11-24/
LOCATION:Malmin päivätoimintakeskus\, Vanha Helsingintie 9\, Helsinki\, 00700\, Finland
CATEGORIES:Malmin päivätoimintakeskus
ATTACH;FMTTYPE=image/jpeg:https://kalenteri.niemikoti.fi/wp-content/uploads/2025/11/Pakohuoneen-mainos.jpg
END:VEVENT
BEGIN:VEVENT
DTSTART;TZID=Europe/Helsinki:20251124T110000
DTEND;TZID=Europe/Helsinki:20251124T120000
DTSTAMP:20260426T032206
CREATED:20251103T125051Z
LAST-MODIFIED:20251103T125051Z
UID:10025032-1763982000-1763985600@kalenteri.niemikoti.fi
SUMMARY:Villi kortti
DESCRIPTION:Ohjelmaa yhteisön toiveiden mukaan. Liikuntaa\, rentoutusta\, luovaa toimintaa tai musiikkiohjelmaa. \nTäydentyvä ryhmä\, ilmoittaudu.
URL:https://kalenteri.niemikoti.fi/en/tapahtuma/villi-kortti-2/2025-11-24/
LOCATION:Malmin päivätoimintakeskus\, Vanha Helsingintie 9\, Helsinki\, 00700\, Finland
CATEGORIES:Malmin päivätoimintakeskus
END:VEVENT
BEGIN:VEVENT
DTSTART;TZID=Europe/Helsinki:20251124T130000
DTEND;TZID=Europe/Helsinki:20251124T150000
DTSTAMP:20260426T032206
CREATED:20250810T185325Z
LAST-MODIFIED:20251201T115834Z
UID:10024092-1763989200-1763996400@kalenteri.niemikoti.fi
SUMMARY:Peliryhmä
DESCRIPTION:Helppoja seurapelejä mukavassa seurassa. Hyllystä löytyy mm. Dixit\, Dobble\, Carcassonne\, Bananagrams ja Saboteur. Voit myös tuoda pelattavaksi omia pelejä. \nTäydentyvä ryhmä\, ilmoittaudu mukaan.
URL:https://kalenteri.niemikoti.fi/en/tapahtuma/peliryhma-5/2025-11-24/
LOCATION:Malmin päivätoimintakeskus\, Vanha Helsingintie 9\, Helsinki\, 00700\, Finland
CATEGORIES:Malmin päivätoimintakeskus
ATTACH;FMTTYPE=image/jpeg:https://kalenteri.niemikoti.fi/wp-content/uploads/2025/08/Peliryhma.jpg
END:VEVENT
BEGIN:VEVENT
DTSTART;VALUE=DATE:20251125
DTEND;VALUE=DATE:20251126
DTSTAMP:20260426T032206
CREATED:20251103T132509Z
LAST-MODIFIED:20251217T071041Z
UID:10025066-1764028800-1764115199@kalenteri.niemikoti.fi
SUMMARY:Malmin pakohuone
DESCRIPTION:Tule Malmin pakohuoneeseen ratkomaan arvoituksia ja auta matkallaan eksynyt Jemi kotiin! Kesto noin 45min\, max. 5 hengen ryhmät. \nLisätiedot ja ajanvaraukset ohjaajilta. \n 
URL:https://kalenteri.niemikoti.fi/en/tapahtuma/malmin-pakohuone/2025-11-25/
LOCATION:Malmin päivätoimintakeskus\, Vanha Helsingintie 9\, Helsinki\, 00700\, Finland
CATEGORIES:Malmin päivätoimintakeskus
ATTACH;FMTTYPE=image/jpeg:https://kalenteri.niemikoti.fi/wp-content/uploads/2025/11/Pakohuoneen-mainos.jpg
END:VEVENT
BEGIN:VEVENT
DTSTART;VALUE=DATE:20251126
DTEND;VALUE=DATE:20251127
DTSTAMP:20260426T032206
CREATED:20251103T132509Z
LAST-MODIFIED:20251217T071041Z
UID:10025067-1764115200-1764201599@kalenteri.niemikoti.fi
SUMMARY:Malmin pakohuone
DESCRIPTION:Tule Malmin pakohuoneeseen ratkomaan arvoituksia ja auta matkallaan eksynyt Jemi kotiin! Kesto noin 45min\, max. 5 hengen ryhmät. \nLisätiedot ja ajanvaraukset ohjaajilta. \n 
URL:https://kalenteri.niemikoti.fi/en/tapahtuma/malmin-pakohuone/2025-11-26/
LOCATION:Malmin päivätoimintakeskus\, Vanha Helsingintie 9\, Helsinki\, 00700\, Finland
CATEGORIES:Malmin päivätoimintakeskus
ATTACH;FMTTYPE=image/jpeg:https://kalenteri.niemikoti.fi/wp-content/uploads/2025/11/Pakohuoneen-mainos.jpg
END:VEVENT
BEGIN:VEVENT
DTSTART;VALUE=DATE:20251127
DTEND;VALUE=DATE:20251128
DTSTAMP:20260426T032206
CREATED:20251103T132509Z
LAST-MODIFIED:20251217T071041Z
UID:10025068-1764201600-1764287999@kalenteri.niemikoti.fi
SUMMARY:Malmin pakohuone
DESCRIPTION:Tule Malmin pakohuoneeseen ratkomaan arvoituksia ja auta matkallaan eksynyt Jemi kotiin! Kesto noin 45min\, max. 5 hengen ryhmät. \nLisätiedot ja ajanvaraukset ohjaajilta. \n 
URL:https://kalenteri.niemikoti.fi/en/tapahtuma/malmin-pakohuone/2025-11-27/
LOCATION:Malmin päivätoimintakeskus\, Vanha Helsingintie 9\, Helsinki\, 00700\, Finland
CATEGORIES:Malmin päivätoimintakeskus
ATTACH;FMTTYPE=image/jpeg:https://kalenteri.niemikoti.fi/wp-content/uploads/2025/11/Pakohuoneen-mainos.jpg
END:VEVENT
BEGIN:VEVENT
DTSTART;VALUE=DATE:20251128
DTEND;VALUE=DATE:20251129
DTSTAMP:20260426T032206
CREATED:20251103T132509Z
LAST-MODIFIED:20251217T071041Z
UID:10025069-1764288000-1764374399@kalenteri.niemikoti.fi
SUMMARY:Malmin pakohuone
DESCRIPTION:Tule Malmin pakohuoneeseen ratkomaan arvoituksia ja auta matkallaan eksynyt Jemi kotiin! Kesto noin 45min\, max. 5 hengen ryhmät. \nLisätiedot ja ajanvaraukset ohjaajilta. \n 
URL:https://kalenteri.niemikoti.fi/en/tapahtuma/malmin-pakohuone/2025-11-28/
LOCATION:Malmin päivätoimintakeskus\, Vanha Helsingintie 9\, Helsinki\, 00700\, Finland
CATEGORIES:Malmin päivätoimintakeskus
ATTACH;FMTTYPE=image/jpeg:https://kalenteri.niemikoti.fi/wp-content/uploads/2025/11/Pakohuoneen-mainos.jpg
END:VEVENT
END:VCALENDAR