BEGIN:VCALENDAR
VERSION:2.0
PRODID:-//Tapahtumakalenteri - ECPv6.15.18//NONSGML v1.0//EN
CALSCALE:GREGORIAN
METHOD:PUBLISH
X-ORIGINAL-URL:https://kalenteri.niemikoti.fi/en/
X-WR-CALDESC:Events for Tapahtumakalenteri
REFRESH-INTERVAL;VALUE=DURATION:PT1H
X-Robots-Tag:noindex
X-PUBLISHED-TTL:PT1H
BEGIN:VTIMEZONE
TZID:Europe/Helsinki
BEGIN:DAYLIGHT
TZOFFSETFROM:+0200
TZOFFSETTO:+0300
TZNAME:EEST
DTSTART:20250330T010000
END:DAYLIGHT
BEGIN:STANDARD
TZOFFSETFROM:+0300
TZOFFSETTO:+0200
TZNAME:EET
DTSTART:20251026T010000
END:STANDARD
BEGIN:DAYLIGHT
TZOFFSETFROM:+0200
TZOFFSETTO:+0300
TZNAME:EEST
DTSTART:20260329T010000
END:DAYLIGHT
BEGIN:STANDARD
TZOFFSETFROM:+0300
TZOFFSETTO:+0200
TZNAME:EET
DTSTART:20261025T010000
END:STANDARD
BEGIN:DAYLIGHT
TZOFFSETFROM:+0200
TZOFFSETTO:+0300
TZNAME:EEST
DTSTART:20270328T010000
END:DAYLIGHT
BEGIN:STANDARD
TZOFFSETFROM:+0300
TZOFFSETTO:+0200
TZNAME:EET
DTSTART:20271031T010000
END:STANDARD
BEGIN:DAYLIGHT
TZOFFSETFROM:+0200
TZOFFSETTO:+0300
TZNAME:EEST
DTSTART:20280326T010000
END:DAYLIGHT
BEGIN:STANDARD
TZOFFSETFROM:+0300
TZOFFSETTO:+0200
TZNAME:EET
DTSTART:20281029T010000
END:STANDARD
END:VTIMEZONE
BEGIN:VEVENT
DTSTART;TZID=Europe/Helsinki:20261230T130000
DTEND;TZID=Europe/Helsinki:20261230T143000
DTSTAMP:20260423T215159
CREATED:20260112T131042Z
LAST-MODIFIED:20260303T072919Z
UID:10029948-1798635600-1798641000@kalenteri.niemikoti.fi
SUMMARY:Väriä elämään Malmilla
DESCRIPTION:Visuaalista taidetta vaihtuvin teemoin ja tekniikoin. Enintään 8 osallistujaa kerralla. Ilmoittaudu mukaan!
URL:https://kalenteri.niemikoti.fi/en/tapahtuma/varia-elamaan-malmilla/2026-12-30/
LOCATION:Malmin päivätoimintakeskus\, Vanha Helsingintie 9\, Helsinki\, 00700\, Finland
CATEGORIES:Malmin päivätoimintakeskus
END:VEVENT
BEGIN:VEVENT
DTSTART;TZID=Europe/Helsinki:20270101T120000
DTEND;TZID=Europe/Helsinki:20270101T130000
DTSTAMP:20260423T215159
CREATED:20260112T134429Z
LAST-MODIFIED:20260303T073209Z
UID:10036396-1798804800-1798808400@kalenteri.niemikoti.fi
SUMMARY:Soittoryhmä Malmilla
DESCRIPTION:Tutustaan yhdessä pianon\, ukulelen ja kitaran soiton alkeisiin. Ryhmään mahtuu enintään 6 osallistujaa kerralla. Täydentyvä ryhmä\, ilmoittaudu mukaan!
URL:https://kalenteri.niemikoti.fi/en/tapahtuma/soittoryhma-malmilla/2027-01-01/
LOCATION:Malmin päivätoimintakeskus\, Vanha Helsingintie 9\, Helsinki\, 00700\, Finland
CATEGORIES:Malmin päivätoimintakeskus
END:VEVENT
BEGIN:VEVENT
DTSTART;TZID=Europe/Helsinki:20270105T130000
DTEND;TZID=Europe/Helsinki:20270105T140000
DTSTAMP:20260423T215159
CREATED:20260421T092211Z
LAST-MODIFIED:20260421T092445Z
UID:10037443-1799154000-1799157600@kalenteri.niemikoti.fi
SUMMARY:Yhteisön ohjelmaa
DESCRIPTION:Yhteisön ohjelmaa; musiikkia\, lautapelejä\, ulkoilua yms.
URL:https://kalenteri.niemikoti.fi/en/tapahtuma/yhteislaulut-2/2027-01-05/
LOCATION:Toimintakeskus Villa Borgis\, Linnavuorentie 13\, Helsinki\, 00950\, Finland
CATEGORIES:Toimintakeskus Villa Borgis
END:VEVENT
BEGIN:VEVENT
DTSTART;TZID=Europe/Helsinki:20270106T130000
DTEND;TZID=Europe/Helsinki:20270106T143000
DTSTAMP:20260423T215159
CREATED:20260112T131042Z
LAST-MODIFIED:20260303T072919Z
UID:10029949-1799240400-1799245800@kalenteri.niemikoti.fi
SUMMARY:Väriä elämään Malmilla
DESCRIPTION:Visuaalista taidetta vaihtuvin teemoin ja tekniikoin. Enintään 8 osallistujaa kerralla. Ilmoittaudu mukaan!
URL:https://kalenteri.niemikoti.fi/en/tapahtuma/varia-elamaan-malmilla/2027-01-06/
LOCATION:Malmin päivätoimintakeskus\, Vanha Helsingintie 9\, Helsinki\, 00700\, Finland
CATEGORIES:Malmin päivätoimintakeskus
END:VEVENT
BEGIN:VEVENT
DTSTART;TZID=Europe/Helsinki:20270108T120000
DTEND;TZID=Europe/Helsinki:20270108T130000
DTSTAMP:20260423T215159
CREATED:20260112T134429Z
LAST-MODIFIED:20260303T073209Z
UID:10036397-1799409600-1799413200@kalenteri.niemikoti.fi
SUMMARY:Soittoryhmä Malmilla
DESCRIPTION:Tutustaan yhdessä pianon\, ukulelen ja kitaran soiton alkeisiin. Ryhmään mahtuu enintään 6 osallistujaa kerralla. Täydentyvä ryhmä\, ilmoittaudu mukaan!
URL:https://kalenteri.niemikoti.fi/en/tapahtuma/soittoryhma-malmilla/2027-01-08/
LOCATION:Malmin päivätoimintakeskus\, Vanha Helsingintie 9\, Helsinki\, 00700\, Finland
CATEGORIES:Malmin päivätoimintakeskus
END:VEVENT
BEGIN:VEVENT
DTSTART;TZID=Europe/Helsinki:20270112T130000
DTEND;TZID=Europe/Helsinki:20270112T140000
DTSTAMP:20260423T215159
CREATED:20260421T092211Z
LAST-MODIFIED:20260421T092445Z
UID:10037444-1799758800-1799762400@kalenteri.niemikoti.fi
SUMMARY:Yhteisön ohjelmaa
DESCRIPTION:Yhteisön ohjelmaa; musiikkia\, lautapelejä\, ulkoilua yms.
URL:https://kalenteri.niemikoti.fi/en/tapahtuma/yhteislaulut-2/2027-01-12/
LOCATION:Toimintakeskus Villa Borgis\, Linnavuorentie 13\, Helsinki\, 00950\, Finland
CATEGORIES:Toimintakeskus Villa Borgis
END:VEVENT
BEGIN:VEVENT
DTSTART;TZID=Europe/Helsinki:20270113T130000
DTEND;TZID=Europe/Helsinki:20270113T143000
DTSTAMP:20260423T215159
CREATED:20260112T131042Z
LAST-MODIFIED:20260303T072919Z
UID:10029950-1799845200-1799850600@kalenteri.niemikoti.fi
SUMMARY:Väriä elämään Malmilla
DESCRIPTION:Visuaalista taidetta vaihtuvin teemoin ja tekniikoin. Enintään 8 osallistujaa kerralla. Ilmoittaudu mukaan!
URL:https://kalenteri.niemikoti.fi/en/tapahtuma/varia-elamaan-malmilla/2027-01-13/
LOCATION:Malmin päivätoimintakeskus\, Vanha Helsingintie 9\, Helsinki\, 00700\, Finland
CATEGORIES:Malmin päivätoimintakeskus
END:VEVENT
BEGIN:VEVENT
DTSTART;TZID=Europe/Helsinki:20270115T120000
DTEND;TZID=Europe/Helsinki:20270115T130000
DTSTAMP:20260423T215159
CREATED:20260112T134429Z
LAST-MODIFIED:20260303T073209Z
UID:10036398-1800014400-1800018000@kalenteri.niemikoti.fi
SUMMARY:Soittoryhmä Malmilla
DESCRIPTION:Tutustaan yhdessä pianon\, ukulelen ja kitaran soiton alkeisiin. Ryhmään mahtuu enintään 6 osallistujaa kerralla. Täydentyvä ryhmä\, ilmoittaudu mukaan!
URL:https://kalenteri.niemikoti.fi/en/tapahtuma/soittoryhma-malmilla/2027-01-15/
LOCATION:Malmin päivätoimintakeskus\, Vanha Helsingintie 9\, Helsinki\, 00700\, Finland
CATEGORIES:Malmin päivätoimintakeskus
END:VEVENT
BEGIN:VEVENT
DTSTART;TZID=Europe/Helsinki:20270119T130000
DTEND;TZID=Europe/Helsinki:20270119T140000
DTSTAMP:20260423T215159
CREATED:20260421T092211Z
LAST-MODIFIED:20260421T092445Z
UID:10037445-1800363600-1800367200@kalenteri.niemikoti.fi
SUMMARY:Yhteisön ohjelmaa
DESCRIPTION:Yhteisön ohjelmaa; musiikkia\, lautapelejä\, ulkoilua yms.
URL:https://kalenteri.niemikoti.fi/en/tapahtuma/yhteislaulut-2/2027-01-19/
LOCATION:Toimintakeskus Villa Borgis\, Linnavuorentie 13\, Helsinki\, 00950\, Finland
CATEGORIES:Toimintakeskus Villa Borgis
END:VEVENT
BEGIN:VEVENT
DTSTART;TZID=Europe/Helsinki:20270120T130000
DTEND;TZID=Europe/Helsinki:20270120T143000
DTSTAMP:20260423T215159
CREATED:20260112T131042Z
LAST-MODIFIED:20260303T072919Z
UID:10029951-1800450000-1800455400@kalenteri.niemikoti.fi
SUMMARY:Väriä elämään Malmilla
DESCRIPTION:Visuaalista taidetta vaihtuvin teemoin ja tekniikoin. Enintään 8 osallistujaa kerralla. Ilmoittaudu mukaan!
URL:https://kalenteri.niemikoti.fi/en/tapahtuma/varia-elamaan-malmilla/2027-01-20/
LOCATION:Malmin päivätoimintakeskus\, Vanha Helsingintie 9\, Helsinki\, 00700\, Finland
CATEGORIES:Malmin päivätoimintakeskus
END:VEVENT
BEGIN:VEVENT
DTSTART;TZID=Europe/Helsinki:20270122T120000
DTEND;TZID=Europe/Helsinki:20270122T130000
DTSTAMP:20260423T215159
CREATED:20260112T134429Z
LAST-MODIFIED:20260303T073209Z
UID:10036399-1800619200-1800622800@kalenteri.niemikoti.fi
SUMMARY:Soittoryhmä Malmilla
DESCRIPTION:Tutustaan yhdessä pianon\, ukulelen ja kitaran soiton alkeisiin. Ryhmään mahtuu enintään 6 osallistujaa kerralla. Täydentyvä ryhmä\, ilmoittaudu mukaan!
URL:https://kalenteri.niemikoti.fi/en/tapahtuma/soittoryhma-malmilla/2027-01-22/
LOCATION:Malmin päivätoimintakeskus\, Vanha Helsingintie 9\, Helsinki\, 00700\, Finland
CATEGORIES:Malmin päivätoimintakeskus
END:VEVENT
BEGIN:VEVENT
DTSTART;TZID=Europe/Helsinki:20270126T130000
DTEND;TZID=Europe/Helsinki:20270126T140000
DTSTAMP:20260423T215159
CREATED:20260421T092211Z
LAST-MODIFIED:20260421T092445Z
UID:10037446-1800968400-1800972000@kalenteri.niemikoti.fi
SUMMARY:Yhteisön ohjelmaa
DESCRIPTION:Yhteisön ohjelmaa; musiikkia\, lautapelejä\, ulkoilua yms.
URL:https://kalenteri.niemikoti.fi/en/tapahtuma/yhteislaulut-2/2027-01-26/
LOCATION:Toimintakeskus Villa Borgis\, Linnavuorentie 13\, Helsinki\, 00950\, Finland
CATEGORIES:Toimintakeskus Villa Borgis
END:VEVENT
BEGIN:VEVENT
DTSTART;TZID=Europe/Helsinki:20270127T130000
DTEND;TZID=Europe/Helsinki:20270127T143000
DTSTAMP:20260423T215159
CREATED:20260112T131042Z
LAST-MODIFIED:20260303T072919Z
UID:10027624-1801054800-1801060200@kalenteri.niemikoti.fi
SUMMARY:Väriä elämään Malmilla
DESCRIPTION:Visuaalista taidetta vaihtuvin teemoin ja tekniikoin. Enintään 8 osallistujaa kerralla. Ilmoittaudu mukaan!
URL:https://kalenteri.niemikoti.fi/en/tapahtuma/varia-elamaan-malmilla/2027-01-27/
LOCATION:Malmin päivätoimintakeskus\, Vanha Helsingintie 9\, Helsinki\, 00700\, Finland
CATEGORIES:Malmin päivätoimintakeskus
END:VEVENT
BEGIN:VEVENT
DTSTART;TZID=Europe/Helsinki:20270129T120000
DTEND;TZID=Europe/Helsinki:20270129T130000
DTSTAMP:20260423T215159
CREATED:20260112T134429Z
LAST-MODIFIED:20260303T073209Z
UID:10036400-1801224000-1801227600@kalenteri.niemikoti.fi
SUMMARY:Soittoryhmä Malmilla
DESCRIPTION:Tutustaan yhdessä pianon\, ukulelen ja kitaran soiton alkeisiin. Ryhmään mahtuu enintään 6 osallistujaa kerralla. Täydentyvä ryhmä\, ilmoittaudu mukaan!
URL:https://kalenteri.niemikoti.fi/en/tapahtuma/soittoryhma-malmilla/2027-01-29/
LOCATION:Malmin päivätoimintakeskus\, Vanha Helsingintie 9\, Helsinki\, 00700\, Finland
CATEGORIES:Malmin päivätoimintakeskus
END:VEVENT
BEGIN:VEVENT
DTSTART;TZID=Europe/Helsinki:20270202T130000
DTEND;TZID=Europe/Helsinki:20270202T140000
DTSTAMP:20260423T215159
CREATED:20260421T092211Z
LAST-MODIFIED:20260421T092445Z
UID:10037447-1801573200-1801576800@kalenteri.niemikoti.fi
SUMMARY:Yhteisön ohjelmaa
DESCRIPTION:Yhteisön ohjelmaa; musiikkia\, lautapelejä\, ulkoilua yms.
URL:https://kalenteri.niemikoti.fi/en/tapahtuma/yhteislaulut-2/2027-02-02/
LOCATION:Toimintakeskus Villa Borgis\, Linnavuorentie 13\, Helsinki\, 00950\, Finland
CATEGORIES:Toimintakeskus Villa Borgis
END:VEVENT
BEGIN:VEVENT
DTSTART;TZID=Europe/Helsinki:20270203T130000
DTEND;TZID=Europe/Helsinki:20270203T143000
DTSTAMP:20260423T215159
CREATED:20260112T131042Z
LAST-MODIFIED:20260303T072919Z
UID:10029952-1801659600-1801665000@kalenteri.niemikoti.fi
SUMMARY:Väriä elämään Malmilla
DESCRIPTION:Visuaalista taidetta vaihtuvin teemoin ja tekniikoin. Enintään 8 osallistujaa kerralla. Ilmoittaudu mukaan!
URL:https://kalenteri.niemikoti.fi/en/tapahtuma/varia-elamaan-malmilla/2027-02-03/
LOCATION:Malmin päivätoimintakeskus\, Vanha Helsingintie 9\, Helsinki\, 00700\, Finland
CATEGORIES:Malmin päivätoimintakeskus
END:VEVENT
BEGIN:VEVENT
DTSTART;TZID=Europe/Helsinki:20270205T120000
DTEND;TZID=Europe/Helsinki:20270205T130000
DTSTAMP:20260423T215159
CREATED:20260112T134429Z
LAST-MODIFIED:20260303T073209Z
UID:10036401-1801828800-1801832400@kalenteri.niemikoti.fi
SUMMARY:Soittoryhmä Malmilla
DESCRIPTION:Tutustaan yhdessä pianon\, ukulelen ja kitaran soiton alkeisiin. Ryhmään mahtuu enintään 6 osallistujaa kerralla. Täydentyvä ryhmä\, ilmoittaudu mukaan!
URL:https://kalenteri.niemikoti.fi/en/tapahtuma/soittoryhma-malmilla/2027-02-05/
LOCATION:Malmin päivätoimintakeskus\, Vanha Helsingintie 9\, Helsinki\, 00700\, Finland
CATEGORIES:Malmin päivätoimintakeskus
END:VEVENT
BEGIN:VEVENT
DTSTART;TZID=Europe/Helsinki:20270209T130000
DTEND;TZID=Europe/Helsinki:20270209T140000
DTSTAMP:20260423T215159
CREATED:20260421T092211Z
LAST-MODIFIED:20260421T092445Z
UID:10037448-1802178000-1802181600@kalenteri.niemikoti.fi
SUMMARY:Yhteisön ohjelmaa
DESCRIPTION:Yhteisön ohjelmaa; musiikkia\, lautapelejä\, ulkoilua yms.
URL:https://kalenteri.niemikoti.fi/en/tapahtuma/yhteislaulut-2/2027-02-09/
LOCATION:Toimintakeskus Villa Borgis\, Linnavuorentie 13\, Helsinki\, 00950\, Finland
CATEGORIES:Toimintakeskus Villa Borgis
END:VEVENT
BEGIN:VEVENT
DTSTART;TZID=Europe/Helsinki:20270210T130000
DTEND;TZID=Europe/Helsinki:20270210T143000
DTSTAMP:20260423T215159
CREATED:20260112T131042Z
LAST-MODIFIED:20260303T072919Z
UID:10029953-1802264400-1802269800@kalenteri.niemikoti.fi
SUMMARY:Väriä elämään Malmilla
DESCRIPTION:Visuaalista taidetta vaihtuvin teemoin ja tekniikoin. Enintään 8 osallistujaa kerralla. Ilmoittaudu mukaan!
URL:https://kalenteri.niemikoti.fi/en/tapahtuma/varia-elamaan-malmilla/2027-02-10/
LOCATION:Malmin päivätoimintakeskus\, Vanha Helsingintie 9\, Helsinki\, 00700\, Finland
CATEGORIES:Malmin päivätoimintakeskus
END:VEVENT
BEGIN:VEVENT
DTSTART;TZID=Europe/Helsinki:20270212T120000
DTEND;TZID=Europe/Helsinki:20270212T130000
DTSTAMP:20260423T215159
CREATED:20260112T134429Z
LAST-MODIFIED:20260303T073209Z
UID:10036402-1802433600-1802437200@kalenteri.niemikoti.fi
SUMMARY:Soittoryhmä Malmilla
DESCRIPTION:Tutustaan yhdessä pianon\, ukulelen ja kitaran soiton alkeisiin. Ryhmään mahtuu enintään 6 osallistujaa kerralla. Täydentyvä ryhmä\, ilmoittaudu mukaan!
URL:https://kalenteri.niemikoti.fi/en/tapahtuma/soittoryhma-malmilla/2027-02-12/
LOCATION:Malmin päivätoimintakeskus\, Vanha Helsingintie 9\, Helsinki\, 00700\, Finland
CATEGORIES:Malmin päivätoimintakeskus
END:VEVENT
BEGIN:VEVENT
DTSTART;TZID=Europe/Helsinki:20270216T130000
DTEND;TZID=Europe/Helsinki:20270216T140000
DTSTAMP:20260423T215159
CREATED:20260421T092211Z
LAST-MODIFIED:20260421T092445Z
UID:10037449-1802782800-1802786400@kalenteri.niemikoti.fi
SUMMARY:Yhteisön ohjelmaa
DESCRIPTION:Yhteisön ohjelmaa; musiikkia\, lautapelejä\, ulkoilua yms.
URL:https://kalenteri.niemikoti.fi/en/tapahtuma/yhteislaulut-2/2027-02-16/
LOCATION:Toimintakeskus Villa Borgis\, Linnavuorentie 13\, Helsinki\, 00950\, Finland
CATEGORIES:Toimintakeskus Villa Borgis
END:VEVENT
BEGIN:VEVENT
DTSTART;TZID=Europe/Helsinki:20270217T130000
DTEND;TZID=Europe/Helsinki:20270217T143000
DTSTAMP:20260423T215159
CREATED:20260112T131042Z
LAST-MODIFIED:20260303T072919Z
UID:10029954-1802869200-1802874600@kalenteri.niemikoti.fi
SUMMARY:Väriä elämään Malmilla
DESCRIPTION:Visuaalista taidetta vaihtuvin teemoin ja tekniikoin. Enintään 8 osallistujaa kerralla. Ilmoittaudu mukaan!
URL:https://kalenteri.niemikoti.fi/en/tapahtuma/varia-elamaan-malmilla/2027-02-17/
LOCATION:Malmin päivätoimintakeskus\, Vanha Helsingintie 9\, Helsinki\, 00700\, Finland
CATEGORIES:Malmin päivätoimintakeskus
END:VEVENT
BEGIN:VEVENT
DTSTART;TZID=Europe/Helsinki:20270219T120000
DTEND;TZID=Europe/Helsinki:20270219T130000
DTSTAMP:20260423T215159
CREATED:20260112T134429Z
LAST-MODIFIED:20260303T073209Z
UID:10036403-1803038400-1803042000@kalenteri.niemikoti.fi
SUMMARY:Soittoryhmä Malmilla
DESCRIPTION:Tutustaan yhdessä pianon\, ukulelen ja kitaran soiton alkeisiin. Ryhmään mahtuu enintään 6 osallistujaa kerralla. Täydentyvä ryhmä\, ilmoittaudu mukaan!
URL:https://kalenteri.niemikoti.fi/en/tapahtuma/soittoryhma-malmilla/2027-02-19/
LOCATION:Malmin päivätoimintakeskus\, Vanha Helsingintie 9\, Helsinki\, 00700\, Finland
CATEGORIES:Malmin päivätoimintakeskus
END:VEVENT
BEGIN:VEVENT
DTSTART;TZID=Europe/Helsinki:20270223T130000
DTEND;TZID=Europe/Helsinki:20270223T140000
DTSTAMP:20260423T215159
CREATED:20260421T092211Z
LAST-MODIFIED:20260421T092445Z
UID:10037450-1803387600-1803391200@kalenteri.niemikoti.fi
SUMMARY:Yhteisön ohjelmaa
DESCRIPTION:Yhteisön ohjelmaa; musiikkia\, lautapelejä\, ulkoilua yms.
URL:https://kalenteri.niemikoti.fi/en/tapahtuma/yhteislaulut-2/2027-02-23/
LOCATION:Toimintakeskus Villa Borgis\, Linnavuorentie 13\, Helsinki\, 00950\, Finland
CATEGORIES:Toimintakeskus Villa Borgis
END:VEVENT
BEGIN:VEVENT
DTSTART;TZID=Europe/Helsinki:20270224T130000
DTEND;TZID=Europe/Helsinki:20270224T143000
DTSTAMP:20260423T215159
CREATED:20260112T131042Z
LAST-MODIFIED:20260303T072919Z
UID:10029955-1803474000-1803479400@kalenteri.niemikoti.fi
SUMMARY:Väriä elämään Malmilla
DESCRIPTION:Visuaalista taidetta vaihtuvin teemoin ja tekniikoin. Enintään 8 osallistujaa kerralla. Ilmoittaudu mukaan!
URL:https://kalenteri.niemikoti.fi/en/tapahtuma/varia-elamaan-malmilla/2027-02-24/
LOCATION:Malmin päivätoimintakeskus\, Vanha Helsingintie 9\, Helsinki\, 00700\, Finland
CATEGORIES:Malmin päivätoimintakeskus
END:VEVENT
BEGIN:VEVENT
DTSTART;TZID=Europe/Helsinki:20270226T120000
DTEND;TZID=Europe/Helsinki:20270226T130000
DTSTAMP:20260423T215159
CREATED:20260112T134429Z
LAST-MODIFIED:20260303T073209Z
UID:10036404-1803643200-1803646800@kalenteri.niemikoti.fi
SUMMARY:Soittoryhmä Malmilla
DESCRIPTION:Tutustaan yhdessä pianon\, ukulelen ja kitaran soiton alkeisiin. Ryhmään mahtuu enintään 6 osallistujaa kerralla. Täydentyvä ryhmä\, ilmoittaudu mukaan!
URL:https://kalenteri.niemikoti.fi/en/tapahtuma/soittoryhma-malmilla/2027-02-26/
LOCATION:Malmin päivätoimintakeskus\, Vanha Helsingintie 9\, Helsinki\, 00700\, Finland
CATEGORIES:Malmin päivätoimintakeskus
END:VEVENT
BEGIN:VEVENT
DTSTART;TZID=Europe/Helsinki:20270302T130000
DTEND;TZID=Europe/Helsinki:20270302T140000
DTSTAMP:20260423T215159
CREATED:20260421T092211Z
LAST-MODIFIED:20260421T092445Z
UID:10037451-1803992400-1803996000@kalenteri.niemikoti.fi
SUMMARY:Yhteisön ohjelmaa
DESCRIPTION:Yhteisön ohjelmaa; musiikkia\, lautapelejä\, ulkoilua yms.
URL:https://kalenteri.niemikoti.fi/en/tapahtuma/yhteislaulut-2/2027-03-02/
LOCATION:Toimintakeskus Villa Borgis\, Linnavuorentie 13\, Helsinki\, 00950\, Finland
CATEGORIES:Toimintakeskus Villa Borgis
END:VEVENT
BEGIN:VEVENT
DTSTART;TZID=Europe/Helsinki:20270303T130000
DTEND;TZID=Europe/Helsinki:20270303T143000
DTSTAMP:20260423T215159
CREATED:20260112T131042Z
LAST-MODIFIED:20260303T072919Z
UID:10029956-1804078800-1804084200@kalenteri.niemikoti.fi
SUMMARY:Väriä elämään Malmilla
DESCRIPTION:Visuaalista taidetta vaihtuvin teemoin ja tekniikoin. Enintään 8 osallistujaa kerralla. Ilmoittaudu mukaan!
URL:https://kalenteri.niemikoti.fi/en/tapahtuma/varia-elamaan-malmilla/2027-03-03/
LOCATION:Malmin päivätoimintakeskus\, Vanha Helsingintie 9\, Helsinki\, 00700\, Finland
CATEGORIES:Malmin päivätoimintakeskus
END:VEVENT
BEGIN:VEVENT
DTSTART;TZID=Europe/Helsinki:20270305T120000
DTEND;TZID=Europe/Helsinki:20270305T130000
DTSTAMP:20260423T215159
CREATED:20260112T134429Z
LAST-MODIFIED:20260303T073209Z
UID:10036405-1804248000-1804251600@kalenteri.niemikoti.fi
SUMMARY:Soittoryhmä Malmilla
DESCRIPTION:Tutustaan yhdessä pianon\, ukulelen ja kitaran soiton alkeisiin. Ryhmään mahtuu enintään 6 osallistujaa kerralla. Täydentyvä ryhmä\, ilmoittaudu mukaan!
URL:https://kalenteri.niemikoti.fi/en/tapahtuma/soittoryhma-malmilla/2027-03-05/
LOCATION:Malmin päivätoimintakeskus\, Vanha Helsingintie 9\, Helsinki\, 00700\, Finland
CATEGORIES:Malmin päivätoimintakeskus
END:VEVENT
BEGIN:VEVENT
DTSTART;TZID=Europe/Helsinki:20270309T130000
DTEND;TZID=Europe/Helsinki:20270309T140000
DTSTAMP:20260423T215159
CREATED:20260421T092211Z
LAST-MODIFIED:20260421T092445Z
UID:10037452-1804597200-1804600800@kalenteri.niemikoti.fi
SUMMARY:Yhteisön ohjelmaa
DESCRIPTION:Yhteisön ohjelmaa; musiikkia\, lautapelejä\, ulkoilua yms.
URL:https://kalenteri.niemikoti.fi/en/tapahtuma/yhteislaulut-2/2027-03-09/
LOCATION:Toimintakeskus Villa Borgis\, Linnavuorentie 13\, Helsinki\, 00950\, Finland
CATEGORIES:Toimintakeskus Villa Borgis
END:VEVENT
END:VCALENDAR