BEGIN:VCALENDAR
VERSION:2.0
PRODID:-//Tapahtumakalenteri - ECPv6.15.18//NONSGML v1.0//EN
CALSCALE:GREGORIAN
METHOD:PUBLISH
X-ORIGINAL-URL:https://kalenteri.niemikoti.fi
X-WR-CALDESC:Tapahtumat Tapahtumakalenteri
REFRESH-INTERVAL;VALUE=DURATION:PT1H
X-Robots-Tag:noindex
X-PUBLISHED-TTL:PT1H
BEGIN:VTIMEZONE
TZID:Europe/Helsinki
BEGIN:DAYLIGHT
TZOFFSETFROM:+0200
TZOFFSETTO:+0300
TZNAME:EEST
DTSTART:20240331T010000
END:DAYLIGHT
BEGIN:STANDARD
TZOFFSETFROM:+0300
TZOFFSETTO:+0200
TZNAME:EET
DTSTART:20241027T010000
END:STANDARD
BEGIN:DAYLIGHT
TZOFFSETFROM:+0200
TZOFFSETTO:+0300
TZNAME:EEST
DTSTART:20250330T010000
END:DAYLIGHT
BEGIN:STANDARD
TZOFFSETFROM:+0300
TZOFFSETTO:+0200
TZNAME:EET
DTSTART:20251026T010000
END:STANDARD
BEGIN:DAYLIGHT
TZOFFSETFROM:+0200
TZOFFSETTO:+0300
TZNAME:EEST
DTSTART:20260329T010000
END:DAYLIGHT
BEGIN:STANDARD
TZOFFSETFROM:+0300
TZOFFSETTO:+0200
TZNAME:EET
DTSTART:20261025T010000
END:STANDARD
END:VTIMEZONE
BEGIN:VEVENT
DTSTART;TZID=Europe/Helsinki:20250508T110000
DTEND;TZID=Europe/Helsinki:20250508T120000
DTSTAMP:20260421T184054
CREATED:20250110T120858Z
LAST-MODIFIED:20250811T001608Z
UID:10021796-1746702000-1746705600@kalenteri.niemikoti.fi
SUMMARY:Letkeä liikunta
DESCRIPTION:Yhteisön rentoa liikuntaa\, esimerkiksi tanssia\, jumppaa\, joogaa tai sauvakävelyä. Täydentyvä ryhmä\, ilmoittaudu mukaan! \nEi ryhmää 1.5.\, 15.5. ja 29.5.
URL:https://kalenteri.niemikoti.fi/tapahtuma/letkea-liikunta-malmilla/2025-05-08/
LOCATION:Malmin päivätoimintakeskus\, Vanha Helsingintie 9\, Helsinki\, 00700\, Finland
CATEGORIES:Malmin päivätoimintakeskus
ATTACH;FMTTYPE=image/jpeg:https://kalenteri.niemikoti.fi/wp-content/uploads/2025/01/Letkea_liikunta.jpg
END:VEVENT
BEGIN:VEVENT
DTSTART;TZID=Europe/Helsinki:20250508T110000
DTEND;TZID=Europe/Helsinki:20250508T120000
DTSTAMP:20260421T184054
CREATED:20250325T062827Z
LAST-MODIFIED:20250522T074931Z
UID:10022062-1746702000-1746705600@kalenteri.niemikoti.fi
SUMMARY:Morning Coffee -englanninkielinen keskusteluryhmä
DESCRIPTION:Opitaan ja pidetään yllä englannin kielen taitoa yhdessä keskustellen. Discussing in English – learning and keeping up English skills together.
URL:https://kalenteri.niemikoti.fi/tapahtuma/morning-coffee-englanninkielinen-keskusteluryhma/2025-05-08/
LOCATION:Toimintakeskus Villa Borgis\, Linnavuorentie 13\, Helsinki\, 00950\, Finland
CATEGORIES:Toimintakeskus Villa Borgis
END:VEVENT
BEGIN:VEVENT
DTSTART;TZID=Europe/Helsinki:20250508T110000
DTEND;TZID=Europe/Helsinki:20250508T123000
DTSTAMP:20260421T184054
CREATED:20250506T073714Z
LAST-MODIFIED:20250506T073714Z
UID:10022078-1746702000-1746707400@kalenteri.niemikoti.fi
SUMMARY:Ryhmävalmennus: HISSIPUHE - mainospuhe minusta
DESCRIPTION:Hissipuhe kiteyttää sinut ja osaamisesi suulliseksi käyntikortiksi. Hissipuhetta voi hyödyntää niin työelämässä\, kuin muissakin esittäytymistilanteissa. Ryhmässä saat vinkkejä hissipuheen tekemiseen sekä harjoittelemiseen. Teemme harjoitteita itsenäisesti\, jotka auttavat oman hissipuheen laatimisessa. Ryhmässä ei tarvitse esiintyä muiden edessä. \nRyhmään ei tarvitse ilmoittautua etukäteen.
URL:https://kalenteri.niemikoti.fi/tapahtuma/ryhmavalmennus-hissipuhe-mainospuhe-minusta/
LOCATION:Valtti Valmennus\, Elimäenkatu 26\, Helsinki\, 00510\, Finland
CATEGORIES:Valtti Valmennus
ATTACH;FMTTYPE=image/png:https://kalenteri.niemikoti.fi/wp-content/uploads/2025/05/mainos-hissipuhe.png
END:VEVENT
BEGIN:VEVENT
DTSTART;TZID=Europe/Helsinki:20250508T140000
DTEND;TZID=Europe/Helsinki:20250508T160000
DTSTAMP:20260421T184054
CREATED:20250415T102003Z
LAST-MODIFIED:20250523T070820Z
UID:10022055-1746712800-1746720000@kalenteri.niemikoti.fi
SUMMARY:Kaupunkiviljely Malmilla
DESCRIPTION:Jo kolmatta kesää yhteistyössä Perho-liiketalousopiston Green City Farm -toiminnan kanssa: Keväästä syksyyn kestävää peltotoimintaa. Peltoryhmään osallistumalla näet kasvin koko kasvukaaren siemenestä sadonkorjuuseen.
URL:https://kalenteri.niemikoti.fi/tapahtuma/kaupunkiviljely-malmilla-6/2025-05-08/
LOCATION:Green City Farm c/o Perho Liiketalousopisto\, Vanha Helsingintie 13\, Helsinki\, 00700
CATEGORIES:Toimintakeskus Villa Borgis
END:VEVENT
BEGIN:VEVENT
DTSTART;TZID=Europe/Helsinki:20250508T140000
DTEND;TZID=Europe/Helsinki:20250508T160000
DTSTAMP:20260421T184054
CREATED:20250612T132706Z
LAST-MODIFIED:20250612T133150Z
UID:10023258-1746712800-1746720000@kalenteri.niemikoti.fi
SUMMARY:Kaupunkiviljelyryhmä
DESCRIPTION:Kokoontuminen ryhmän alussa Malmin päivätoimintakeskuksella. Malmilla kahvit ja yhteislähtö viereiselle Perhon Green City Farmin pellolle. Malmilta saat mukaasi myös puutarhahanskat. Kaupunkiviljelyryhmä toimii toukokuusta lokakuulle. \n19.6. ryhmä poikkeuksellisesti klo 12-14!
URL:https://kalenteri.niemikoti.fi/tapahtuma/kaupunkiviljelyryhma-2/2025-05-08/
LOCATION:Malmin päivätoimintakeskus\, Vanha Helsingintie 9\, Helsinki\, 00700\, Finland
CATEGORIES:Malmin päivätoimintakeskus
ATTACH;FMTTYPE=image/jpeg:https://kalenteri.niemikoti.fi/wp-content/uploads/2025/06/Green-City-Farm-paivatoiminnan-suunnitelma-768x834-1.jpg
END:VEVENT
BEGIN:VEVENT
DTSTART;TZID=Europe/Helsinki:20250508T153000
DTEND;TZID=Europe/Helsinki:20250508T170000
DTSTAMP:20260421T184054
CREATED:20250131T072623Z
LAST-MODIFIED:20250522T133855Z
UID:10021527-1746718200-1746723600@kalenteri.niemikoti.fi
SUMMARY:Rhythm machine (Malmin bändi)
DESCRIPTION:Bändissä on vakiintunut kokoonpano. Lisätietoja bändistä voi kysyä ohjaajilta. \nEi ryhmää 1.5. ja 29.5.
URL:https://kalenteri.niemikoti.fi/tapahtuma/rhythm-machine-malmin-bandi-2/2025-05-08/
LOCATION:Malmin päivätoimintakeskus\, Vanha Helsingintie 9\, Helsinki\, 00700\, Finland
CATEGORIES:Malmin päivätoimintakeskus
END:VEVENT
END:VCALENDAR