BEGIN:VCALENDAR
VERSION:2.0
PRODID:-//Tapahtumakalenteri - ECPv6.15.18//NONSGML v1.0//EN
CALSCALE:GREGORIAN
METHOD:PUBLISH
X-WR-CALNAME:Tapahtumakalenteri
X-ORIGINAL-URL:https://kalenteri.niemikoti.fi
X-WR-CALDESC:Tapahtumat Tapahtumakalenteri
REFRESH-INTERVAL;VALUE=DURATION:PT1H
X-Robots-Tag:noindex
X-PUBLISHED-TTL:PT1H
BEGIN:VTIMEZONE
TZID:Europe/Helsinki
BEGIN:DAYLIGHT
TZOFFSETFROM:+0200
TZOFFSETTO:+0300
TZNAME:EEST
DTSTART:20250330T010000
END:DAYLIGHT
BEGIN:STANDARD
TZOFFSETFROM:+0300
TZOFFSETTO:+0200
TZNAME:EET
DTSTART:20251026T010000
END:STANDARD
BEGIN:DAYLIGHT
TZOFFSETFROM:+0200
TZOFFSETTO:+0300
TZNAME:EEST
DTSTART:20260329T010000
END:DAYLIGHT
BEGIN:STANDARD
TZOFFSETFROM:+0300
TZOFFSETTO:+0200
TZNAME:EET
DTSTART:20261025T010000
END:STANDARD
BEGIN:DAYLIGHT
TZOFFSETFROM:+0200
TZOFFSETTO:+0300
TZNAME:EEST
DTSTART:20270328T010000
END:DAYLIGHT
BEGIN:STANDARD
TZOFFSETFROM:+0300
TZOFFSETTO:+0200
TZNAME:EET
DTSTART:20271031T010000
END:STANDARD
END:VTIMEZONE
BEGIN:VEVENT
DTSTART;TZID=Europe/Helsinki:20260112T170000
DTEND;TZID=Europe/Helsinki:20260112T180000
DTSTAMP:20260423T195345
CREATED:20241014T035536Z
LAST-MODIFIED:20260107T102402Z
UID:10026095-1768237200-1768240800@kalenteri.niemikoti.fi
SUMMARY:Niilon chat-kahvila maanantaisin kello 17-18☕
DESCRIPTION:”Niilo tuo lisää tukea ja yhteisöllisyyttä palveluidenkäyttäjille – helposti ja digitaalisesti!” \nKahvilan teemat vaihtelevat?\nChat-kavilat ovat rentoa rupattelua tunnin ajan chattaillen ?? \nNiilo \n? Helppo tapa vahvistaa osallisuutta: Tämä mobiilisovellus antaa palveluidenkäyttäjille mahdollisuuden olla yhteydessä\, saada vertaistukea ja löytää tietoa silloin\, kun he sitä tarvitsevat. Pieni vinkkaus sovelluksesta voi avata heille uuden tukikanavan! \n? Kannattaa itsekin kokeilla: Kun tunnet sovelluksen\, voit helpommin suositella sitä. Lataaminen vie vain hetken\, mutta voi tarjota paljon uusia mahdollisuuksia sekä työn tueksi että palveluidenkäyttäjien hyvinvoinnin vahvistamiseksi. \n? Jokainen maininta merkitsee: Kun mainitset sovelluksesta arjessa\, autat tekemään siitä luontevan osan käyttäjien tukea. Se on pieni teko\, jolla voi olla suuri vaikutus! \n? Lataa sovellus ja tutustu – yhdessä voimme paremmin! ? \n➡️ Voit ladata sen täältä https://niilo.niemikoti.fi
URL:https://kalenteri.niemikoti.fi/tapahtuma/niilon-chat-kahvila-maanantaisin-kello-17-18%e2%98%95/2026-01-12/
CATEGORIES:Niilo-sovellus
ATTACH;FMTTYPE=image/png:https://kalenteri.niemikoti.fi/wp-content/uploads/2024/10/Chat-kahvila-klo-17-19_tapahtumakalenteri2025.png
END:VEVENT
BEGIN:VEVENT
DTSTART;TZID=Europe/Helsinki:20260112T170000
DTEND;TZID=Europe/Helsinki:20260112T180000
DTSTAMP:20260423T195345
CREATED:20260108T114733Z
LAST-MODIFIED:20260108T114950Z
UID:10026123-1768237200-1768240800@kalenteri.niemikoti.fi
SUMMARY:Niilon chat-kahvila 12.1. klo 17-18
DESCRIPTION:Talvikin tuli vihdoin etelään. Niilon talvisessa chatkahvilassa maanantaina 12.1. klo 17 kerrotaan osallistujien kuulumisia ja jutellaan mieleen tulevista asioista. Talvikahvilan pitää Santtu. Tervetuloa! \nJos sinulla ei ole vielä Niiloa\, voit ladata sen täältä: https://niilo.niemikoti.fi \n 
URL:https://kalenteri.niemikoti.fi/tapahtuma/niilon-chat-kahvila-12-1-klo-17-18/
CATEGORIES:Niilo-sovellus
ATTACH;FMTTYPE=image/jpeg:https://kalenteri.niemikoti.fi/wp-content/uploads/2026/01/Kahvila12012026.jpg
END:VEVENT
BEGIN:VEVENT
DTSTART;TZID=Europe/Helsinki:20260119T170000
DTEND;TZID=Europe/Helsinki:20260119T180000
DTSTAMP:20260423T195345
CREATED:20241014T035536Z
LAST-MODIFIED:20260107T102402Z
UID:10026096-1768842000-1768845600@kalenteri.niemikoti.fi
SUMMARY:Niilon chat-kahvila maanantaisin kello 17-18☕
DESCRIPTION:”Niilo tuo lisää tukea ja yhteisöllisyyttä palveluidenkäyttäjille – helposti ja digitaalisesti!” \nKahvilan teemat vaihtelevat?\nChat-kavilat ovat rentoa rupattelua tunnin ajan chattaillen ?? \nNiilo \n? Helppo tapa vahvistaa osallisuutta: Tämä mobiilisovellus antaa palveluidenkäyttäjille mahdollisuuden olla yhteydessä\, saada vertaistukea ja löytää tietoa silloin\, kun he sitä tarvitsevat. Pieni vinkkaus sovelluksesta voi avata heille uuden tukikanavan! \n? Kannattaa itsekin kokeilla: Kun tunnet sovelluksen\, voit helpommin suositella sitä. Lataaminen vie vain hetken\, mutta voi tarjota paljon uusia mahdollisuuksia sekä työn tueksi että palveluidenkäyttäjien hyvinvoinnin vahvistamiseksi. \n? Jokainen maininta merkitsee: Kun mainitset sovelluksesta arjessa\, autat tekemään siitä luontevan osan käyttäjien tukea. Se on pieni teko\, jolla voi olla suuri vaikutus! \n? Lataa sovellus ja tutustu – yhdessä voimme paremmin! ? \n➡️ Voit ladata sen täältä https://niilo.niemikoti.fi
URL:https://kalenteri.niemikoti.fi/tapahtuma/niilon-chat-kahvila-maanantaisin-kello-17-18%e2%98%95/2026-01-19/
CATEGORIES:Niilo-sovellus
ATTACH;FMTTYPE=image/png:https://kalenteri.niemikoti.fi/wp-content/uploads/2024/10/Chat-kahvila-klo-17-19_tapahtumakalenteri2025.png
END:VEVENT
BEGIN:VEVENT
DTSTART;TZID=Europe/Helsinki:20260119T170000
DTEND;TZID=Europe/Helsinki:20260119T180000
DTSTAMP:20260423T195345
CREATED:20260115T123649Z
LAST-MODIFIED:20260115T123649Z
UID:10031754-1768842000-1768845600@kalenteri.niemikoti.fi
SUMMARY:Niilon chat-kahvila 19.1. klo 17-18
DESCRIPTION:Tervetuloa ensi maanantaina 19.1. juttelemaan rennosti Niilon chatkahvilaan\, sumpit keittelee Tapsa.\nJaettu kokemus on moninkertainen ilo! \nJos sinulla ei ole vielä Niiloa\, voit ladata sen täältä: https://niilo.niemikoti.fi \n 
URL:https://kalenteri.niemikoti.fi/tapahtuma/niilon-chat-kahvila-19-1-klo-17-18/
CATEGORIES:Niilo-sovellus
ATTACH;FMTTYPE=image/jpeg:https://kalenteri.niemikoti.fi/wp-content/uploads/2026/01/Kahvila19012026.jpg
END:VEVENT
BEGIN:VEVENT
DTSTART;TZID=Europe/Helsinki:20260126T170000
DTEND;TZID=Europe/Helsinki:20260126T180000
DTSTAMP:20260423T195345
CREATED:20241014T035536Z
LAST-MODIFIED:20260107T102402Z
UID:10026097-1769446800-1769450400@kalenteri.niemikoti.fi
SUMMARY:Niilon chat-kahvila maanantaisin kello 17-18☕
DESCRIPTION:”Niilo tuo lisää tukea ja yhteisöllisyyttä palveluidenkäyttäjille – helposti ja digitaalisesti!” \nKahvilan teemat vaihtelevat?\nChat-kavilat ovat rentoa rupattelua tunnin ajan chattaillen ?? \nNiilo \n? Helppo tapa vahvistaa osallisuutta: Tämä mobiilisovellus antaa palveluidenkäyttäjille mahdollisuuden olla yhteydessä\, saada vertaistukea ja löytää tietoa silloin\, kun he sitä tarvitsevat. Pieni vinkkaus sovelluksesta voi avata heille uuden tukikanavan! \n? Kannattaa itsekin kokeilla: Kun tunnet sovelluksen\, voit helpommin suositella sitä. Lataaminen vie vain hetken\, mutta voi tarjota paljon uusia mahdollisuuksia sekä työn tueksi että palveluidenkäyttäjien hyvinvoinnin vahvistamiseksi. \n? Jokainen maininta merkitsee: Kun mainitset sovelluksesta arjessa\, autat tekemään siitä luontevan osan käyttäjien tukea. Se on pieni teko\, jolla voi olla suuri vaikutus! \n? Lataa sovellus ja tutustu – yhdessä voimme paremmin! ? \n➡️ Voit ladata sen täältä https://niilo.niemikoti.fi
URL:https://kalenteri.niemikoti.fi/tapahtuma/niilon-chat-kahvila-maanantaisin-kello-17-18%e2%98%95/2026-01-26/
CATEGORIES:Niilo-sovellus
ATTACH;FMTTYPE=image/png:https://kalenteri.niemikoti.fi/wp-content/uploads/2024/10/Chat-kahvila-klo-17-19_tapahtumakalenteri2025.png
END:VEVENT
BEGIN:VEVENT
DTSTART;TZID=Europe/Helsinki:20260126T170000
DTEND;TZID=Europe/Helsinki:20260126T180000
DTSTAMP:20260423T195345
CREATED:20260120T130212Z
LAST-MODIFIED:20260120T130212Z
UID:10031755-1769446800-1769450400@kalenteri.niemikoti.fi
SUMMARY:Niilon chat-kahvila 26.1. klo 17-18
DESCRIPTION:Tervetuloa ensi maanantaina 26.1. klo 17 juttelemaan mukavaan seuraan sinua kiinnostavista aiheista. Vetäjänä on Heini. \n  \nJos sinulla ei ole vielä Niiloa\, voit ladata sen täältä: https://niilo.niemikoti.fi \n 
URL:https://kalenteri.niemikoti.fi/tapahtuma/niilon-chat-kahvila-26-1-klo-17-18/
CATEGORIES:Niilo-sovellus
ATTACH;FMTTYPE=image/jpeg:https://kalenteri.niemikoti.fi/wp-content/uploads/2026/01/Kahvila26012026.jpg
END:VEVENT
END:VCALENDAR