BEGIN:VCALENDAR
VERSION:2.0
PRODID:-//Tapahtumakalenteri - ECPv6.15.18//NONSGML v1.0//EN
CALSCALE:GREGORIAN
METHOD:PUBLISH
X-ORIGINAL-URL:https://kalenteri.niemikoti.fi
X-WR-CALDESC:Tapahtumat Tapahtumakalenteri
REFRESH-INTERVAL;VALUE=DURATION:PT1H
X-Robots-Tag:noindex
X-PUBLISHED-TTL:PT1H
BEGIN:VTIMEZONE
TZID:Europe/Helsinki
BEGIN:DAYLIGHT
TZOFFSETFROM:+0200
TZOFFSETTO:+0300
TZNAME:EEST
DTSTART:20240331T010000
END:DAYLIGHT
BEGIN:STANDARD
TZOFFSETFROM:+0300
TZOFFSETTO:+0200
TZNAME:EET
DTSTART:20241027T010000
END:STANDARD
BEGIN:DAYLIGHT
TZOFFSETFROM:+0200
TZOFFSETTO:+0300
TZNAME:EEST
DTSTART:20250330T010000
END:DAYLIGHT
BEGIN:STANDARD
TZOFFSETFROM:+0300
TZOFFSETTO:+0200
TZNAME:EET
DTSTART:20251026T010000
END:STANDARD
BEGIN:DAYLIGHT
TZOFFSETFROM:+0200
TZOFFSETTO:+0300
TZNAME:EEST
DTSTART:20260329T010000
END:DAYLIGHT
BEGIN:STANDARD
TZOFFSETFROM:+0300
TZOFFSETTO:+0200
TZNAME:EET
DTSTART:20261025T010000
END:STANDARD
END:VTIMEZONE
BEGIN:VEVENT
DTSTART;TZID=Europe/Helsinki:20251110T080000
DTEND;TZID=Europe/Helsinki:20251110T170000
DTSTAMP:20260426T055516
CREATED:20251107T114858Z
LAST-MODIFIED:20251107T114858Z
UID:10025401-1762761600-1762794000@kalenteri.niemikoti.fi
SUMMARY:Niilon chat-kahvila 10.11. klo 17-18
DESCRIPTION:Niilossa chat-kahvila maanantaina 10.11. klo 17-18 vetäjänään Pepe. Juttelemme kahvilassa ajankohtaisista asioista\, mutta tällä kahvilalla ei ole ennalta määrättyä aihetta.Jos sinulla ei ole Niiloa saat sen osoitteesta niilo.niemikoti.fi
URL:https://kalenteri.niemikoti.fi/tapahtuma/niilon-chat-kahvila-10-11-klo-17-18/
CATEGORIES:Niilo-sovellus
ATTACH;FMTTYPE=image/jpeg:https://kalenteri.niemikoti.fi/wp-content/uploads/2025/11/576661463_866537299045737_2942790387412124566_n.jpg
END:VEVENT
END:VCALENDAR