BEGIN:VCALENDAR
VERSION:2.0
PRODID:-//Tapahtumakalenteri - ECPv6.15.18//NONSGML v1.0//EN
CALSCALE:GREGORIAN
METHOD:PUBLISH
X-ORIGINAL-URL:https://kalenteri.niemikoti.fi
X-WR-CALDESC:Tapahtumat Tapahtumakalenteri
REFRESH-INTERVAL;VALUE=DURATION:PT1H
X-Robots-Tag:noindex
X-PUBLISHED-TTL:PT1H
BEGIN:VTIMEZONE
TZID:Europe/Helsinki
BEGIN:DAYLIGHT
TZOFFSETFROM:+0200
TZOFFSETTO:+0300
TZNAME:EEST
DTSTART:20240331T010000
END:DAYLIGHT
BEGIN:STANDARD
TZOFFSETFROM:+0300
TZOFFSETTO:+0200
TZNAME:EET
DTSTART:20241027T010000
END:STANDARD
BEGIN:DAYLIGHT
TZOFFSETFROM:+0200
TZOFFSETTO:+0300
TZNAME:EEST
DTSTART:20250330T010000
END:DAYLIGHT
BEGIN:STANDARD
TZOFFSETFROM:+0300
TZOFFSETTO:+0200
TZNAME:EET
DTSTART:20251026T010000
END:STANDARD
BEGIN:DAYLIGHT
TZOFFSETFROM:+0200
TZOFFSETTO:+0300
TZNAME:EEST
DTSTART:20260329T010000
END:DAYLIGHT
BEGIN:STANDARD
TZOFFSETFROM:+0300
TZOFFSETTO:+0200
TZNAME:EET
DTSTART:20261025T010000
END:STANDARD
END:VTIMEZONE
BEGIN:VEVENT
DTSTART;TZID=Europe/Helsinki:20251208T080000
DTEND;TZID=Europe/Helsinki:20251208T170000
DTSTAMP:20260425T045237
CREATED:20251205T120514Z
LAST-MODIFIED:20251205T120514Z
UID:10025650-1765180800-1765213200@kalenteri.niemikoti.fi
SUMMARY:Niilon chatkahvila 8.12. klo 17-18
DESCRIPTION:Tervetuloa Niilon chatkahvilaan tuttuun maanantaiseen tapaan 8.12. klo 17-18. Kupposen kuumaa tarjoilee Tapsa. Jos sinulla ei vielä ole Niiloa\, saat sen osoitteesta niilo.niemikoti.fi
URL:https://kalenteri.niemikoti.fi/tapahtuma/niilon-chatkahvila-8-12-klo-17-18/
CATEGORIES:Niilo-sovellus
ATTACH;FMTTYPE=image/jpeg:https://kalenteri.niemikoti.fi/wp-content/uploads/2025/12/591739083_890197353346398_1120856320627090963_n.jpg
END:VEVENT
END:VCALENDAR