BEGIN:VCALENDAR
VERSION:2.0
PRODID:-//Tapahtumakalenteri - ECPv6.15.18//NONSGML v1.0//EN
CALSCALE:GREGORIAN
METHOD:PUBLISH
X-WR-CALNAME:Tapahtumakalenteri
X-ORIGINAL-URL:https://kalenteri.niemikoti.fi
X-WR-CALDESC:Tapahtumat Tapahtumakalenteri
REFRESH-INTERVAL;VALUE=DURATION:PT1H
X-Robots-Tag:noindex
X-PUBLISHED-TTL:PT1H
BEGIN:VTIMEZONE
TZID:Europe/Helsinki
BEGIN:DAYLIGHT
TZOFFSETFROM:+0200
TZOFFSETTO:+0300
TZNAME:EEST
DTSTART:20220327T010000
END:DAYLIGHT
BEGIN:STANDARD
TZOFFSETFROM:+0300
TZOFFSETTO:+0200
TZNAME:EET
DTSTART:20221030T010000
END:STANDARD
BEGIN:DAYLIGHT
TZOFFSETFROM:+0200
TZOFFSETTO:+0300
TZNAME:EEST
DTSTART:20230326T010000
END:DAYLIGHT
BEGIN:STANDARD
TZOFFSETFROM:+0300
TZOFFSETTO:+0200
TZNAME:EET
DTSTART:20231029T010000
END:STANDARD
BEGIN:DAYLIGHT
TZOFFSETFROM:+0200
TZOFFSETTO:+0300
TZNAME:EEST
DTSTART:20240331T010000
END:DAYLIGHT
BEGIN:STANDARD
TZOFFSETFROM:+0300
TZOFFSETTO:+0200
TZNAME:EET
DTSTART:20241027T010000
END:STANDARD
BEGIN:DAYLIGHT
TZOFFSETFROM:+0200
TZOFFSETTO:+0300
TZNAME:EEST
DTSTART:20250330T010000
END:DAYLIGHT
BEGIN:STANDARD
TZOFFSETFROM:+0300
TZOFFSETTO:+0200
TZNAME:EET
DTSTART:20251026T010000
END:STANDARD
BEGIN:DAYLIGHT
TZOFFSETFROM:+0200
TZOFFSETTO:+0300
TZNAME:EEST
DTSTART:20260329T010000
END:DAYLIGHT
BEGIN:STANDARD
TZOFFSETFROM:+0300
TZOFFSETTO:+0200
TZNAME:EET
DTSTART:20261025T010000
END:STANDARD
END:VTIMEZONE
BEGIN:VEVENT
DTSTART;TZID=Europe/Helsinki:20250820T133000
DTEND;TZID=Europe/Helsinki:20250820T150000
DTSTAMP:20260423T213115
CREATED:20250806T062810Z
LAST-MODIFIED:20250806T062810Z
UID:10023337-1755696600-1755702000@kalenteri.niemikoti.fi
SUMMARY:Sateenkaarikahvila 20.8. klo 13.30–15
DESCRIPTION:Kaikkien aikojen ensimmäinen Sateenkaarikahvila Haagan toimintatalossa 20.8.2025 klo 13.30-15. Kokoonkutsujana ja järjestäjänä toimii kokemusasiantuntijatyöryhmä. \nSateenkaarikahvilan teemana on sukupuolten moninaisuus. \nTilaisuus on avoin kaikille kiinnostuneille. Tarjoilujen riittävyyden vuoksi toivomme ilmoittautumista viimeistään 15.8.2025 sirpa.sinisalo@niemikoti.fi. Ja saa tulla vaikka ilmoittautuminen unohtuisi! \nsateenkaarikahvila2025-08.v2
URL:https://kalenteri.niemikoti.fi/tapahtuma/sateenkaarikahvila-20-8-klo-13-30-15/
LOCATION:Haagan toimintatalo\, Vanha viertotie 22\, Helsinki\, 00350\, Finland
CATEGORIES:Haagan toimintatalo,Kokemusasiantuntija- ja vertaistoiminta,Omaisille ja läheisille,Tapahtumat henkilökunnalle,Tapahtumat palvelunkäyttäjille
ATTACH;FMTTYPE=image/png:https://kalenteri.niemikoti.fi/wp-content/uploads/2025/08/sateenkaarikahvila2025-08.png
END:VEVENT
BEGIN:VEVENT
DTSTART;TZID=Europe/Helsinki:20250116T120000
DTEND;TZID=Europe/Helsinki:20250116T133000
DTSTAMP:20260423T213115
CREATED:20250102T123126Z
LAST-MODIFIED:20250102T123126Z
UID:10013738-1737028800-1737034200@kalenteri.niemikoti.fi
SUMMARY:Kokemusasiantuntija Jarkon tarina
DESCRIPTION:Kaikille avoin tilaisuus Valtti Valmennuksessa. Tule kuulemaan Jarkon tarina toipumisesta. \nKahvitarjoilu!
URL:https://kalenteri.niemikoti.fi/tapahtuma/kokemusasiantuntija-jarkon-tarina/
LOCATION:Valtti Valmennus\, Elimäenkatu 26\, Helsinki\, 00510\, Finland
CATEGORIES:Kokemusasiantuntija- ja vertaistoiminta,Omaisille ja läheisille,Tapahtumat henkilökunnalle,Tapahtumat palvelunkäyttäjille,Valtti Valmennus
ATTACH;FMTTYPE=image/png:https://kalenteri.niemikoti.fi/wp-content/uploads/2025/01/jarkon-mainos.png
END:VEVENT
BEGIN:VEVENT
DTSTART;TZID=Europe/Helsinki:20240919T173000
DTEND;TZID=Europe/Helsinki:20240919T193000
DTSTAMP:20260423T213115
CREATED:20240904T092916Z
LAST-MODIFIED:20240904T092916Z
UID:10012254-1726767000-1726774200@kalenteri.niemikoti.fi
SUMMARY:Omais- ja läheistapahtuma
DESCRIPTION:Niemikotisäätiön omais- ja läheistapahtuma kaikille palvelunkäyttäjille ja heidän omaisilleen tai läheisilleen. Myös säätiön työntekijät ja opiskelijat ovat tervetulleita osallistumaan. Ohjelmassa säätiön esittely\, omaisyhdistys FinFamin puheenvuoro ja Takuusäätiön esittely. Kahvitarjoilu.
URL:https://kalenteri.niemikoti.fi/tapahtuma/omais-ja-laheistapahtuma/
LOCATION:Huolintatalo Pasila\, hallinto\, Pasilankatu 2\, Helsinki\, 00240\, Finland
CATEGORIES:Omaisille ja läheisille,Tapahtumat henkilökunnalle,Tapahtumat palvelunkäyttäjille
END:VEVENT
BEGIN:VEVENT
DTSTART;TZID=Europe/Helsinki:20240523T143000
DTEND;TZID=Europe/Helsinki:20240523T154500
DTSTAMP:20260423T213115
CREATED:20240519T181704Z
LAST-MODIFIED:20240519T181834Z
UID:10011868-1716474600-1716479100@kalenteri.niemikoti.fi
SUMMARY:Niilo-sovelluksen esittely to 23.5.2024 klo 14.30–15.45 Lapinlahden Lähteellä
DESCRIPTION:Niilo-sovellus on digitaalinen kohtaamisten -ja chat-kahviloiden alusta\, arjen tsemppari ja se muistuttaa päivän tehtävistä sekä vinkkaa kiinnostavista tapahtumista. Luo yhteyksiä! \nNiilo-sovellus on MHAW 2024-tapahtumassa liikkeellä kohtaamisen\, kuulluksi – ja nähdyksi tulemisen teemoilla. Digitaalinen ympäristö on loistava lisä olla yhteyksissä toisiin ihmisiin\, läsnä kohtaamisia unohtamatta. Näiden molempien sopiva yhdistelmä on nykypäivää ja parhaillaan tukee yksilön kasvua sekä osallisuutta tasavertaisena toimijana. \nNähdään ja kuullaan! \nTerveisin\, Niilon työryhmä
URL:https://kalenteri.niemikoti.fi/tapahtuma/niilo-sovelluksen-esittely-to-23-5-2024-klo-14-30-15-45-lapinlahden-lahteella/
LOCATION:Lapinlahden lähde\, Lapinlahdenpolku 8\, Helsinki\, 00180\, Finland
CATEGORIES:Omaisille ja läheisille,Tapahtumat henkilökunnalle,Tapahtumat palvelunkäyttäjille
ATTACH;FMTTYPE=image/png:https://kalenteri.niemikoti.fi/wp-content/uploads/2024/05/Niilo-sovelluksen-esittely-23.5.2024-Lappari.png
END:VEVENT
BEGIN:VEVENT
DTSTART;TZID=Europe/Helsinki:20240126T123000
DTEND;TZID=Europe/Helsinki:20240126T133000
DTSTAMP:20260423T213115
CREATED:20240126T084555Z
LAST-MODIFIED:20240126T084916Z
UID:10005173-1706272200-1706275800@kalenteri.niemikoti.fi
SUMMARY:Valtti Valmennuksen infokahvila Niilossa pe 26.1. klo 12.30-13.30
DESCRIPTION:Tämä tapahtuma on kaikille Niemikotisäätiön yhteisön poppoolle! \nPaikalla Valtti Valmennuksen työvalmentajat Satu. \n\nKysymykset sallittuja ja tervetulleita\, voidaan myös keskustella vapaammin\, mitä mieleen tulee \n\n\n\nTervetuloa!
URL:https://kalenteri.niemikoti.fi/tapahtuma/valtti-valmennuksen-infokahvila-niilossa-pe-26-1-klo-12-30-13-30/
LOCATION:Kulttuuripaja ELVIS\, Lautatarhankatu 4\, Helsinki\, 00580\, Finland
CATEGORIES:Asumispalvelut,Haagan toimintatalo,Jälleenvuokraus,Kesäharjun toimintakeskus,Kokemusasiantuntija- ja vertaistoiminta,Kulttuuripaja ELVIS,Malmin päivätoimintakeskus,Mieli Töihin -valmennus,Muut tapahtumajärjestäjät,Omaisille ja läheisille,Ompelimo & Olohuone,Päivätoiminta,Toimintakeskus Villa Borgis,Työ- ja valmennustoiminta,Valtti Valmennus
ATTACH;FMTTYPE=image/jpeg:https://kalenteri.niemikoti.fi/wp-content/uploads/2024/01/Valtin-kahvila-26.1.2024.jpg
END:VEVENT
BEGIN:VEVENT
DTSTART;TZID=Europe/Helsinki:20230921T180000
DTEND;TZID=Europe/Helsinki:20230921T200000
DTSTAMP:20260423T213115
CREATED:20230528T064856Z
LAST-MODIFIED:20230528T064928Z
UID:10000339-1695319200-1695326400@kalenteri.niemikoti.fi
SUMMARY:Omais- ja läheistapahtuma Pasilassa
DESCRIPTION:Omais- ja läheistapahtuma yhteistyössä FinFami ry:n kanssa Niemikotisäätiön palvelunkäyttäjien omaisille ja läheisille 21.9.2023 klo 18\, Pasilankatu 2 \nOhjelmassa\n\nMusiikkiesitys\nNiemikotisäätiön esittely\, toiminnanjohtaja Seppo Eronen\nFinFami ry:n puheenvuoro\nOmaisten puheenvuoro\nKysymyksiä ja keskustelua\n\nIlmoittaudu ennakkoon ja lähetä mahdolliset etukäteiskysymykset 15.9.2023 mennessä sähköpostilla ulla.tiainen@niemikoti.fi.
URL:https://kalenteri.niemikoti.fi/tapahtuma/omais-ja-laheistapahtuma-pasilassa/
LOCATION:Huolintatalo Pasila\, hallinto\, Pasilankatu 2\, Helsinki\, 00240\, Finland
CATEGORIES:Omaisille ja läheisille,Päivätoiminta,Työ- ja valmennustoiminta
ATTACH;FMTTYPE=image/png:https://kalenteri.niemikoti.fi/wp-content/uploads/2023/05/Screenshot-2023-05-28-at-8.54.42.png
END:VEVENT
BEGIN:VEVENT
DTSTART;TZID=Europe/Helsinki:20230614T130000
DTEND;TZID=Europe/Helsinki:20230614T160000
DTSTAMP:20260423T213115
CREATED:20230528T065406Z
LAST-MODIFIED:20230612T091131Z
UID:10000340-1686747600-1686758400@kalenteri.niemikoti.fi
SUMMARY:Avoimet ovet
DESCRIPTION:Tervetuloa tutustumaan Kulttuuripaja Elvikseen! Avoimien ovien jälkeen jatkamme avoimilla Kesäjameilla klo 16-18. Lava on vapaa erilaisille esityksille (musiikki\, tanssi\, runot jne.) kahvi-/teetarjoilu.
URL:https://kalenteri.niemikoti.fi/tapahtuma/avoimet-ovet-ja-kesajamit-kulttuuripaja-elviksessa/
LOCATION:Kulttuuripaja ELVIS\, Lautatarhankatu 4\, Helsinki\, 00580\, Finland
CATEGORIES:Kulttuuripaja ELVIS,Omaisille ja läheisille
ATTACH;FMTTYPE=image/png:https://kalenteri.niemikoti.fi/wp-content/uploads/2023/06/Lisaa-otsikko-4.png
END:VEVENT
BEGIN:VEVENT
DTSTART;TZID=Europe/Helsinki:20230606T120000
DTEND;TZID=Europe/Helsinki:20230606T150000
DTSTAMP:20260423T213115
CREATED:20230528T033431Z
LAST-MODIFIED:20230606T043032Z
UID:10000335-1686052800-1686063600@kalenteri.niemikoti.fi
SUMMARY:Kesäjuhla Malmilla
DESCRIPTION:Perinteistä kesäjuhlaa vietetään Malmilla klo 12-14 ja juhlan jälkeen on mahdollisuus osallistua peltokierrokselle viereisellä Green City Farm -pellolla\, jossa peltoryhmät kokoontuvat kaupunkiviljelyn merkeissä torstaisin.
URL:https://kalenteri.niemikoti.fi/tapahtuma/kesajuhla/
LOCATION:Malmin päivätoimintakeskus\, Vanha Helsingintie 9\, Helsinki\, 00700\, Finland
CATEGORIES:Haagan toimintatalo,Jälleenvuokraus,Kokemusasiantuntija- ja vertaistoiminta,Kulttuuripaja ELVIS,Malmin päivätoimintakeskus,Mieli Töihin -valmennus,Omaisille ja läheisille,Ompelimo & Olohuone,Päivätoiminta,Toimintakeskus Villa Borgis,Työ- ja valmennustoiminta,Valtti Valmennus
ATTACH;FMTTYPE=image/png:https://kalenteri.niemikoti.fi/wp-content/uploads/2023/05/Kesajuhlaflaijeri.png
END:VEVENT
BEGIN:VEVENT
DTSTART;TZID=Europe/Helsinki:20230605T120000
DTEND;TZID=Europe/Helsinki:20230605T150000
DTSTAMP:20260423T213115
CREATED:20230529T080133Z
LAST-MODIFIED:20230529T080504Z
UID:10000341-1685966400-1685977200@kalenteri.niemikoti.fi
SUMMARY:Ilonpilke-kesätapahtuma 2023
DESCRIPTION:Mitä luvassa?\n\nToista kertaa järjestettävä rento ja iloinen tapahtuma\nMaksutonta ja hauskaa tekemistä ja yhdessä oloa\nKaikille sopivia erilaisia toimintapisteitä\nMielenterveysjärjestöihin tutustumista\nKahvia\, teetä\, mehua ja pullaa (70:lle ensimmäiselle)\nPorttiteatterin esitys\n\nTapahtumassa mukana\n\nMajakka\nKarvinen\nKlubitalot\nPro Lapinlahti\nLilinkotisäätiö\nNieikotisäätiö\nTaiteen Sulattamo\nKulttuuripaja K-35\nKulttuuripaja Kupla\nKaupungin liikuntapalvelut\n\nLisätiedot kokemusasiantuntija Laura Nuutinen\, puh. 040 768 3328\, laura92nuutinen@gmail.com \nLämpimästi tervetuloa yksin tai yhdessä! Ei tarvitse ilmoittautua!
URL:https://kalenteri.niemikoti.fi/tapahtuma/ilonpilke-kesatapahtuma-2023/
LOCATION:Lapinlahden lähde\, Lapinlahdenpolku 8\, Helsinki\, 00180\, Finland
CATEGORIES:Asumispalvelut,Haagan toimintatalo,Jälleenvuokraus,Kesäharjun toimintakeskus,Kokemusasiantuntija- ja vertaistoiminta,Kulttuuripaja ELVIS,Malmin päivätoimintakeskus,Mieli Töihin -valmennus,Omaisille ja läheisille,Ompelimo & Olohuone,Päivätoiminta,Toimintakeskus Villa Borgis,Työ- ja valmennustoiminta,Valtti Valmennus
ATTACH;FMTTYPE=image/png:https://kalenteri.niemikoti.fi/wp-content/uploads/2023/05/Screenshot-2023-05-29-at-10.56.25.png
END:VEVENT
END:VCALENDAR