BEGIN:VCALENDAR
VERSION:2.0
PRODID:-//Tapahtumakalenteri - ECPv6.15.18//NONSGML v1.0//EN
CALSCALE:GREGORIAN
METHOD:PUBLISH
X-ORIGINAL-URL:https://kalenteri.niemikoti.fi
X-WR-CALDESC:Tapahtumat Tapahtumakalenteri
REFRESH-INTERVAL;VALUE=DURATION:PT1H
X-Robots-Tag:noindex
X-PUBLISHED-TTL:PT1H
BEGIN:VTIMEZONE
TZID:Europe/Helsinki
BEGIN:DAYLIGHT
TZOFFSETFROM:+0200
TZOFFSETTO:+0300
TZNAME:EEST
DTSTART:20220327T010000
END:DAYLIGHT
BEGIN:STANDARD
TZOFFSETFROM:+0300
TZOFFSETTO:+0200
TZNAME:EET
DTSTART:20221030T010000
END:STANDARD
BEGIN:DAYLIGHT
TZOFFSETFROM:+0200
TZOFFSETTO:+0300
TZNAME:EEST
DTSTART:20230326T010000
END:DAYLIGHT
BEGIN:STANDARD
TZOFFSETFROM:+0300
TZOFFSETTO:+0200
TZNAME:EET
DTSTART:20231029T010000
END:STANDARD
BEGIN:DAYLIGHT
TZOFFSETFROM:+0200
TZOFFSETTO:+0300
TZNAME:EEST
DTSTART:20240331T010000
END:DAYLIGHT
BEGIN:STANDARD
TZOFFSETFROM:+0300
TZOFFSETTO:+0200
TZNAME:EET
DTSTART:20241027T010000
END:STANDARD
END:VTIMEZONE
BEGIN:VEVENT
DTSTART;TZID=Europe/Helsinki:20231115T090000
DTEND;TZID=Europe/Helsinki:20231115T094500
DTSTAMP:20260426T041124
CREATED:20230531T083840Z
LAST-MODIFIED:20240205T125147Z
UID:10001613-1700038800-1700041500@kalenteri.niemikoti.fi
SUMMARY:Yhteisöpäivän aamiainen
DESCRIPTION:Aamupala yhteisöpäivään osallistuville (maksullinen).
URL:https://kalenteri.niemikoti.fi/tapahtuma/yhteisopaivan-aamiainen-2/2023-11-15/
LOCATION:Toimintakeskus Villa Borgis\, Linnavuorentie 13\, Helsinki\, 00950\, Finland
CATEGORIES:Toimintakeskus Villa Borgis
END:VEVENT
BEGIN:VEVENT
DTSTART;TZID=Europe/Helsinki:20231115T090000
DTEND;TZID=Europe/Helsinki:20231115T130000
DTSTAMP:20260426T041124
CREATED:20230822T114010Z
LAST-MODIFIED:20240528T090051Z
UID:10001936-1700038800-1700053200@kalenteri.niemikoti.fi
SUMMARY:Yhteisöpäivä Malmilla klo 9-13
DESCRIPTION:Yhteisöpäivä\, Malmin päivätoimintakeskus auki klo 9-13. Ilmoittaudu mukaan!
URL:https://kalenteri.niemikoti.fi/tapahtuma/yhteisopaiva-malmilla-klo-9-13-4/2023-11-15/
LOCATION:Malmin päivätoimintakeskus\, Vanha Helsingintie 9\, Helsinki\, 00700\, Finland
CATEGORIES:Malmin päivätoimintakeskus
END:VEVENT
BEGIN:VEVENT
DTSTART;TZID=Europe/Helsinki:20231115T090000
DTEND;TZID=Europe/Helsinki:20231115T150000
DTSTAMP:20260426T041124
CREATED:20230531T125715Z
LAST-MODIFIED:20230811T074137Z
UID:10001540-1700038800-1700060400@kalenteri.niemikoti.fi
SUMMARY:Yhteisöpäivä klo 9-15
DESCRIPTION:Yhteisöpäivä\, Villa Borgis auki klo 9-15\, täydentyvä ryhmä\, ilmoittaudu.
URL:https://kalenteri.niemikoti.fi/tapahtuma/yhteisopaiva-klo-9-15/2023-11-15/
LOCATION:Toimintakeskus Villa Borgis\, Linnavuorentie 13\, Helsinki\, 00950\, Finland
CATEGORIES:Toimintakeskus Villa Borgis
END:VEVENT
BEGIN:VEVENT
DTSTART;TZID=Europe/Helsinki:20231115T100000
DTEND;TZID=Europe/Helsinki:20231115T103000
DTSTAMP:20260426T041124
CREATED:20230531T081915Z
LAST-MODIFIED:20240205T125027Z
UID:10001652-1700042400-1700044200@kalenteri.niemikoti.fi
SUMMARY:Yhteisöpäivän aamukokous
DESCRIPTION:Yhteisöpäivän aamukokouksessa käydään läpi päivän ohjelmaa\, tapahtumia\, yhteisötehtäviä ja muita ajankohtaisia asioita.
URL:https://kalenteri.niemikoti.fi/tapahtuma/yhteisopaivan-aamukokous/2023-11-15/
LOCATION:Toimintakeskus Villa Borgis\, Linnavuorentie 13\, Helsinki\, 00950\, Finland
CATEGORIES:Toimintakeskus Villa Borgis
END:VEVENT
BEGIN:VEVENT
DTSTART;TZID=Europe/Helsinki:20231115T100000
DTEND;TZID=Europe/Helsinki:20231115T103000
DTSTAMP:20260426T041124
CREATED:20230822T114233Z
LAST-MODIFIED:20240528T091641Z
UID:10003647-1700042400-1700044200@kalenteri.niemikoti.fi
SUMMARY:Yhteisöpäivän aamukokous Malmilla
DESCRIPTION:Yhteisöpäivän aamukokouksessa käydään läpi päivän ohjelma\, tulevat tapahtumat ja kuulumiskierros.
URL:https://kalenteri.niemikoti.fi/tapahtuma/yhteisopaivan-aamukokous-malmilla-3/2023-11-15/
LOCATION:Malmin päivätoimintakeskus\, Vanha Helsingintie 9\, Helsinki\, 00700\, Finland
CATEGORIES:Malmin päivätoimintakeskus
END:VEVENT
BEGIN:VEVENT
DTSTART;TZID=Europe/Helsinki:20231115T110000
DTEND;TZID=Europe/Helsinki:20231115T120000
DTSTAMP:20260426T041124
CREATED:20230809T083949Z
LAST-MODIFIED:20230822T123048Z
UID:10003564-1700046000-1700049600@kalenteri.niemikoti.fi
SUMMARY:Valoa kaamokseen -keskusteluryhmä
DESCRIPTION:Etsitään valonpilkahduksia ja hyvää oloa syksyn keskelle yhdessä keskustellen. Ilmoittaudu.
URL:https://kalenteri.niemikoti.fi/tapahtuma/valoa-kaamokseen-keskusteluryhma/2023-11-15/
LOCATION:Toimintakeskus Villa Borgis\, Linnavuorentie 13\, Helsinki\, 00950\, Finland
CATEGORIES:Toimintakeskus Villa Borgis
END:VEVENT
BEGIN:VEVENT
DTSTART;TZID=Europe/Helsinki:20231115T130000
DTEND;TZID=Europe/Helsinki:20231115T143000
DTSTAMP:20260426T041124
CREATED:20231016T061706Z
LAST-MODIFIED:20231016T061706Z
UID:10003792-1700053200-1700058600@kalenteri.niemikoti.fi
SUMMARY:Kohtaamistaide (6 krt)
DESCRIPTION:Moniaistillista ja yllätyksellistä kuvataidetta. Max. 8 osallistujaa\, ilmoittaudu mukaan!
URL:https://kalenteri.niemikoti.fi/tapahtuma/kohtaamistaide-6-krt/2023-11-15/
LOCATION:Malmin päivätoimintakeskus\, Vanha Helsingintie 9\, Helsinki\, 00700\, Finland
CATEGORIES:Malmin päivätoimintakeskus
ATTACH;FMTTYPE=image/jpeg:https://kalenteri.niemikoti.fi/wp-content/uploads/2023/10/Kohtaamistaide-2023.jpg
END:VEVENT
BEGIN:VEVENT
DTSTART;TZID=Europe/Helsinki:20231115T140000
DTEND;TZID=Europe/Helsinki:20231115T143000
DTSTAMP:20260426T041124
CREATED:20230607T051246Z
LAST-MODIFIED:20250107T131756Z
UID:10001311-1700056800-1700058600@kalenteri.niemikoti.fi
SUMMARY:Yhteisöpäivän päiväkahvit
DESCRIPTION:Päiväkahvit kuuluvat aamiaisen ja/tai lounaan hintaan\, muuten 1 €.
URL:https://kalenteri.niemikoti.fi/tapahtuma/yhteisopaivan-paivakahvit/2023-11-15/
LOCATION:Toimintakeskus Villa Borgis\, Linnavuorentie 13\, Helsinki\, 00950\, Finland
CATEGORIES:Toimintakeskus Villa Borgis
END:VEVENT
END:VCALENDAR