BEGIN:VCALENDAR
VERSION:2.0
PRODID:-//Tapahtumakalenteri - ECPv6.15.18//NONSGML v1.0//EN
CALSCALE:GREGORIAN
METHOD:PUBLISH
X-ORIGINAL-URL:https://kalenteri.niemikoti.fi
X-WR-CALDESC:Tapahtumat Tapahtumakalenteri
REFRESH-INTERVAL;VALUE=DURATION:PT1H
X-Robots-Tag:noindex
X-PUBLISHED-TTL:PT1H
BEGIN:VTIMEZONE
TZID:Europe/Helsinki
BEGIN:DAYLIGHT
TZOFFSETFROM:+0200
TZOFFSETTO:+0300
TZNAME:EEST
DTSTART:20230326T010000
END:DAYLIGHT
BEGIN:STANDARD
TZOFFSETFROM:+0300
TZOFFSETTO:+0200
TZNAME:EET
DTSTART:20231029T010000
END:STANDARD
BEGIN:DAYLIGHT
TZOFFSETFROM:+0200
TZOFFSETTO:+0300
TZNAME:EEST
DTSTART:20240331T010000
END:DAYLIGHT
BEGIN:STANDARD
TZOFFSETFROM:+0300
TZOFFSETTO:+0200
TZNAME:EET
DTSTART:20241027T010000
END:STANDARD
BEGIN:DAYLIGHT
TZOFFSETFROM:+0200
TZOFFSETTO:+0300
TZNAME:EEST
DTSTART:20250330T010000
END:DAYLIGHT
BEGIN:STANDARD
TZOFFSETFROM:+0300
TZOFFSETTO:+0200
TZNAME:EET
DTSTART:20251026T010000
END:STANDARD
END:VTIMEZONE
BEGIN:VEVENT
DTSTART;TZID=Europe/Helsinki:20240212T090000
DTEND;TZID=Europe/Helsinki:20240212T130000
DTSTAMP:20260420T075108
CREATED:20230815T052225Z
LAST-MODIFIED:20240109T140543Z
UID:10004715-1707728400-1707742800@kalenteri.niemikoti.fi
SUMMARY:Yhteisöpäivä Malmilla klo 9-13
DESCRIPTION:Yhteisöpäivä\, Malmin päivätoimintakeskus auki klo 9-13. Ilmoittaudu mukaan!
URL:https://kalenteri.niemikoti.fi/tapahtuma/yhteisopaiva-malmilla-klo-9-13/2024-02-12/
LOCATION:Malmin päivätoimintakeskus\, Vanha Helsingintie 9\, Helsinki\, 00700\, Finland
CATEGORIES:Malmin päivätoimintakeskus
END:VEVENT
BEGIN:VEVENT
DTSTART;TZID=Europe/Helsinki:20240212T090000
DTEND;TZID=Europe/Helsinki:20240216T160000
DTSTAMP:20260420T075108
CREATED:20240129T152312Z
LAST-MODIFIED:20240129T152312Z
UID:10005811-1707728400-1708099200@kalenteri.niemikoti.fi
SUMMARY:Kulttuuripaja Elviksen talvileiri Kesäharjussa
DESCRIPTION:Leirillä on tilaa\, joten jos olet niemikotisäätiöläisiä ja iältäsi 18-35v. ja haluat leireilemään\, niin ota yhteyttä ASAP Elvikseen! Leirin ohjelmassa mm. ulkoilua\, joogaa\, kuvista\, kädentaitoja\, lautapelejä\, musisointia\, pilkkiretki\, pulkkamäki\, nokipannukaffet ja leffan katselua. Leirin hinta 105€ ja se sisältää matkat\, ruuat (aamupala\, lounas\, päiväkahvit ja iltapala)\, liinavaatteet ja ohjelman.
URL:https://kalenteri.niemikoti.fi/tapahtuma/kulttuuripaja-elviksen-talvileiri-kesaharjussa/
CATEGORIES:Kulttuuripaja ELVIS
ATTACH;FMTTYPE=image/png:https://kalenteri.niemikoti.fi/wp-content/uploads/2024/01/Elviksen-talvileiri-2024.png
END:VEVENT
BEGIN:VEVENT
DTSTART;TZID=Europe/Helsinki:20240212T093000
DTEND;TZID=Europe/Helsinki:20240212T130000
DTSTAMP:20260420T075108
CREATED:20240205T130501Z
LAST-MODIFIED:20240205T130501Z
UID:10005819-1707730200-1707742800@kalenteri.niemikoti.fi
SUMMARY:Retki Korkeasaaren ilmaispäivään
DESCRIPTION:Villa Borgiksen yhteisö tekee retken Korkeasaareen. Tapaamme kauppakeskus Redin infopisteellä klo 9.30 ja kävelemme Mustikkamaan kautta Korkeasaareen\, matkaa n. 1 km. Säänmukainen pukeutuminen ja hyvät kävelykengät ovat tarpeen. Mukaan voi halutessaan ottaa kahvirahan.
URL:https://kalenteri.niemikoti.fi/tapahtuma/retki-korkeasaaren-ilmaispaivaan/
CATEGORIES:Toimintakeskus Villa Borgis
END:VEVENT
BEGIN:VEVENT
DTSTART;TZID=Europe/Helsinki:20240212T100000
DTEND;TZID=Europe/Helsinki:20240212T103000
DTSTAMP:20260420T075108
CREATED:20230815T052928Z
LAST-MODIFIED:20240109T140543Z
UID:10004689-1707732000-1707733800@kalenteri.niemikoti.fi
SUMMARY:Yhteisöpäivän aamukokous Malmilla
DESCRIPTION:Yhteisöpäivän aamukokouksessa käydään läpi päivän ohjelma\, tulevat tapahtumat ja kuulumiskierros.
URL:https://kalenteri.niemikoti.fi/tapahtuma/yhteisopaivan-aamukokous-malmilla/2024-02-12/
LOCATION:Malmin päivätoimintakeskus\, Vanha Helsingintie 9\, Helsinki\, 00700\, Finland
CATEGORIES:Malmin päivätoimintakeskus
END:VEVENT
BEGIN:VEVENT
DTSTART;TZID=Europe/Helsinki:20240212T123000
DTEND;TZID=Europe/Helsinki:20240212T160000
DTSTAMP:20260420T075108
CREATED:20240129T121752Z
LAST-MODIFIED:20240403T070846Z
UID:10006080-1707741000-1707753600@kalenteri.niemikoti.fi
SUMMARY:Iloa ulkoilusta -liikuntaryhmä
DESCRIPTION:Iloa ulkoilusta -liikuntaryhmä klo 12.30-16.00. Lähtö Malmin päivätoimintakeskukselta klo 12.30. \n8.4. Geokätköily \n15.4. Kävely Seurasaaressa \n22.4. Malmin ulkokuntosali (paluu klo 15 mennessä) \n29.4. Kivinokan esteetön luontopolku ja lintulava \nIlmoittaudu mukaan!
URL:https://kalenteri.niemikoti.fi/tapahtuma/liiku-ja-innostu-liikuntaryhma/2024-02-12/
LOCATION:Malmin päivätoimintakeskus\, Vanha Helsingintie 9\, Helsinki\, 00700\, Finland
CATEGORIES:Malmin päivätoimintakeskus
ATTACH;FMTTYPE=image/jpeg:https://kalenteri.niemikoti.fi/wp-content/uploads/2024/01/Iloa_liikunnasta.jpg
END:VEVENT
BEGIN:VEVENT
DTSTART;TZID=Europe/Helsinki:20240212T124500
DTEND;TZID=Europe/Helsinki:20240212T170000
DTSTAMP:20260420T075108
CREATED:20240212T101551Z
LAST-MODIFIED:20240212T101654Z
UID:10005888-1707741900-1707757200@kalenteri.niemikoti.fi
SUMMARY:Olemme keilausretkellä – Malmin päivätoimintakeskus suljetaan klo 12.45
DESCRIPTION:Olemme keilausretkellä – Malmin päivätoimintakeskus suljetaan klo 12.45
URL:https://kalenteri.niemikoti.fi/tapahtuma/olemme-keilausretkella-malmin-paivatoimintakeskus-suljetaan-klo-12-45/
LOCATION:Malmin päivätoimintakeskus\, Vanha Helsingintie 9\, Helsinki\, 00700\, Finland
CATEGORIES:Malmin päivätoimintakeskus
END:VEVENT
BEGIN:VEVENT
DTSTART;TZID=Europe/Helsinki:20240212T140000
DTEND;TZID=Europe/Helsinki:20240212T143000
DTSTAMP:20260420T075108
CREATED:20230607T051246Z
LAST-MODIFIED:20250107T131756Z
UID:10013935-1707746400-1707748200@kalenteri.niemikoti.fi
SUMMARY:Yhteisöpäivän päiväkahvit
DESCRIPTION:Päiväkahvit kuuluvat aamiaisen ja/tai lounaan hintaan\, muuten 1 €.
URL:https://kalenteri.niemikoti.fi/tapahtuma/yhteisopaivan-paivakahvit/2024-02-12/
LOCATION:Toimintakeskus Villa Borgis\, Linnavuorentie 13\, Helsinki\, 00950\, Finland
CATEGORIES:Toimintakeskus Villa Borgis
END:VEVENT
BEGIN:VEVENT
DTSTART;TZID=Europe/Helsinki:20240212T140000
DTEND;TZID=Europe/Helsinki:20240212T150000
DTSTAMP:20260420T075108
CREATED:20240129T122207Z
LAST-MODIFIED:20240129T122207Z
UID:10005287-1707746400-1707750000@kalenteri.niemikoti.fi
SUMMARY:Avoin info
DESCRIPTION:Toiminnan ja tilojen esittely kaikille toiminnasta kiinnostuneille. Ei ilmoittautumista. Tervetuloa!
URL:https://kalenteri.niemikoti.fi/tapahtuma/avoin-info-2/
LOCATION:Malmin päivätoimintakeskus\, Vanha Helsingintie 9\, Helsinki\, 00700\, Finland
CATEGORIES:Malmin päivätoimintakeskus
END:VEVENT
END:VCALENDAR