BEGIN:VCALENDAR
VERSION:2.0
PRODID:-//Tapahtumakalenteri - ECPv6.15.18//NONSGML v1.0//EN
CALSCALE:GREGORIAN
METHOD:PUBLISH
X-ORIGINAL-URL:https://kalenteri.niemikoti.fi
X-WR-CALDESC:Tapahtumat Tapahtumakalenteri
REFRESH-INTERVAL;VALUE=DURATION:PT1H
X-Robots-Tag:noindex
X-PUBLISHED-TTL:PT1H
BEGIN:VTIMEZONE
TZID:Europe/Helsinki
BEGIN:DAYLIGHT
TZOFFSETFROM:+0200
TZOFFSETTO:+0300
TZNAME:EEST
DTSTART:20240331T010000
END:DAYLIGHT
BEGIN:STANDARD
TZOFFSETFROM:+0300
TZOFFSETTO:+0200
TZNAME:EET
DTSTART:20241027T010000
END:STANDARD
BEGIN:DAYLIGHT
TZOFFSETFROM:+0200
TZOFFSETTO:+0300
TZNAME:EEST
DTSTART:20250330T010000
END:DAYLIGHT
BEGIN:STANDARD
TZOFFSETFROM:+0300
TZOFFSETTO:+0200
TZNAME:EET
DTSTART:20251026T010000
END:STANDARD
BEGIN:DAYLIGHT
TZOFFSETFROM:+0200
TZOFFSETTO:+0300
TZNAME:EEST
DTSTART:20260329T010000
END:DAYLIGHT
BEGIN:STANDARD
TZOFFSETFROM:+0300
TZOFFSETTO:+0200
TZNAME:EET
DTSTART:20261025T010000
END:STANDARD
END:VTIMEZONE
BEGIN:VEVENT
DTSTART;TZID=Europe/Helsinki:20250630T080000
DTEND;TZID=Europe/Helsinki:20250810T160000
DTSTAMP:20260419T203958
CREATED:20250612T134052Z
LAST-MODIFIED:20250612T134052Z
UID:10023265-1751270400-1754841600@kalenteri.niemikoti.fi
SUMMARY:Päivätoimintakeskus kiinni 30.6.-10.8.
DESCRIPTION:Malmin päivätoimintakeskus on kiinni 30.6.-10.8.2025. \nPäivätoiminnan yhteinen ja kaikille avoin kesätoiminta 30.6.-1.8. Toimintakeskus Villa Borgiksessa\, Linnavuorentie 13. \nKesäleiri Kesäharjussa 28.7.-1.8.2025 (ilmoittautuneille).
URL:https://kalenteri.niemikoti.fi/tapahtuma/paivatoimintakeskus-kiinni-30-6-10-8/
LOCATION:Malmin päivätoimintakeskus\, Vanha Helsingintie 9\, Helsinki\, 00700\, Finland
CATEGORIES:Malmin päivätoimintakeskus
ATTACH;FMTTYPE=image/png:https://kalenteri.niemikoti.fi/wp-content/uploads/2025/06/Avoin-kesatoiminta-2025.png
END:VEVENT
BEGIN:VEVENT
DTSTART;VALUE=DATE:20250728
DTEND;VALUE=DATE:20250802
DTSTAMP:20260419T203958
CREATED:20250612T134948Z
LAST-MODIFIED:20250612T135358Z
UID:10023267-1753660800-1754092799@kalenteri.niemikoti.fi
SUMMARY:Päivätoiminnan kesäleiri
DESCRIPTION:Päivätoiminnan kesäleiri Iitin Kesäharjussa 28.7.-1.8.2025. \n  \nIlmoittautumiset 10.7. mennessä: \nMalmin päivätoimintakeskus: 050-4040025\, malmi@niemikoti.fi \nToimintakeskus Villa Borgis: 0400-560176\, villaborgis@niemikoti.fi
URL:https://kalenteri.niemikoti.fi/tapahtuma/paivatoiminnan-kesaleiri/
LOCATION:Malmin päivätoimintakeskus\, Vanha Helsingintie 9\, Helsinki\, 00700\, Finland
CATEGORIES:Malmin päivätoimintakeskus,Toimintakeskus Villa Borgis
ATTACH;FMTTYPE=image/jpeg:https://kalenteri.niemikoti.fi/wp-content/uploads/2025/06/Kesaleiri_2025.jpg
END:VEVENT
BEGIN:VEVENT
DTSTART;TZID=Europe/Helsinki:20250730T100000
DTEND;TZID=Europe/Helsinki:20250730T150000
DTSTAMP:20260419T203958
CREATED:20250618T065641Z
LAST-MODIFIED:20250618T065641Z
UID:10023300-1753869600-1753887600@kalenteri.niemikoti.fi
SUMMARY:Kierrättävä kesä Villa Borgiksessa
DESCRIPTION:Avoimen kesätoiminnan ajan 30.6.-1.8.2025 Toimintakeskus Villa Borgiksessa on pieni kierrätyspiste\, jonne voit tuoda tarpeettomaksi jääneitä puhtaita ja ehjiä vaatteita/tavaroita ja ottaa tarvitsemasi. Kierrätyspiste on avoinna aukioloaikojen mukaan ma-ke klo 10-15\, pe 10-13 (torstait ovat retkipäiviä).
URL:https://kalenteri.niemikoti.fi/tapahtuma/kierrattava-kesa-villa-borgiksessa/2025-07-30/
LOCATION:Toimintakeskus Villa Borgis\, Linnavuorentie 13\, Helsinki\, 00950\, Finland
CATEGORIES:Toimintakeskus Villa Borgis
ATTACH;FMTTYPE=image/jpeg:https://kalenteri.niemikoti.fi/wp-content/uploads/2025/06/kierrattavakesaVB.jpg
END:VEVENT
BEGIN:VEVENT
DTSTART;TZID=Europe/Helsinki:20250730T103000
DTEND;TZID=Europe/Helsinki:20250730T120000
DTSTAMP:20260419T203958
CREATED:20250522T073754Z
LAST-MODIFIED:20250523T065712Z
UID:10022695-1753871400-1753876800@kalenteri.niemikoti.fi
SUMMARY:Soppakokit
DESCRIPTION:Tehdään yhdessä ruokaa. Ruoan hinta ryhmään osallistuville 2 €.
URL:https://kalenteri.niemikoti.fi/tapahtuma/soppakokit-10/2025-07-30/
LOCATION:Toimintakeskus Villa Borgis\, Linnavuorentie 13\, Helsinki\, 00950\, Finland
CATEGORIES:Toimintakeskus Villa Borgis
END:VEVENT
BEGIN:VEVENT
DTSTART;TZID=Europe/Helsinki:20250730T110000
DTEND;TZID=Europe/Helsinki:20250730T130000
DTSTAMP:20260419T203958
CREATED:20250527T074759Z
LAST-MODIFIED:20250527T074759Z
UID:10023226-1753873200-1753880400@kalenteri.niemikoti.fi
SUMMARY:Pleikkapelit
DESCRIPTION:Villa Borgiksessa on monipuolinen valikoima playstation 4:n pelejä. Pelattava peli valitaan osallistujien kesken.
URL:https://kalenteri.niemikoti.fi/tapahtuma/pleikkapelit-3/2025-07-30/
LOCATION:Toimintakeskus Villa Borgis\, Linnavuorentie 13\, Helsinki\, 00950\, Finland
CATEGORIES:Toimintakeskus Villa Borgis
END:VEVENT
BEGIN:VEVENT
DTSTART;TZID=Europe/Helsinki:20250730T130000
DTEND;TZID=Europe/Helsinki:20250730T150000
DTSTAMP:20260419T203958
CREATED:20250522T075722Z
LAST-MODIFIED:20250924T123220Z
UID:10022974-1753880400-1753887600@kalenteri.niemikoti.fi
SUMMARY:Viherpeukalot – luonto- ja puutarharyhmä
DESCRIPTION:Puutarhan ja pihan hoitoa ym. luontoon liittyvää toimintaa.
URL:https://kalenteri.niemikoti.fi/tapahtuma/viherpeukalot-luonto-ja-puutarharyhma-2/2025-07-30/
LOCATION:Toimintakeskus Villa Borgis\, Linnavuorentie 13\, Helsinki\, 00950\, Finland
CATEGORIES:Toimintakeskus Villa Borgis
ATTACH;FMTTYPE=image/jpeg:https://kalenteri.niemikoti.fi/wp-content/uploads/2025/05/Viherpeukalot-2.jpg
END:VEVENT
END:VCALENDAR