BEGIN:VCALENDAR
VERSION:2.0
PRODID:-//Tapahtumakalenteri - ECPv6.15.18//NONSGML v1.0//EN
CALSCALE:GREGORIAN
METHOD:PUBLISH
X-ORIGINAL-URL:https://kalenteri.niemikoti.fi
X-WR-CALDESC:Tapahtumat Tapahtumakalenteri
REFRESH-INTERVAL;VALUE=DURATION:PT1H
X-Robots-Tag:noindex
X-PUBLISHED-TTL:PT1H
BEGIN:VTIMEZONE
TZID:Europe/Helsinki
BEGIN:DAYLIGHT
TZOFFSETFROM:+0200
TZOFFSETTO:+0300
TZNAME:EEST
DTSTART:20240331T010000
END:DAYLIGHT
BEGIN:STANDARD
TZOFFSETFROM:+0300
TZOFFSETTO:+0200
TZNAME:EET
DTSTART:20241027T010000
END:STANDARD
BEGIN:DAYLIGHT
TZOFFSETFROM:+0200
TZOFFSETTO:+0300
TZNAME:EEST
DTSTART:20250330T010000
END:DAYLIGHT
BEGIN:STANDARD
TZOFFSETFROM:+0300
TZOFFSETTO:+0200
TZNAME:EET
DTSTART:20251026T010000
END:STANDARD
BEGIN:DAYLIGHT
TZOFFSETFROM:+0200
TZOFFSETTO:+0300
TZNAME:EEST
DTSTART:20260329T010000
END:DAYLIGHT
BEGIN:STANDARD
TZOFFSETFROM:+0300
TZOFFSETTO:+0200
TZNAME:EET
DTSTART:20261025T010000
END:STANDARD
END:VTIMEZONE
BEGIN:VEVENT
DTSTART;TZID=Europe/Helsinki:20250826T090000
DTEND;TZID=Europe/Helsinki:20250826T100000
DTSTAMP:20260423T220119
CREATED:20250810T183356Z
LAST-MODIFIED:20250811T005052Z
UID:10023631-1756198800-1756202400@kalenteri.niemikoti.fi
SUMMARY:Yhteisön aamiainen
DESCRIPTION:Aamiainen yhteisöpäivän kävijöille. Aamiainen sisältää puuroa\, leipää ja leivänpäällisiä\, kahvia tai teetä sekä mehua. Aamiaisen hinta on 1\,50€.
URL:https://kalenteri.niemikoti.fi/tapahtuma/yhteison-aamiainen-2/2025-08-26/
LOCATION:Malmin päivätoimintakeskus\, Vanha Helsingintie 9\, Helsinki\, 00700\, Finland
CATEGORIES:Malmin päivätoimintakeskus
END:VEVENT
BEGIN:VEVENT
DTSTART;TZID=Europe/Helsinki:20250826T090000
DTEND;TZID=Europe/Helsinki:20250826T130000
DTSTAMP:20260423T220119
CREATED:20250810T183125Z
LAST-MODIFIED:20250811T004733Z
UID:10023347-1756198800-1756213200@kalenteri.niemikoti.fi
SUMMARY:Yhteisöpäivä
DESCRIPTION:Yhteisöpäivä klo 9-13 Malmin päivätoimintakeskuksessa. Ilmoittaudu mukaan! \nYhteisöpäivän ohjelma: \nKlo 9.00 Aamiainen \nKlo 10.00 Aamukokous \nKlo 10.30 Talon työt \nKlo 11.00 Toiminnallinen ryhmä \nKlo 12.00 Lounas
URL:https://kalenteri.niemikoti.fi/tapahtuma/yhteisopaiva-2/2025-08-26/
LOCATION:Malmin päivätoimintakeskus\, Vanha Helsingintie 9\, Helsinki\, 00700\, Finland
CATEGORIES:Malmin päivätoimintakeskus
END:VEVENT
BEGIN:VEVENT
DTSTART;TZID=Europe/Helsinki:20250826T103000
DTEND;TZID=Europe/Helsinki:20250826T120000
DTSTAMP:20260423T220119
CREATED:20240814T065248Z
LAST-MODIFIED:20260421T091527Z
UID:10025502-1756204200-1756209600@kalenteri.niemikoti.fi
SUMMARY:Borgiksen Picassot
DESCRIPTION:Kuvataideryhmä. Kaikille sopivaa kuvallista työskentelyä\, ei vaadi erityisosaamista.
URL:https://kalenteri.niemikoti.fi/tapahtuma/borgiksen-picassot-2/2025-08-26/
LOCATION:Toimintakeskus Villa Borgis\, Linnavuorentie 13\, Helsinki\, 00950\, Finland
CATEGORIES:Toimintakeskus Villa Borgis
ATTACH;FMTTYPE=image/jpeg:https://kalenteri.niemikoti.fi/wp-content/uploads/2024/08/Borgiksen-Picassot-1.jpg
END:VEVENT
BEGIN:VEVENT
DTSTART;TZID=Europe/Helsinki:20250826T110000
DTEND;TZID=Europe/Helsinki:20250826T120000
DTSTAMP:20260423T220119
CREATED:20250810T235145Z
LAST-MODIFIED:20250930T083042Z
UID:10024098-1756206000-1756209600@kalenteri.niemikoti.fi
SUMMARY:Musaraati
DESCRIPTION:Perinteinen levyraati. \nTäydentyvä ryhmä\, ilmoittaudu mukaan.
URL:https://kalenteri.niemikoti.fi/tapahtuma/musaraati-2/2025-08-26/
LOCATION:Malmin päivätoimintakeskus\, Vanha Helsingintie 9\, Helsinki\, 00700\, Finland
CATEGORIES:Malmin päivätoimintakeskus
ATTACH;FMTTYPE=image/jpeg:https://kalenteri.niemikoti.fi/wp-content/uploads/2025/08/Musaraati.jpg
END:VEVENT
BEGIN:VEVENT
DTSTART;TZID=Europe/Helsinki:20250826T120000
DTEND;TZID=Europe/Helsinki:20250826T130000
DTSTAMP:20260423T220119
CREATED:20250811T003503Z
LAST-MODIFIED:20250902T085611Z
UID:10024226-1756209600-1756213200@kalenteri.niemikoti.fi
SUMMARY:Yhteisön lounas
DESCRIPTION:Lounas yhteisöpäivän kävijöille. Lounaaseen sisältyy arkiruokaa\, salaatti ja kahvi sekä kahvileipä. Lounaan hinta on 3\,50€.
URL:https://kalenteri.niemikoti.fi/tapahtuma/yhteison-lounas-2/2025-08-26/
LOCATION:Malmin päivätoimintakeskus\, Vanha Helsingintie 9\, Helsinki\, 00700\, Finland
CATEGORIES:Malmin päivätoimintakeskus
END:VEVENT
BEGIN:VEVENT
DTSTART;TZID=Europe/Helsinki:20250826T130000
DTEND;TZID=Europe/Helsinki:20250826T140000
DTSTAMP:20260423T220119
CREATED:20250723T113437Z
LAST-MODIFIED:20250723T113437Z
UID:10023321-1756213200-1756216800@kalenteri.niemikoti.fi
SUMMARY:Yhteisön ohjelmaa
DESCRIPTION:Yhteisön omaa ohjelmaa\, esim. pelejä\, ulkoilua\, musiikin kuuntelua yms.
URL:https://kalenteri.niemikoti.fi/tapahtuma/yhteison-ohjelmaa-10/2025-08-26/
LOCATION:Toimintakeskus Villa Borgis\, Linnavuorentie 13\, Helsinki\, 00950\, Finland
CATEGORIES:Toimintakeskus Villa Borgis
END:VEVENT
BEGIN:VEVENT
DTSTART;TZID=Europe/Helsinki:20250826T130000
DTEND;TZID=Europe/Helsinki:20250826T150000
DTSTAMP:20260423T220119
CREATED:20250810T235536Z
LAST-MODIFIED:20250810T235536Z
UID:10024117-1756213200-1756220400@kalenteri.niemikoti.fi
SUMMARY:Kesähygge
DESCRIPTION:Rentoa yhdessäoloa jääteen äärellä sekä sirkustelua ja saippuakuplia Malmin kauniilla kesäpihalla. \nTäydentyvä ryhmä\, ilmoittaudu mukaan. \nEi ryhmää 5.8.
URL:https://kalenteri.niemikoti.fi/tapahtuma/kesahygge-2/2025-08-26/
LOCATION:Malmin päivätoimintakeskus\, Vanha Helsingintie 9\, Helsinki\, 00700\, Finland
CATEGORIES:Malmin päivätoimintakeskus
ATTACH;FMTTYPE=image/jpeg:https://kalenteri.niemikoti.fi/wp-content/uploads/2025/08/Kesahygge.jpg
END:VEVENT
BEGIN:VEVENT
DTSTART;TZID=Europe/Helsinki:20250826T140000
DTEND;TZID=Europe/Helsinki:20250826T153000
DTSTAMP:20260423T220119
CREATED:20250810T235753Z
LAST-MODIFIED:20250930T083434Z
UID:10024120-1756216800-1756222200@kalenteri.niemikoti.fi
SUMMARY:Jälleenvuokrauksen bändi
DESCRIPTION:Bändissä on vakiintunut kokoonpano. Lisätietoja bändistä voi kysyä ohjaajilta.
URL:https://kalenteri.niemikoti.fi/tapahtuma/jalleenvuokrauksen-bandi-4/2025-08-26/
LOCATION:Malmin päivätoimintakeskus\, Vanha Helsingintie 9\, Helsinki\, 00700\, Finland
CATEGORIES:Jälleenvuokraus,Malmin päivätoimintakeskus
END:VEVENT
END:VCALENDAR