BEGIN:VCALENDAR
VERSION:2.0
PRODID:-//Tapahtumakalenteri - ECPv6.15.18//NONSGML v1.0//EN
CALSCALE:GREGORIAN
METHOD:PUBLISH
X-ORIGINAL-URL:https://kalenteri.niemikoti.fi
X-WR-CALDESC:Tapahtumat Tapahtumakalenteri
REFRESH-INTERVAL;VALUE=DURATION:PT1H
X-Robots-Tag:noindex
X-PUBLISHED-TTL:PT1H
BEGIN:VTIMEZONE
TZID:Europe/Helsinki
BEGIN:DAYLIGHT
TZOFFSETFROM:+0200
TZOFFSETTO:+0300
TZNAME:EEST
DTSTART:20250330T010000
END:DAYLIGHT
BEGIN:STANDARD
TZOFFSETFROM:+0300
TZOFFSETTO:+0200
TZNAME:EET
DTSTART:20251026T010000
END:STANDARD
BEGIN:DAYLIGHT
TZOFFSETFROM:+0200
TZOFFSETTO:+0300
TZNAME:EEST
DTSTART:20260329T010000
END:DAYLIGHT
BEGIN:STANDARD
TZOFFSETFROM:+0300
TZOFFSETTO:+0200
TZNAME:EET
DTSTART:20261025T010000
END:STANDARD
BEGIN:DAYLIGHT
TZOFFSETFROM:+0200
TZOFFSETTO:+0300
TZNAME:EEST
DTSTART:20270328T010000
END:DAYLIGHT
BEGIN:STANDARD
TZOFFSETFROM:+0300
TZOFFSETTO:+0200
TZNAME:EET
DTSTART:20271031T010000
END:STANDARD
END:VTIMEZONE
BEGIN:VEVENT
DTSTART;TZID=Europe/Helsinki:20260408T110000
DTEND;TZID=Europe/Helsinki:20260408T130000
DTSTAMP:20260426T070415
CREATED:20260330T084413Z
LAST-MODIFIED:20260330T084413Z
UID:10036893-1775646000-1775653200@kalenteri.niemikoti.fi
SUMMARY:Pleikkapelit
DESCRIPTION:Playstation 4 -peliryhmä ELVIKSEN kävijöille.
URL:https://kalenteri.niemikoti.fi/tapahtuma/pleikkapelit-4/2026-04-08/
LOCATION:Kulttuuripaja ELVIS\, Lautatarhankatu 4\, Helsinki\, 00580\, Finland
CATEGORIES:Kulttuuripaja ELVIS
END:VEVENT
BEGIN:VEVENT
DTSTART;TZID=Europe/Helsinki:20260408T143000
DTEND;TZID=Europe/Helsinki:20260408T170000
DTSTAMP:20260426T070415
CREATED:20260330T093917Z
LAST-MODIFIED:20260330T093917Z
UID:10036906-1775658600-1775667600@kalenteri.niemikoti.fi
SUMMARY:Kässä&kuvis
DESCRIPTION:Kässää ja kuvista vaihtuvin teemoin.
URL:https://kalenteri.niemikoti.fi/tapahtuma/kassakuvis/2026-04-08/
CATEGORIES:Kulttuuripaja ELVIS
END:VEVENT
BEGIN:VEVENT
DTSTART;TZID=Europe/Helsinki:20260409T150000
DTEND;TZID=Europe/Helsinki:20260409T163000
DTSTAMP:20260426T070415
CREATED:20260330T103347Z
LAST-MODIFIED:20260330T103347Z
UID:10036954-1775746800-1775752200@kalenteri.niemikoti.fi
SUMMARY:Kirjoituspaja
DESCRIPTION:Vaihtuvia kirjoitusharjoituksia.
URL:https://kalenteri.niemikoti.fi/tapahtuma/kirjoituspaja-2/
CATEGORIES:Kulttuuripaja ELVIS
END:VEVENT
BEGIN:VEVENT
DTSTART;TZID=Europe/Helsinki:20260410T100000
DTEND;TZID=Europe/Helsinki:20260410T140000
DTSTAMP:20260426T070415
CREATED:20260330T130044Z
LAST-MODIFIED:20260330T130044Z
UID:10036979-1775815200-1775829600@kalenteri.niemikoti.fi
SUMMARY:Retki Nuuksioon
DESCRIPTION:Lähtö ELVIKSESTÄ klo 10. Ennakkoilmoittautuminen.
URL:https://kalenteri.niemikoti.fi/tapahtuma/retki-nuuksioon/
CATEGORIES:Kulttuuripaja ELVIS
END:VEVENT
BEGIN:VEVENT
DTSTART;TZID=Europe/Helsinki:20260413T123000
DTEND;TZID=Europe/Helsinki:20260413T140000
DTSTAMP:20260426T070415
CREATED:20260330T100545Z
LAST-MODIFIED:20260330T100545Z
UID:10036942-1776083400-1776088800@kalenteri.niemikoti.fi
SUMMARY:Rentouttava jooga
DESCRIPTION:Rentouttavaa ja rauhoittavaa joogaa.
URL:https://kalenteri.niemikoti.fi/tapahtuma/rentouttava-jooga/2026-04-13/
CATEGORIES:Kulttuuripaja ELVIS
END:VEVENT
BEGIN:VEVENT
DTSTART;TZID=Europe/Helsinki:20260413T130000
DTEND;TZID=Europe/Helsinki:20260413T140000
DTSTAMP:20260426T070415
CREATED:20260330T125421Z
LAST-MODIFIED:20260330T125421Z
UID:10036967-1776085200-1776088800@kalenteri.niemikoti.fi
SUMMARY:Shakkikerho
DESCRIPTION:Pelataan yhdessä shakkia.
URL:https://kalenteri.niemikoti.fi/tapahtuma/shakkikerho/
CATEGORIES:Kulttuuripaja ELVIS
END:VEVENT
BEGIN:VEVENT
DTSTART;TZID=Europe/Helsinki:20260413T140000
DTEND;TZID=Europe/Helsinki:20260413T160000
DTSTAMP:20260426T070415
CREATED:20260330T125833Z
LAST-MODIFIED:20260330T125833Z
UID:10036968-1776088800-1776096000@kalenteri.niemikoti.fi
SUMMARY:Hygge
DESCRIPTION:Rentoa vapaamuotoista yhdessäoloa. Teetä tarjolla.
URL:https://kalenteri.niemikoti.fi/tapahtuma/hygge-2/2026-04-13/
CATEGORIES:Kulttuuripaja ELVIS
END:VEVENT
BEGIN:VEVENT
DTSTART;TZID=Europe/Helsinki:20260413T150000
DTEND;TZID=Europe/Helsinki:20260413T160000
DTSTAMP:20260426T070415
CREATED:20260330T101017Z
LAST-MODIFIED:20260330T101017Z
UID:10036945-1776092400-1776096000@kalenteri.niemikoti.fi
SUMMARY:Pajakokous
DESCRIPTION:Kokouksessa keskustellaan mitä pajalla lähiaikoina tapahtuu ja suunnitellaan yhdessä tulevaa.
URL:https://kalenteri.niemikoti.fi/tapahtuma/pajakokous/
CATEGORIES:Kulttuuripaja ELVIS
END:VEVENT
BEGIN:VEVENT
DTSTART;TZID=Europe/Helsinki:20260413T160000
DTEND;TZID=Europe/Helsinki:20260413T180000
DTSTAMP:20260426T070415
CREATED:20260330T101513Z
LAST-MODIFIED:20260330T130939Z
UID:10036946-1776096000-1776103200@kalenteri.niemikoti.fi
SUMMARY:Disko
DESCRIPTION:Diskomusaa\, nyyttärit. Voit ottaa jonkun läheisesi mukaan.
URL:https://kalenteri.niemikoti.fi/tapahtuma/huhtijamit/
CATEGORIES:Kulttuuripaja ELVIS
END:VEVENT
BEGIN:VEVENT
DTSTART;TZID=Europe/Helsinki:20260414T120000
DTEND;TZID=Europe/Helsinki:20260414T150000
DTSTAMP:20260426T070415
CREATED:20260330T095533Z
LAST-MODIFIED:20260330T095533Z
UID:10036931-1776168000-1776178800@kalenteri.niemikoti.fi
SUMMARY:Lauta- ja korttipelit
DESCRIPTION:Porukalla päätetään mitä pelejä pelataan.
URL:https://kalenteri.niemikoti.fi/tapahtuma/lauta-ja-korttipelit/2026-04-14/
CATEGORIES:Kulttuuripaja ELVIS
END:VEVENT
BEGIN:VEVENT
DTSTART;TZID=Europe/Helsinki:20260414T150000
DTEND;TZID=Europe/Helsinki:20260414T163000
DTSTAMP:20260426T070415
CREATED:20260330T102301Z
LAST-MODIFIED:20260330T102301Z
UID:10036947-1776178800-1776184200@kalenteri.niemikoti.fi
SUMMARY:"Median metkut" -mediapaja
DESCRIPTION:Tehdään ja opitaan yhdessä; medialukutaito\, videokuvaus\, ääniefektointi\, visuaalinen tarinankerronta\, ideat näkyväksi…
URL:https://kalenteri.niemikoti.fi/tapahtuma/median-metkut-mediapaja/2026-04-14/
CATEGORIES:Kulttuuripaja ELVIS
END:VEVENT
BEGIN:VEVENT
DTSTART;TZID=Europe/Helsinki:20260415T110000
DTEND;TZID=Europe/Helsinki:20260415T130000
DTSTAMP:20260426T070415
CREATED:20260330T084413Z
LAST-MODIFIED:20260330T084413Z
UID:10036894-1776250800-1776258000@kalenteri.niemikoti.fi
SUMMARY:Pleikkapelit
DESCRIPTION:Playstation 4 -peliryhmä ELVIKSEN kävijöille.
URL:https://kalenteri.niemikoti.fi/tapahtuma/pleikkapelit-4/2026-04-15/
LOCATION:Kulttuuripaja ELVIS\, Lautatarhankatu 4\, Helsinki\, 00580\, Finland
CATEGORIES:Kulttuuripaja ELVIS
END:VEVENT
BEGIN:VEVENT
DTSTART;TZID=Europe/Helsinki:20260415T143000
DTEND;TZID=Europe/Helsinki:20260415T170000
DTSTAMP:20260426T070415
CREATED:20260330T093917Z
LAST-MODIFIED:20260330T093917Z
UID:10036907-1776263400-1776272400@kalenteri.niemikoti.fi
SUMMARY:Kässä&kuvis
DESCRIPTION:Kässää ja kuvista vaihtuvin teemoin.
URL:https://kalenteri.niemikoti.fi/tapahtuma/kassakuvis/2026-04-15/
CATEGORIES:Kulttuuripaja ELVIS
END:VEVENT
BEGIN:VEVENT
DTSTART;TZID=Europe/Helsinki:20260417T110000
DTEND;TZID=Europe/Helsinki:20260417T140000
DTSTAMP:20260426T070415
CREATED:20260330T130253Z
LAST-MODIFIED:20260330T130253Z
UID:10036980-1776423600-1776434400@kalenteri.niemikoti.fi
SUMMARY:Peliperjantai
DESCRIPTION:Pelailua sisällä tai ulkona säästä riippuen.
URL:https://kalenteri.niemikoti.fi/tapahtuma/peliperjantai-3/
CATEGORIES:Kulttuuripaja ELVIS
END:VEVENT
BEGIN:VEVENT
DTSTART;TZID=Europe/Helsinki:20260420T123000
DTEND;TZID=Europe/Helsinki:20260420T140000
DTSTAMP:20260426T070415
CREATED:20260330T100545Z
LAST-MODIFIED:20260330T100545Z
UID:10036943-1776688200-1776693600@kalenteri.niemikoti.fi
SUMMARY:Rentouttava jooga
DESCRIPTION:Rentouttavaa ja rauhoittavaa joogaa.
URL:https://kalenteri.niemikoti.fi/tapahtuma/rentouttava-jooga/2026-04-20/
CATEGORIES:Kulttuuripaja ELVIS
END:VEVENT
BEGIN:VEVENT
DTSTART;TZID=Europe/Helsinki:20260420T140000
DTEND;TZID=Europe/Helsinki:20260420T160000
DTSTAMP:20260426T070415
CREATED:20260330T125833Z
LAST-MODIFIED:20260330T125833Z
UID:10036969-1776693600-1776700800@kalenteri.niemikoti.fi
SUMMARY:Hygge
DESCRIPTION:Rentoa vapaamuotoista yhdessäoloa. Teetä tarjolla.
URL:https://kalenteri.niemikoti.fi/tapahtuma/hygge-2/2026-04-20/
CATEGORIES:Kulttuuripaja ELVIS
END:VEVENT
BEGIN:VEVENT
DTSTART;TZID=Europe/Helsinki:20260420T153000
DTEND;TZID=Europe/Helsinki:20260420T180000
DTSTAMP:20260426T070415
CREATED:20260330T104238Z
LAST-MODIFIED:20260330T104238Z
UID:10036956-1776699000-1776708000@kalenteri.niemikoti.fi
SUMMARY:Avoin bändi
DESCRIPTION:Tervetuloa soittamaan tai kuuntelemaan.
URL:https://kalenteri.niemikoti.fi/tapahtuma/avoin-bandi-2/2026-04-20/
CATEGORIES:Kulttuuripaja ELVIS
END:VEVENT
BEGIN:VEVENT
DTSTART;TZID=Europe/Helsinki:20260421T120000
DTEND;TZID=Europe/Helsinki:20260421T150000
DTSTAMP:20260426T070415
CREATED:20260330T095533Z
LAST-MODIFIED:20260330T095533Z
UID:10036932-1776772800-1776783600@kalenteri.niemikoti.fi
SUMMARY:Lauta- ja korttipelit
DESCRIPTION:Porukalla päätetään mitä pelejä pelataan.
URL:https://kalenteri.niemikoti.fi/tapahtuma/lauta-ja-korttipelit/2026-04-21/
CATEGORIES:Kulttuuripaja ELVIS
END:VEVENT
BEGIN:VEVENT
DTSTART;TZID=Europe/Helsinki:20260421T150000
DTEND;TZID=Europe/Helsinki:20260421T163000
DTSTAMP:20260426T070415
CREATED:20260330T102301Z
LAST-MODIFIED:20260330T102301Z
UID:10036948-1776783600-1776789000@kalenteri.niemikoti.fi
SUMMARY:"Median metkut" -mediapaja
DESCRIPTION:Tehdään ja opitaan yhdessä; medialukutaito\, videokuvaus\, ääniefektointi\, visuaalinen tarinankerronta\, ideat näkyväksi…
URL:https://kalenteri.niemikoti.fi/tapahtuma/median-metkut-mediapaja/2026-04-21/
CATEGORIES:Kulttuuripaja ELVIS
END:VEVENT
BEGIN:VEVENT
DTSTART;TZID=Europe/Helsinki:20260422T110000
DTEND;TZID=Europe/Helsinki:20260422T130000
DTSTAMP:20260426T070415
CREATED:20260330T084413Z
LAST-MODIFIED:20260330T084413Z
UID:10036895-1776855600-1776862800@kalenteri.niemikoti.fi
SUMMARY:Pleikkapelit
DESCRIPTION:Playstation 4 -peliryhmä ELVIKSEN kävijöille.
URL:https://kalenteri.niemikoti.fi/tapahtuma/pleikkapelit-4/2026-04-22/
LOCATION:Kulttuuripaja ELVIS\, Lautatarhankatu 4\, Helsinki\, 00580\, Finland
CATEGORIES:Kulttuuripaja ELVIS
END:VEVENT
BEGIN:VEVENT
DTSTART;TZID=Europe/Helsinki:20260422T143000
DTEND;TZID=Europe/Helsinki:20260422T170000
DTSTAMP:20260426T070415
CREATED:20260330T093917Z
LAST-MODIFIED:20260330T093917Z
UID:10036908-1776868200-1776877200@kalenteri.niemikoti.fi
SUMMARY:Kässä&kuvis
DESCRIPTION:Kässää ja kuvista vaihtuvin teemoin.
URL:https://kalenteri.niemikoti.fi/tapahtuma/kassakuvis/2026-04-22/
CATEGORIES:Kulttuuripaja ELVIS
END:VEVENT
BEGIN:VEVENT
DTSTART;TZID=Europe/Helsinki:20260423T150000
DTEND;TZID=Europe/Helsinki:20260423T163000
DTSTAMP:20260426T070415
CREATED:20260330T103741Z
LAST-MODIFIED:20260330T103741Z
UID:10036955-1776956400-1776961800@kalenteri.niemikoti.fi
SUMMARY:Lukupiiri
DESCRIPTION:Keskustellaan kirjoista\, joita ollaan viimeaikoina luettu.
URL:https://kalenteri.niemikoti.fi/tapahtuma/lukupiiri/
CATEGORIES:Kulttuuripaja ELVIS
END:VEVENT
BEGIN:VEVENT
DTSTART;TZID=Europe/Helsinki:20260424T110000
DTEND;TZID=Europe/Helsinki:20260424T140000
DTSTAMP:20260426T070415
CREATED:20260330T130602Z
LAST-MODIFIED:20260330T130602Z
UID:10036981-1777028400-1777039200@kalenteri.niemikoti.fi
SUMMARY:Retki Stefan Bremerin "Helsinki by Night" -näyttelyyn.
DESCRIPTION:Lähtö ELVIKSESTÄ klo 11 Hakasalmen huvilalle.
URL:https://kalenteri.niemikoti.fi/tapahtuma/retki-stefan-bremerin-helsinki-by-night-nayttelyyn/
CATEGORIES:Kulttuuripaja ELVIS
END:VEVENT
BEGIN:VEVENT
DTSTART;TZID=Europe/Helsinki:20260427T123000
DTEND;TZID=Europe/Helsinki:20260427T140000
DTSTAMP:20260426T070415
CREATED:20260330T100545Z
LAST-MODIFIED:20260330T100545Z
UID:10036944-1777293000-1777298400@kalenteri.niemikoti.fi
SUMMARY:Rentouttava jooga
DESCRIPTION:Rentouttavaa ja rauhoittavaa joogaa.
URL:https://kalenteri.niemikoti.fi/tapahtuma/rentouttava-jooga/2026-04-27/
CATEGORIES:Kulttuuripaja ELVIS
END:VEVENT
BEGIN:VEVENT
DTSTART;TZID=Europe/Helsinki:20260427T140000
DTEND;TZID=Europe/Helsinki:20260427T160000
DTSTAMP:20260426T070415
CREATED:20260330T125833Z
LAST-MODIFIED:20260330T125833Z
UID:10036970-1777298400-1777305600@kalenteri.niemikoti.fi
SUMMARY:Hygge
DESCRIPTION:Rentoa vapaamuotoista yhdessäoloa. Teetä tarjolla.
URL:https://kalenteri.niemikoti.fi/tapahtuma/hygge-2/2026-04-27/
CATEGORIES:Kulttuuripaja ELVIS
END:VEVENT
BEGIN:VEVENT
DTSTART;TZID=Europe/Helsinki:20260427T153000
DTEND;TZID=Europe/Helsinki:20260427T180000
DTSTAMP:20260426T070415
CREATED:20260330T104238Z
LAST-MODIFIED:20260330T104238Z
UID:10036957-1777303800-1777312800@kalenteri.niemikoti.fi
SUMMARY:Avoin bändi
DESCRIPTION:Tervetuloa soittamaan tai kuuntelemaan.
URL:https://kalenteri.niemikoti.fi/tapahtuma/avoin-bandi-2/2026-04-27/
CATEGORIES:Kulttuuripaja ELVIS
END:VEVENT
BEGIN:VEVENT
DTSTART;TZID=Europe/Helsinki:20260428T120000
DTEND;TZID=Europe/Helsinki:20260428T150000
DTSTAMP:20260426T070415
CREATED:20260330T095533Z
LAST-MODIFIED:20260330T095533Z
UID:10036933-1777377600-1777388400@kalenteri.niemikoti.fi
SUMMARY:Lauta- ja korttipelit
DESCRIPTION:Porukalla päätetään mitä pelejä pelataan.
URL:https://kalenteri.niemikoti.fi/tapahtuma/lauta-ja-korttipelit/2026-04-28/
CATEGORIES:Kulttuuripaja ELVIS
END:VEVENT
BEGIN:VEVENT
DTSTART;TZID=Europe/Helsinki:20260428T150000
DTEND;TZID=Europe/Helsinki:20260428T163000
DTSTAMP:20260426T070415
CREATED:20260330T102301Z
LAST-MODIFIED:20260330T102301Z
UID:10036949-1777388400-1777393800@kalenteri.niemikoti.fi
SUMMARY:"Median metkut" -mediapaja
DESCRIPTION:Tehdään ja opitaan yhdessä; medialukutaito\, videokuvaus\, ääniefektointi\, visuaalinen tarinankerronta\, ideat näkyväksi…
URL:https://kalenteri.niemikoti.fi/tapahtuma/median-metkut-mediapaja/2026-04-28/
CATEGORIES:Kulttuuripaja ELVIS
END:VEVENT
BEGIN:VEVENT
DTSTART;TZID=Europe/Helsinki:20260429T110000
DTEND;TZID=Europe/Helsinki:20260429T130000
DTSTAMP:20260426T070415
CREATED:20260330T084413Z
LAST-MODIFIED:20260330T084413Z
UID:10036896-1777460400-1777467600@kalenteri.niemikoti.fi
SUMMARY:Pleikkapelit
DESCRIPTION:Playstation 4 -peliryhmä ELVIKSEN kävijöille.
URL:https://kalenteri.niemikoti.fi/tapahtuma/pleikkapelit-4/2026-04-29/
LOCATION:Kulttuuripaja ELVIS\, Lautatarhankatu 4\, Helsinki\, 00580\, Finland
CATEGORIES:Kulttuuripaja ELVIS
END:VEVENT
BEGIN:VEVENT
DTSTART;TZID=Europe/Helsinki:20260429T143000
DTEND;TZID=Europe/Helsinki:20260429T170000
DTSTAMP:20260426T070415
CREATED:20260330T093917Z
LAST-MODIFIED:20260330T093917Z
UID:10036909-1777473000-1777482000@kalenteri.niemikoti.fi
SUMMARY:Kässä&kuvis
DESCRIPTION:Kässää ja kuvista vaihtuvin teemoin.
URL:https://kalenteri.niemikoti.fi/tapahtuma/kassakuvis/2026-04-29/
CATEGORIES:Kulttuuripaja ELVIS
END:VEVENT
END:VCALENDAR