BEGIN:VCALENDAR
VERSION:2.0
PRODID:-//Tapahtumakalenteri - ECPv6.15.18//NONSGML v1.0//EN
CALSCALE:GREGORIAN
METHOD:PUBLISH
X-WR-CALNAME:Tapahtumakalenteri
X-ORIGINAL-URL:https://kalenteri.niemikoti.fi
X-WR-CALDESC:Tapahtumat Tapahtumakalenteri
REFRESH-INTERVAL;VALUE=DURATION:PT1H
X-Robots-Tag:noindex
X-PUBLISHED-TTL:PT1H
BEGIN:VTIMEZONE
TZID:Europe/Helsinki
BEGIN:DAYLIGHT
TZOFFSETFROM:+0200
TZOFFSETTO:+0300
TZNAME:EEST
DTSTART:20250330T010000
END:DAYLIGHT
BEGIN:STANDARD
TZOFFSETFROM:+0300
TZOFFSETTO:+0200
TZNAME:EET
DTSTART:20251026T010000
END:STANDARD
BEGIN:DAYLIGHT
TZOFFSETFROM:+0200
TZOFFSETTO:+0300
TZNAME:EEST
DTSTART:20260329T010000
END:DAYLIGHT
BEGIN:STANDARD
TZOFFSETFROM:+0300
TZOFFSETTO:+0200
TZNAME:EET
DTSTART:20261025T010000
END:STANDARD
BEGIN:DAYLIGHT
TZOFFSETFROM:+0200
TZOFFSETTO:+0300
TZNAME:EEST
DTSTART:20270328T010000
END:DAYLIGHT
BEGIN:STANDARD
TZOFFSETFROM:+0300
TZOFFSETTO:+0200
TZNAME:EET
DTSTART:20271031T010000
END:STANDARD
END:VTIMEZONE
BEGIN:VEVENT
DTSTART;TZID=Europe/Helsinki:20260225T100000
DTEND;TZID=Europe/Helsinki:20260225T103000
DTSTAMP:20260423T175352
CREATED:20260112T105633Z
LAST-MODIFIED:20260303T072458Z
UID:10026131-1772013600-1772015400@kalenteri.niemikoti.fi
SUMMARY:Aamukokous Malmilla
DESCRIPTION:Kokoonnutaan yhteen vaihtamaan kuulumisia ja keskustellaan päivän ohjelmasta.
URL:https://kalenteri.niemikoti.fi/tapahtuma/aamukokous-malmilla/2026-02-25/
LOCATION:Malmin päivätoimintakeskus\, Vanha Helsingintie 9\, Helsinki\, 00700\, Finland
CATEGORIES:Malmin päivätoimintakeskus
END:VEVENT
BEGIN:VEVENT
DTSTART;TZID=Europe/Helsinki:20260225T103000
DTEND;TZID=Europe/Helsinki:20260225T110000
DTSTAMP:20260423T175352
CREATED:20260112T111935Z
LAST-MODIFIED:20260410T061604Z
UID:10030991-1772015400-1772017200@kalenteri.niemikoti.fi
SUMMARY:Talon töitä Malmilla
DESCRIPTION:Pidetään yhdessä huolta yhteisistä tiloista ja tiluksista. Osallistua voi omien voimavarojen mukaan.
URL:https://kalenteri.niemikoti.fi/tapahtuma/talon-toita-7/2026-02-25/
LOCATION:Malmin päivätoimintakeskus\, Vanha Helsingintie 9\, Helsinki\, 00700\, Finland
CATEGORIES:Malmin päivätoimintakeskus
END:VEVENT
BEGIN:VEVENT
DTSTART;TZID=Europe/Helsinki:20260225T110000
DTEND;TZID=Europe/Helsinki:20260225T120000
DTSTAMP:20260423T175352
CREATED:20260126T120107Z
LAST-MODIFIED:20260410T062215Z
UID:10032392-1772017200-1772020800@kalenteri.niemikoti.fi
SUMMARY:Siemenestä syötäväksi -hyötypuutarharyhmä
DESCRIPTION:Taimien kasvatusta\, hyötykasvitietoutta ja Malmin lavakauluspuutarhan hoitoa kokemusasiantuntijan kanssa. Täydentyvä ryhmä\, ilmoittaudu mukaan!
URL:https://kalenteri.niemikoti.fi/tapahtuma/caffetteria-italiana-malmilla/2026-02-25/
LOCATION:Malmin päivätoimintakeskus\, Vanha Helsingintie 9\, Helsinki\, 00700\, Finland
CATEGORIES:Malmin päivätoimintakeskus
ATTACH;FMTTYPE=image/jpeg:https://kalenteri.niemikoti.fi/wp-content/uploads/2026/01/Siemenesta-syotavaksi-hyotypuutarharyhma-1.jpg
END:VEVENT
BEGIN:VEVENT
DTSTART;TZID=Europe/Helsinki:20260225T130000
DTEND;TZID=Europe/Helsinki:20260225T143000
DTSTAMP:20260423T175352
CREATED:20260112T131042Z
LAST-MODIFIED:20260303T072919Z
UID:10027616-1772024400-1772029800@kalenteri.niemikoti.fi
SUMMARY:Väriä elämään Malmilla
DESCRIPTION:Visuaalista taidetta vaihtuvin teemoin ja tekniikoin. Enintään 8 osallistujaa kerralla. Ilmoittaudu mukaan!
URL:https://kalenteri.niemikoti.fi/tapahtuma/varia-elamaan-malmilla/2026-02-25/
LOCATION:Malmin päivätoimintakeskus\, Vanha Helsingintie 9\, Helsinki\, 00700\, Finland
CATEGORIES:Malmin päivätoimintakeskus
END:VEVENT
END:VCALENDAR