BEGIN:VCALENDAR
VERSION:2.0
PRODID:-//Tapahtumakalenteri - ECPv6.15.18//NONSGML v1.0//EN
CALSCALE:GREGORIAN
METHOD:PUBLISH
X-WR-CALNAME:Tapahtumakalenteri
X-ORIGINAL-URL:https://kalenteri.niemikoti.fi
X-WR-CALDESC:Tapahtumat Tapahtumakalenteri
REFRESH-INTERVAL;VALUE=DURATION:PT1H
X-Robots-Tag:noindex
X-PUBLISHED-TTL:PT1H
BEGIN:VTIMEZONE
TZID:Europe/Helsinki
BEGIN:DAYLIGHT
TZOFFSETFROM:+0200
TZOFFSETTO:+0300
TZNAME:EEST
DTSTART:20250330T010000
END:DAYLIGHT
BEGIN:STANDARD
TZOFFSETFROM:+0300
TZOFFSETTO:+0200
TZNAME:EET
DTSTART:20251026T010000
END:STANDARD
BEGIN:DAYLIGHT
TZOFFSETFROM:+0200
TZOFFSETTO:+0300
TZNAME:EEST
DTSTART:20260329T010000
END:DAYLIGHT
BEGIN:STANDARD
TZOFFSETFROM:+0300
TZOFFSETTO:+0200
TZNAME:EET
DTSTART:20261025T010000
END:STANDARD
BEGIN:DAYLIGHT
TZOFFSETFROM:+0200
TZOFFSETTO:+0300
TZNAME:EEST
DTSTART:20270328T010000
END:DAYLIGHT
BEGIN:STANDARD
TZOFFSETFROM:+0300
TZOFFSETTO:+0200
TZNAME:EET
DTSTART:20271031T010000
END:STANDARD
END:VTIMEZONE
BEGIN:VEVENT
DTSTART;TZID=Europe/Helsinki:20260427T090000
DTEND;TZID=Europe/Helsinki:20260427T100000
DTSTAMP:20260423T232823
CREATED:20260302T134800Z
LAST-MODIFIED:20260302T134800Z
UID:10033998-1777280400-1777284000@kalenteri.niemikoti.fi
SUMMARY:Yhteisön aamiainen Malmilla
DESCRIPTION:Aamiaisella puuroa\, muroja tai jogurttia vaihtelevasti sekä leipää päällisineen. Juomaksi tuoremehua sekä kahvia tai teetä. Hinta 1\,5 e.
URL:https://kalenteri.niemikoti.fi/tapahtuma/yhteison-aamiainen-malmilla/2026-04-27/
LOCATION:Malmin päivätoimintakeskus\, Vanha Helsingintie 9\, Helsinki\, 00700\, Finland
CATEGORIES:Malmin päivätoimintakeskus
END:VEVENT
BEGIN:VEVENT
DTSTART;TZID=Europe/Helsinki:20260427T100000
DTEND;TZID=Europe/Helsinki:20260427T103000
DTSTAMP:20260423T232823
CREATED:20260112T105633Z
LAST-MODIFIED:20260303T072458Z
UID:10028695-1777284000-1777285800@kalenteri.niemikoti.fi
SUMMARY:Aamukokous Malmilla
DESCRIPTION:Kokoonnutaan yhteen vaihtamaan kuulumisia ja keskustellaan päivän ohjelmasta.
URL:https://kalenteri.niemikoti.fi/tapahtuma/aamukokous-malmilla/2026-04-27/
LOCATION:Malmin päivätoimintakeskus\, Vanha Helsingintie 9\, Helsinki\, 00700\, Finland
CATEGORIES:Malmin päivätoimintakeskus
END:VEVENT
BEGIN:VEVENT
DTSTART;TZID=Europe/Helsinki:20260427T100000
DTEND;TZID=Europe/Helsinki:20260427T120000
DTSTAMP:20260423T232823
CREATED:20260410T064554Z
LAST-MODIFIED:20260410T064554Z
UID:10037073-1777284000-1777291200@kalenteri.niemikoti.fi
SUMMARY:Kevätjuhla Malmilla
DESCRIPTION:Juhlistetaan yhdessä alkanutta kevättä musiikin\, tanssin\, pihapelien (säävarauksella) ja pienten tarjottavien äärellä!
URL:https://kalenteri.niemikoti.fi/tapahtuma/kevatjuhla-malmilla/
LOCATION:Malmin päivätoimintakeskus\, Vanha Helsingintie 9\, Helsinki\, 00700\, Finland
CATEGORIES:Malmin päivätoimintakeskus
END:VEVENT
BEGIN:VEVENT
DTSTART;TZID=Europe/Helsinki:20260427T103000
DTEND;TZID=Europe/Helsinki:20260427T110000
DTSTAMP:20260423T232823
CREATED:20260112T111935Z
LAST-MODIFIED:20260410T061604Z
UID:10027967-1777285800-1777287600@kalenteri.niemikoti.fi
SUMMARY:Talon töitä Malmilla
DESCRIPTION:Pidetään yhdessä huolta yhteisistä tiloista ja tiluksista. Osallistua voi omien voimavarojen mukaan.
URL:https://kalenteri.niemikoti.fi/tapahtuma/talon-toita-7/2026-04-27/
LOCATION:Malmin päivätoimintakeskus\, Vanha Helsingintie 9\, Helsinki\, 00700\, Finland
CATEGORIES:Malmin päivätoimintakeskus
END:VEVENT
BEGIN:VEVENT
DTSTART;TZID=Europe/Helsinki:20260427T110000
DTEND;TZID=Europe/Helsinki:20260427T120000
DTSTAMP:20260423T232823
CREATED:20260126T112617Z
LAST-MODIFIED:20260304T132032Z
UID:10031822-1777287600-1777291200@kalenteri.niemikoti.fi
SUMMARY:Sanapaja
DESCRIPTION:Ryhmässä tehdään luovia kirjoitusharjoituksia kuten lyhyitä tarinoita ja runoja. \nTäydentyvä ryhmä\, ilmoittaudu mukaan!
URL:https://kalenteri.niemikoti.fi/tapahtuma/sanapaja-malmilla-3/2026-04-27/
LOCATION:Malmin päivätoimintakeskus\, Vanha Helsingintie 9\, Helsinki\, 00700\, Finland
CATEGORIES:Malmin päivätoimintakeskus
ATTACH;FMTTYPE=image/jpeg:https://kalenteri.niemikoti.fi/wp-content/uploads/2026/01/Sanapaja.jpg
END:VEVENT
BEGIN:VEVENT
DTSTART;TZID=Europe/Helsinki:20260427T120000
DTEND;TZID=Europe/Helsinki:20260427T130000
DTSTAMP:20260423T232823
CREATED:20260302T135525Z
LAST-MODIFIED:20260303T072113Z
UID:10035042-1777291200-1777294800@kalenteri.niemikoti.fi
SUMMARY:Yhteisön lounas Malmilla
DESCRIPTION:Lounas ja lounaskahvit. Ruokalista vaihtelee kuukausittain ja on nähtävillä Malmin päivätoimintakeskuksessa. Hinta 3\,5 euroa.
URL:https://kalenteri.niemikoti.fi/tapahtuma/yhteison-lounas-malmilla/2026-04-27/
LOCATION:Malmin päivätoimintakeskus\, Vanha Helsingintie 9\, Helsinki\, 00700\, Finland
CATEGORIES:Malmin päivätoimintakeskus
END:VEVENT
BEGIN:VEVENT
DTSTART;TZID=Europe/Helsinki:20260427T130000
DTEND;TZID=Europe/Helsinki:20260427T150000
DTSTAMP:20260423T232823
CREATED:20260302T071622Z
LAST-MODIFIED:20260410T063814Z
UID:10033964-1777294800-1777302000@kalenteri.niemikoti.fi
SUMMARY:One shot  -roolipeliryhmä Malmilla
DESCRIPTION:One shot -roolipeliryhmä maanantaisin klo 13-15. One shotit ovat kertaluonteisia lyhyitä yhdellä istumalla pelattavia roolipelejä. Voit tulla pelaamaan ilman aiempaa kokemusta tai omia noppia. Tule ja ihastu roolipelaamiseen! Mukaan mahtuu 6 osallistujaa\, muista siis ilmoittautua! \n13.4. Elämäni supersankarina \n20.4. Lohikäärmeiden ensilento \n27.4. Juhannusseikkailu
URL:https://kalenteri.niemikoti.fi/tapahtuma/one-shot-roolipeliryhma/2026-04-27/
LOCATION:Malmin päivätoimintakeskus\, Vanha Helsingintie 9\, Helsinki\, 00700\, Finland
CATEGORIES:Malmin päivätoimintakeskus
ATTACH;FMTTYPE=image/jpeg:https://kalenteri.niemikoti.fi/wp-content/uploads/2026/03/One_shot-roolipeliryhma_Huhtikuu.jpg
END:VEVENT
END:VCALENDAR