BEGIN:VCALENDAR
VERSION:2.0
PRODID:-//Tapahtumakalenteri - ECPv6.15.18//NONSGML v1.0//EN
CALSCALE:GREGORIAN
METHOD:PUBLISH
X-ORIGINAL-URL:https://kalenteri.niemikoti.fi
X-WR-CALDESC:Tapahtumat Tapahtumakalenteri
REFRESH-INTERVAL;VALUE=DURATION:PT1H
X-Robots-Tag:noindex
X-PUBLISHED-TTL:PT1H
BEGIN:VTIMEZONE
TZID:Europe/Helsinki
BEGIN:DAYLIGHT
TZOFFSETFROM:+0200
TZOFFSETTO:+0300
TZNAME:EEST
DTSTART:20220327T010000
END:DAYLIGHT
BEGIN:STANDARD
TZOFFSETFROM:+0300
TZOFFSETTO:+0200
TZNAME:EET
DTSTART:20221030T010000
END:STANDARD
BEGIN:DAYLIGHT
TZOFFSETFROM:+0200
TZOFFSETTO:+0300
TZNAME:EEST
DTSTART:20230326T010000
END:DAYLIGHT
BEGIN:STANDARD
TZOFFSETFROM:+0300
TZOFFSETTO:+0200
TZNAME:EET
DTSTART:20231029T010000
END:STANDARD
BEGIN:DAYLIGHT
TZOFFSETFROM:+0200
TZOFFSETTO:+0300
TZNAME:EEST
DTSTART:20240331T010000
END:DAYLIGHT
BEGIN:STANDARD
TZOFFSETFROM:+0300
TZOFFSETTO:+0200
TZNAME:EET
DTSTART:20241027T010000
END:STANDARD
END:VTIMEZONE
BEGIN:VEVENT
DTSTART;TZID=Europe/Helsinki:20230918T090000
DTEND;TZID=Europe/Helsinki:20230918T094500
DTSTAMP:20260426T070453
CREATED:20230531T083840Z
LAST-MODIFIED:20240205T125147Z
UID:10001587-1695027600-1695030300@kalenteri.niemikoti.fi
SUMMARY:Yhteisöpäivän aamiainen
DESCRIPTION:Aamupala yhteisöpäivään osallistuville (maksullinen).
URL:https://kalenteri.niemikoti.fi/tapahtuma/yhteisopaivan-aamiainen-2/2023-09-18/
LOCATION:Toimintakeskus Villa Borgis\, Linnavuorentie 13\, Helsinki\, 00950\, Finland
CATEGORIES:Toimintakeskus Villa Borgis
END:VEVENT
BEGIN:VEVENT
DTSTART;TZID=Europe/Helsinki:20230918T090000
DTEND;TZID=Europe/Helsinki:20230918T130000
DTSTAMP:20260426T070453
CREATED:20230815T052225Z
LAST-MODIFIED:20240109T140543Z
UID:10001785-1695027600-1695042000@kalenteri.niemikoti.fi
SUMMARY:Yhteisöpäivä Malmilla klo 9-13
DESCRIPTION:Yhteisöpäivä\, Malmin päivätoimintakeskus auki klo 9-13. Ilmoittaudu mukaan!
URL:https://kalenteri.niemikoti.fi/tapahtuma/yhteisopaiva-malmilla-klo-9-13/2023-09-18/
LOCATION:Malmin päivätoimintakeskus\, Vanha Helsingintie 9\, Helsinki\, 00700\, Finland
CATEGORIES:Malmin päivätoimintakeskus
END:VEVENT
BEGIN:VEVENT
DTSTART;TZID=Europe/Helsinki:20230918T090000
DTEND;TZID=Europe/Helsinki:20230918T150000
DTSTAMP:20260426T070453
CREATED:20230531T125715Z
LAST-MODIFIED:20230811T074137Z
UID:10001514-1695027600-1695049200@kalenteri.niemikoti.fi
SUMMARY:Yhteisöpäivä klo 9-15
DESCRIPTION:Yhteisöpäivä\, Villa Borgis auki klo 9-15\, täydentyvä ryhmä\, ilmoittaudu.
URL:https://kalenteri.niemikoti.fi/tapahtuma/yhteisopaiva-klo-9-15/2023-09-18/
LOCATION:Toimintakeskus Villa Borgis\, Linnavuorentie 13\, Helsinki\, 00950\, Finland
CATEGORIES:Toimintakeskus Villa Borgis
END:VEVENT
BEGIN:VEVENT
DTSTART;TZID=Europe/Helsinki:20230918T100000
DTEND;TZID=Europe/Helsinki:20230918T103000
DTSTAMP:20260426T070453
CREATED:20230531T081915Z
LAST-MODIFIED:20240205T125027Z
UID:10001626-1695031200-1695033000@kalenteri.niemikoti.fi
SUMMARY:Yhteisöpäivän aamukokous
DESCRIPTION:Yhteisöpäivän aamukokouksessa käydään läpi päivän ohjelmaa\, tapahtumia\, yhteisötehtäviä ja muita ajankohtaisia asioita.
URL:https://kalenteri.niemikoti.fi/tapahtuma/yhteisopaivan-aamukokous/2023-09-18/
LOCATION:Toimintakeskus Villa Borgis\, Linnavuorentie 13\, Helsinki\, 00950\, Finland
CATEGORIES:Toimintakeskus Villa Borgis
END:VEVENT
BEGIN:VEVENT
DTSTART;TZID=Europe/Helsinki:20230918T100000
DTEND;TZID=Europe/Helsinki:20230918T103000
DTSTAMP:20260426T070453
CREATED:20230815T052928Z
LAST-MODIFIED:20240109T140543Z
UID:10003606-1695031200-1695033000@kalenteri.niemikoti.fi
SUMMARY:Yhteisöpäivän aamukokous Malmilla
DESCRIPTION:Yhteisöpäivän aamukokouksessa käydään läpi päivän ohjelma\, tulevat tapahtumat ja kuulumiskierros.
URL:https://kalenteri.niemikoti.fi/tapahtuma/yhteisopaivan-aamukokous-malmilla/2023-09-18/
LOCATION:Malmin päivätoimintakeskus\, Vanha Helsingintie 9\, Helsinki\, 00700\, Finland
CATEGORIES:Malmin päivätoimintakeskus
END:VEVENT
BEGIN:VEVENT
DTSTART;TZID=Europe/Helsinki:20230918T103000
DTEND;TZID=Europe/Helsinki:20230918T120000
DTSTAMP:20260426T070453
CREATED:20230531T084700Z
LAST-MODIFIED:20240205T125100Z
UID:10001709-1695033000-1695038400@kalenteri.niemikoti.fi
SUMMARY:Talon töitä
DESCRIPTION:Yhteisöpäivän tehtäviä\, esim. piha-/puutarhatyöt\, sisustus\, siivous\, yhteisökokous.
URL:https://kalenteri.niemikoti.fi/tapahtuma/talon-toita/2023-09-18/
LOCATION:Toimintakeskus Villa Borgis\, Linnavuorentie 13\, Helsinki\, 00950\, Finland
CATEGORIES:Toimintakeskus Villa Borgis
END:VEVENT
BEGIN:VEVENT
DTSTART;TZID=Europe/Helsinki:20230918T120000
DTEND;TZID=Europe/Helsinki:20230918T123000
DTSTAMP:20260426T070453
CREATED:20230531T112750Z
LAST-MODIFIED:20250321T104552Z
UID:10001722-1695038400-1695040200@kalenteri.niemikoti.fi
SUMMARY:Yhteisöpäivän lounas
DESCRIPTION:Lounas yhteisöpäivään osallistuville\, maksullinen.
URL:https://kalenteri.niemikoti.fi/tapahtuma/yhteisopaivan-lounas/2023-09-18/
LOCATION:Toimintakeskus Villa Borgis\, Linnavuorentie 13\, Helsinki\, 00950\, Finland
CATEGORIES:Toimintakeskus Villa Borgis
END:VEVENT
BEGIN:VEVENT
DTSTART;TZID=Europe/Helsinki:20230918T130000
DTEND;TZID=Europe/Helsinki:20230918T140000
DTSTAMP:20260426T070453
CREATED:20230809T082730Z
LAST-MODIFIED:20230822T123255Z
UID:10002780-1695042000-1695045600@kalenteri.niemikoti.fi
SUMMARY:Mahdollisuuksien maanantai
DESCRIPTION:Esim. ulkoilua\, musiikinkuuntelua\, rentoutusta.
URL:https://kalenteri.niemikoti.fi/tapahtuma/mahdollisuuksien-maanantai/2023-09-18/
LOCATION:Toimintakeskus Villa Borgis\, Linnavuorentie 13\, Helsinki\, 00950\, Finland
CATEGORIES:Toimintakeskus Villa Borgis
END:VEVENT
BEGIN:VEVENT
DTSTART;TZID=Europe/Helsinki:20230918T140000
DTEND;TZID=Europe/Helsinki:20230918T143000
DTSTAMP:20260426T070453
CREATED:20230607T051246Z
LAST-MODIFIED:20250107T131756Z
UID:10001285-1695045600-1695047400@kalenteri.niemikoti.fi
SUMMARY:Yhteisöpäivän päiväkahvit
DESCRIPTION:Päiväkahvit kuuluvat aamiaisen ja/tai lounaan hintaan\, muuten 1 €.
URL:https://kalenteri.niemikoti.fi/tapahtuma/yhteisopaivan-paivakahvit/2023-09-18/
LOCATION:Toimintakeskus Villa Borgis\, Linnavuorentie 13\, Helsinki\, 00950\, Finland
CATEGORIES:Toimintakeskus Villa Borgis
END:VEVENT
BEGIN:VEVENT
DTSTART;TZID=Europe/Helsinki:20230919T090000
DTEND;TZID=Europe/Helsinki:20230919T094500
DTSTAMP:20260426T070453
CREATED:20230531T083840Z
LAST-MODIFIED:20240205T125147Z
UID:10001588-1695114000-1695116700@kalenteri.niemikoti.fi
SUMMARY:Yhteisöpäivän aamiainen
DESCRIPTION:Aamupala yhteisöpäivään osallistuville (maksullinen).
URL:https://kalenteri.niemikoti.fi/tapahtuma/yhteisopaivan-aamiainen-2/2023-09-19/
LOCATION:Toimintakeskus Villa Borgis\, Linnavuorentie 13\, Helsinki\, 00950\, Finland
CATEGORIES:Toimintakeskus Villa Borgis
END:VEVENT
BEGIN:VEVENT
DTSTART;TZID=Europe/Helsinki:20230919T090000
DTEND;TZID=Europe/Helsinki:20230919T130000
DTSTAMP:20260426T070453
CREATED:20230815T054713Z
LAST-MODIFIED:20240109T140543Z
UID:10001841-1695114000-1695128400@kalenteri.niemikoti.fi
SUMMARY:Yhteisöpäivä Malmilla klo 9-13
DESCRIPTION:Yhteisöpäivä\, Malmin päivätoimintakeskus auki klo 9-13. Ilmoittaudu mukaan!
URL:https://kalenteri.niemikoti.fi/tapahtuma/yhteisopaiva-malmilla-klo-9-13-2/2023-09-19/
LOCATION:Malmin päivätoimintakeskus\, Vanha Helsingintie 9\, Helsinki\, 00700\, Finland
CATEGORIES:Malmin päivätoimintakeskus
END:VEVENT
BEGIN:VEVENT
DTSTART;TZID=Europe/Helsinki:20230919T090000
DTEND;TZID=Europe/Helsinki:20230919T130000
DTSTAMP:20260426T070453
CREATED:20230821T054354Z
LAST-MODIFIED:20240528T091101Z
UID:10001858-1695114000-1695128400@kalenteri.niemikoti.fi
SUMMARY:Yhteisöpäivä Malmilla klo 9-13
DESCRIPTION:Yhteisöpäivä\, Malmin päivätoimintakeskus auki klo 9-13. Ilmoittaudu mukaan!
URL:https://kalenteri.niemikoti.fi/tapahtuma/yhteisopaiva-malmilla-klo-9-13-3/2023-09-19/
LOCATION:Malmin päivätoimintakeskus\, Vanha Helsingintie 9\, Helsinki\, 00700\, Finland
CATEGORIES:Malmin päivätoimintakeskus
END:VEVENT
BEGIN:VEVENT
DTSTART;TZID=Europe/Helsinki:20230919T090000
DTEND;TZID=Europe/Helsinki:20230919T150000
DTSTAMP:20260426T070453
CREATED:20230531T125715Z
LAST-MODIFIED:20230811T074137Z
UID:10001515-1695114000-1695135600@kalenteri.niemikoti.fi
SUMMARY:Yhteisöpäivä klo 9-15
DESCRIPTION:Yhteisöpäivä\, Villa Borgis auki klo 9-15\, täydentyvä ryhmä\, ilmoittaudu.
URL:https://kalenteri.niemikoti.fi/tapahtuma/yhteisopaiva-klo-9-15/2023-09-19/
LOCATION:Toimintakeskus Villa Borgis\, Linnavuorentie 13\, Helsinki\, 00950\, Finland
CATEGORIES:Toimintakeskus Villa Borgis
END:VEVENT
BEGIN:VEVENT
DTSTART;TZID=Europe/Helsinki:20230919T100000
DTEND;TZID=Europe/Helsinki:20230919T103000
DTSTAMP:20260426T070453
CREATED:20230531T081915Z
LAST-MODIFIED:20240205T125027Z
UID:10001627-1695117600-1695119400@kalenteri.niemikoti.fi
SUMMARY:Yhteisöpäivän aamukokous
DESCRIPTION:Yhteisöpäivän aamukokouksessa käydään läpi päivän ohjelmaa\, tapahtumia\, yhteisötehtäviä ja muita ajankohtaisia asioita.
URL:https://kalenteri.niemikoti.fi/tapahtuma/yhteisopaivan-aamukokous/2023-09-19/
LOCATION:Toimintakeskus Villa Borgis\, Linnavuorentie 13\, Helsinki\, 00950\, Finland
CATEGORIES:Toimintakeskus Villa Borgis
END:VEVENT
BEGIN:VEVENT
DTSTART;TZID=Europe/Helsinki:20230919T100000
DTEND;TZID=Europe/Helsinki:20230919T103000
DTSTAMP:20260426T070453
CREATED:20230821T054731Z
LAST-MODIFIED:20240528T091332Z
UID:10003623-1695117600-1695119400@kalenteri.niemikoti.fi
SUMMARY:Yhteisöpäivän aamukokous Malmilla
DESCRIPTION:Yhteisöpäivän aamukokouksessa käydään läpi päivän ohjelma\, tulevat tapahtumat ja kuulumiskierros.
URL:https://kalenteri.niemikoti.fi/tapahtuma/yhteisopaivan-aamukokous-malmilla-2/2023-09-19/
LOCATION:Malmin päivätoimintakeskus\, Vanha Helsingintie 9\, Helsinki\, 00700\, Finland
CATEGORIES:Malmin päivätoimintakeskus
END:VEVENT
BEGIN:VEVENT
DTSTART;TZID=Europe/Helsinki:20230919T103000
DTEND;TZID=Europe/Helsinki:20230919T111500
DTSTAMP:20260426T070453
CREATED:20230821T055336Z
LAST-MODIFIED:20240528T091429Z
UID:10001893-1695119400-1695122100@kalenteri.niemikoti.fi
SUMMARY:Luonto & liikunta -kävelyryhmä Malmilla
DESCRIPTION:Päätetään yhdessä päivän kävelyreitti ja kävelläänkö reippaasti vai rauhallisesti. Uusille on tilaa\, ilmoittaudu mukaan!
URL:https://kalenteri.niemikoti.fi/tapahtuma/luonto-liikunta-kavelyryhma-malmilla/2023-09-19/
LOCATION:Malmin päivätoimintakeskus\, Vanha Helsingintie 9\, Helsinki\, 00700\, Finland
CATEGORIES:Malmin päivätoimintakeskus
END:VEVENT
BEGIN:VEVENT
DTSTART;TZID=Europe/Helsinki:20230919T103000
DTEND;TZID=Europe/Helsinki:20230919T120000
DTSTAMP:20260426T070453
CREATED:20230531T124423Z
LAST-MODIFIED:20240123T084001Z
UID:10005043-1695119400-1695124800@kalenteri.niemikoti.fi
SUMMARY:Borgiksen Picassot
DESCRIPTION:Kuvataideryhmä\, ilmoittaudu.
URL:https://kalenteri.niemikoti.fi/tapahtuma/borgiksen-picassot/2023-09-19/
LOCATION:Toimintakeskus Villa Borgis\, Linnavuorentie 13\, Helsinki\, 00950\, Finland
CATEGORIES:Toimintakeskus Villa Borgis
END:VEVENT
BEGIN:VEVENT
DTSTART;TZID=Europe/Helsinki:20230919T123000
DTEND;TZID=Europe/Helsinki:20230919T131500
DTSTAMP:20260426T070453
CREATED:20230901T103623Z
LAST-MODIFIED:20240109T140401Z
UID:10003731-1695126600-1695129300@kalenteri.niemikoti.fi
SUMMARY:Ukulelen alkeisjatko -ryhmä Malmilla
DESCRIPTION:Harjoitellaan yhdessä ukulelen alkeita. Neljä tapaamista: 10.10\, 17.10\, 24.10 ja 31.10. Ilmoittaudu mukaan!
URL:https://kalenteri.niemikoti.fi/tapahtuma/ukulelen-alkeet-ryhma-malmilla/2023-09-19/
LOCATION:Malmin päivätoimintakeskus\, Vanha Helsingintie 9\, Helsinki\, 00700\, Finland
CATEGORIES:Malmin päivätoimintakeskus
END:VEVENT
BEGIN:VEVENT
DTSTART;TZID=Europe/Helsinki:20230919T123000
DTEND;TZID=Europe/Helsinki:20230919T131500
DTSTAMP:20260426T070453
CREATED:20231114T115507Z
LAST-MODIFIED:20240109T140442Z
UID:10004260-1695126600-1695129300@kalenteri.niemikoti.fi
SUMMARY:Ukulelen alkeet Malmilla
DESCRIPTION:Harjoittelemme yhdessä Ukulelen soiton alkeita. Täydentyvä ryhmä\, ilmoittaudu mukaan!
URL:https://kalenteri.niemikoti.fi/tapahtuma/ukulele-ryhma-malmilla/2023-09-19/
LOCATION:Malmin päivätoimintakeskus\, Vanha Helsingintie 9\, Helsinki\, 00700\, Finland
CATEGORIES:Malmin päivätoimintakeskus
END:VEVENT
BEGIN:VEVENT
DTSTART;TZID=Europe/Helsinki:20230919T130000
DTEND;TZID=Europe/Helsinki:20230919T143000
DTSTAMP:20260426T070453
CREATED:20230822T114949Z
LAST-MODIFIED:20230822T123131Z
UID:10002512-1695128400-1695133800@kalenteri.niemikoti.fi
SUMMARY:TTAP
DESCRIPTION:Ryhmäkokonaisuus\, jossa hyvdynnetään erilaisia taiteen ja toiminnan keinoja yhdessä valittuun teemaan liittyen.
URL:https://kalenteri.niemikoti.fi/tapahtuma/ttap-2/2023-09-19/
LOCATION:Toimintakeskus Villa Borgis\, Linnavuorentie 13\, Helsinki\, 00950\, Finland
CATEGORIES:Toimintakeskus Villa Borgis
END:VEVENT
BEGIN:VEVENT
DTSTART;TZID=Europe/Helsinki:20230919T140000
DTEND;TZID=Europe/Helsinki:20230919T143000
DTSTAMP:20260426T070453
CREATED:20230607T051246Z
LAST-MODIFIED:20250107T131756Z
UID:10001286-1695132000-1695133800@kalenteri.niemikoti.fi
SUMMARY:Yhteisöpäivän päiväkahvit
DESCRIPTION:Päiväkahvit kuuluvat aamiaisen ja/tai lounaan hintaan\, muuten 1 €.
URL:https://kalenteri.niemikoti.fi/tapahtuma/yhteisopaivan-paivakahvit/2023-09-19/
LOCATION:Toimintakeskus Villa Borgis\, Linnavuorentie 13\, Helsinki\, 00950\, Finland
CATEGORIES:Toimintakeskus Villa Borgis
END:VEVENT
BEGIN:VEVENT
DTSTART;TZID=Europe/Helsinki:20230920T090000
DTEND;TZID=Europe/Helsinki:20230920T094500
DTSTAMP:20260426T070453
CREATED:20230531T083840Z
LAST-MODIFIED:20240205T125147Z
UID:10001589-1695200400-1695203100@kalenteri.niemikoti.fi
SUMMARY:Yhteisöpäivän aamiainen
DESCRIPTION:Aamupala yhteisöpäivään osallistuville (maksullinen).
URL:https://kalenteri.niemikoti.fi/tapahtuma/yhteisopaivan-aamiainen-2/2023-09-20/
LOCATION:Toimintakeskus Villa Borgis\, Linnavuorentie 13\, Helsinki\, 00950\, Finland
CATEGORIES:Toimintakeskus Villa Borgis
END:VEVENT
BEGIN:VEVENT
DTSTART;TZID=Europe/Helsinki:20230920T090000
DTEND;TZID=Europe/Helsinki:20230920T130000
DTSTAMP:20260426T070453
CREATED:20230822T114010Z
LAST-MODIFIED:20240528T090051Z
UID:10001929-1695200400-1695214800@kalenteri.niemikoti.fi
SUMMARY:Yhteisöpäivä Malmilla klo 9-13
DESCRIPTION:Yhteisöpäivä\, Malmin päivätoimintakeskus auki klo 9-13. Ilmoittaudu mukaan!
URL:https://kalenteri.niemikoti.fi/tapahtuma/yhteisopaiva-malmilla-klo-9-13-4/2023-09-20/
LOCATION:Malmin päivätoimintakeskus\, Vanha Helsingintie 9\, Helsinki\, 00700\, Finland
CATEGORIES:Malmin päivätoimintakeskus
END:VEVENT
BEGIN:VEVENT
DTSTART;TZID=Europe/Helsinki:20230920T090000
DTEND;TZID=Europe/Helsinki:20230920T150000
DTSTAMP:20260426T070453
CREATED:20230531T125715Z
LAST-MODIFIED:20230811T074137Z
UID:10001516-1695200400-1695222000@kalenteri.niemikoti.fi
SUMMARY:Yhteisöpäivä klo 9-15
DESCRIPTION:Yhteisöpäivä\, Villa Borgis auki klo 9-15\, täydentyvä ryhmä\, ilmoittaudu.
URL:https://kalenteri.niemikoti.fi/tapahtuma/yhteisopaiva-klo-9-15/2023-09-20/
LOCATION:Toimintakeskus Villa Borgis\, Linnavuorentie 13\, Helsinki\, 00950\, Finland
CATEGORIES:Toimintakeskus Villa Borgis
END:VEVENT
BEGIN:VEVENT
DTSTART;TZID=Europe/Helsinki:20230920T100000
DTEND;TZID=Europe/Helsinki:20230920T103000
DTSTAMP:20260426T070453
CREATED:20230531T081915Z
LAST-MODIFIED:20240205T125027Z
UID:10001628-1695204000-1695205800@kalenteri.niemikoti.fi
SUMMARY:Yhteisöpäivän aamukokous
DESCRIPTION:Yhteisöpäivän aamukokouksessa käydään läpi päivän ohjelmaa\, tapahtumia\, yhteisötehtäviä ja muita ajankohtaisia asioita.
URL:https://kalenteri.niemikoti.fi/tapahtuma/yhteisopaivan-aamukokous/2023-09-20/
LOCATION:Toimintakeskus Villa Borgis\, Linnavuorentie 13\, Helsinki\, 00950\, Finland
CATEGORIES:Toimintakeskus Villa Borgis
END:VEVENT
BEGIN:VEVENT
DTSTART;TZID=Europe/Helsinki:20230920T100000
DTEND;TZID=Europe/Helsinki:20230920T103000
DTSTAMP:20260426T070453
CREATED:20230822T114233Z
LAST-MODIFIED:20240528T091641Z
UID:10003640-1695204000-1695205800@kalenteri.niemikoti.fi
SUMMARY:Yhteisöpäivän aamukokous Malmilla
DESCRIPTION:Yhteisöpäivän aamukokouksessa käydään läpi päivän ohjelma\, tulevat tapahtumat ja kuulumiskierros.
URL:https://kalenteri.niemikoti.fi/tapahtuma/yhteisopaivan-aamukokous-malmilla-3/2023-09-20/
LOCATION:Malmin päivätoimintakeskus\, Vanha Helsingintie 9\, Helsinki\, 00700\, Finland
CATEGORIES:Malmin päivätoimintakeskus
END:VEVENT
BEGIN:VEVENT
DTSTART;TZID=Europe/Helsinki:20230920T110000
DTEND;TZID=Europe/Helsinki:20230920T120000
DTSTAMP:20260426T070453
CREATED:20230809T083353Z
LAST-MODIFIED:20230822T123335Z
UID:10002791-1695207600-1695211200@kalenteri.niemikoti.fi
SUMMARY:Pelit ja leikit
DESCRIPTION:Yhdessä valittuja pelejä ja leikkejä esim. lautapelit\, mölkky. Ilmoittaudu.
URL:https://kalenteri.niemikoti.fi/tapahtuma/pelit-ja-leikit/2023-09-20/
LOCATION:Toimintakeskus Villa Borgis\, Linnavuorentie 13\, Helsinki\, 00950\, Finland
CATEGORIES:Toimintakeskus Villa Borgis
END:VEVENT
BEGIN:VEVENT
DTSTART;TZID=Europe/Helsinki:20230920T130000
DTEND;TZID=Europe/Helsinki:20230920T150000
DTSTAMP:20260426T070453
CREATED:20230531T135008Z
LAST-MODIFIED:20230822T123457Z
UID:10001239-1695214800-1695222000@kalenteri.niemikoti.fi
SUMMARY:Viherpeukalot
DESCRIPTION:Luontolähtöistä toimintaa sisällä ja ulkona. Mm. kasvien kasvatusta\, pihatöitä ja puutarhavierailuja.
URL:https://kalenteri.niemikoti.fi/tapahtuma/viherpeukalot/2023-09-20/
LOCATION:Toimintakeskus Villa Borgis\, Linnavuorentie 13\, Helsinki\, 00950\, Finland
CATEGORIES:Toimintakeskus Villa Borgis
END:VEVENT
BEGIN:VEVENT
DTSTART;TZID=Europe/Helsinki:20230920T133000
DTEND;TZID=Europe/Helsinki:20230920T141500
DTSTAMP:20260426T070453
CREATED:20230823T102707Z
LAST-MODIFIED:20240109T140331Z
UID:10003588-1695216600-1695219300@kalenteri.niemikoti.fi
SUMMARY:Taide & musiikki -ryhmä Malmilla
DESCRIPTION:Luontoteemainen taide- ja musiikkiryhmä. Myös askartelua vuodenajan mukaan. Täydentyvä ryhmä\, ilmoittaudu mukaan!
URL:https://kalenteri.niemikoti.fi/tapahtuma/taide-musiikki-ryhma-malmilla/2023-09-20/
LOCATION:Malmin päivätoimintakeskus\, Vanha Helsingintie 9\, Helsinki\, 00700\, Finland
CATEGORIES:Malmin päivätoimintakeskus
END:VEVENT
BEGIN:VEVENT
DTSTART;TZID=Europe/Helsinki:20230920T140000
DTEND;TZID=Europe/Helsinki:20230920T143000
DTSTAMP:20260426T070453
CREATED:20230607T051246Z
LAST-MODIFIED:20250107T131756Z
UID:10001287-1695218400-1695220200@kalenteri.niemikoti.fi
SUMMARY:Yhteisöpäivän päiväkahvit
DESCRIPTION:Päiväkahvit kuuluvat aamiaisen ja/tai lounaan hintaan\, muuten 1 €.
URL:https://kalenteri.niemikoti.fi/tapahtuma/yhteisopaivan-paivakahvit/2023-09-20/
LOCATION:Toimintakeskus Villa Borgis\, Linnavuorentie 13\, Helsinki\, 00950\, Finland
CATEGORIES:Toimintakeskus Villa Borgis
END:VEVENT
END:VCALENDAR