BEGIN:VCALENDAR
VERSION:2.0
PRODID:-//Tapahtumakalenteri - ECPv6.15.18//NONSGML v1.0//EN
CALSCALE:GREGORIAN
METHOD:PUBLISH
X-ORIGINAL-URL:https://kalenteri.niemikoti.fi
X-WR-CALDESC:Tapahtumat Tapahtumakalenteri
REFRESH-INTERVAL;VALUE=DURATION:PT1H
X-Robots-Tag:noindex
X-PUBLISHED-TTL:PT1H
BEGIN:VTIMEZONE
TZID:Europe/Helsinki
BEGIN:DAYLIGHT
TZOFFSETFROM:+0200
TZOFFSETTO:+0300
TZNAME:EEST
DTSTART:20220327T010000
END:DAYLIGHT
BEGIN:STANDARD
TZOFFSETFROM:+0300
TZOFFSETTO:+0200
TZNAME:EET
DTSTART:20221030T010000
END:STANDARD
BEGIN:DAYLIGHT
TZOFFSETFROM:+0200
TZOFFSETTO:+0300
TZNAME:EEST
DTSTART:20230326T010000
END:DAYLIGHT
BEGIN:STANDARD
TZOFFSETFROM:+0300
TZOFFSETTO:+0200
TZNAME:EET
DTSTART:20231029T010000
END:STANDARD
BEGIN:DAYLIGHT
TZOFFSETFROM:+0200
TZOFFSETTO:+0300
TZNAME:EEST
DTSTART:20240331T010000
END:DAYLIGHT
BEGIN:STANDARD
TZOFFSETFROM:+0300
TZOFFSETTO:+0200
TZNAME:EET
DTSTART:20241027T010000
END:STANDARD
END:VTIMEZONE
BEGIN:VEVENT
DTSTART;TZID=Europe/Helsinki:20231004T090000
DTEND;TZID=Europe/Helsinki:20231004T094500
DTSTAMP:20260426T052548
CREATED:20230531T083840Z
LAST-MODIFIED:20240205T125147Z
UID:10001595-1696410000-1696412700@kalenteri.niemikoti.fi
SUMMARY:Yhteisöpäivän aamiainen
DESCRIPTION:Aamupala yhteisöpäivään osallistuville (maksullinen).
URL:https://kalenteri.niemikoti.fi/tapahtuma/yhteisopaivan-aamiainen-2/2023-10-04/
LOCATION:Toimintakeskus Villa Borgis\, Linnavuorentie 13\, Helsinki\, 00950\, Finland
CATEGORIES:Toimintakeskus Villa Borgis
END:VEVENT
BEGIN:VEVENT
DTSTART;TZID=Europe/Helsinki:20231004T090000
DTEND;TZID=Europe/Helsinki:20231004T130000
DTSTAMP:20260426T052548
CREATED:20230822T114010Z
LAST-MODIFIED:20240528T090051Z
UID:10001930-1696410000-1696424400@kalenteri.niemikoti.fi
SUMMARY:Yhteisöpäivä Malmilla klo 9-13
DESCRIPTION:Yhteisöpäivä\, Malmin päivätoimintakeskus auki klo 9-13. Ilmoittaudu mukaan!
URL:https://kalenteri.niemikoti.fi/tapahtuma/yhteisopaiva-malmilla-klo-9-13-4/2023-10-04/
LOCATION:Malmin päivätoimintakeskus\, Vanha Helsingintie 9\, Helsinki\, 00700\, Finland
CATEGORIES:Malmin päivätoimintakeskus
END:VEVENT
BEGIN:VEVENT
DTSTART;TZID=Europe/Helsinki:20231004T090000
DTEND;TZID=Europe/Helsinki:20231004T150000
DTSTAMP:20260426T052548
CREATED:20230531T125715Z
LAST-MODIFIED:20230811T074137Z
UID:10001522-1696410000-1696431600@kalenteri.niemikoti.fi
SUMMARY:Yhteisöpäivä klo 9-15
DESCRIPTION:Yhteisöpäivä\, Villa Borgis auki klo 9-15\, täydentyvä ryhmä\, ilmoittaudu.
URL:https://kalenteri.niemikoti.fi/tapahtuma/yhteisopaiva-klo-9-15/2023-10-04/
LOCATION:Toimintakeskus Villa Borgis\, Linnavuorentie 13\, Helsinki\, 00950\, Finland
CATEGORIES:Toimintakeskus Villa Borgis
END:VEVENT
BEGIN:VEVENT
DTSTART;TZID=Europe/Helsinki:20231004T100000
DTEND;TZID=Europe/Helsinki:20231004T103000
DTSTAMP:20260426T052548
CREATED:20230531T081915Z
LAST-MODIFIED:20240205T125027Z
UID:10001634-1696413600-1696415400@kalenteri.niemikoti.fi
SUMMARY:Yhteisöpäivän aamukokous
DESCRIPTION:Yhteisöpäivän aamukokouksessa käydään läpi päivän ohjelmaa\, tapahtumia\, yhteisötehtäviä ja muita ajankohtaisia asioita.
URL:https://kalenteri.niemikoti.fi/tapahtuma/yhteisopaivan-aamukokous/2023-10-04/
LOCATION:Toimintakeskus Villa Borgis\, Linnavuorentie 13\, Helsinki\, 00950\, Finland
CATEGORIES:Toimintakeskus Villa Borgis
END:VEVENT
BEGIN:VEVENT
DTSTART;TZID=Europe/Helsinki:20231004T100000
DTEND;TZID=Europe/Helsinki:20231004T103000
DTSTAMP:20260426T052548
CREATED:20230822T114233Z
LAST-MODIFIED:20240528T091641Z
UID:10003641-1696413600-1696415400@kalenteri.niemikoti.fi
SUMMARY:Yhteisöpäivän aamukokous Malmilla
DESCRIPTION:Yhteisöpäivän aamukokouksessa käydään läpi päivän ohjelma\, tulevat tapahtumat ja kuulumiskierros.
URL:https://kalenteri.niemikoti.fi/tapahtuma/yhteisopaivan-aamukokous-malmilla-3/2023-10-04/
LOCATION:Malmin päivätoimintakeskus\, Vanha Helsingintie 9\, Helsinki\, 00700\, Finland
CATEGORIES:Malmin päivätoimintakeskus
END:VEVENT
BEGIN:VEVENT
DTSTART;TZID=Europe/Helsinki:20231004T103000
DTEND;TZID=Europe/Helsinki:20231004T120000
DTSTAMP:20260426T052548
CREATED:20230809T083657Z
LAST-MODIFIED:20230822T123744Z
UID:10001749-1696415400-1696420800@kalenteri.niemikoti.fi
SUMMARY:Soppakokit
DESCRIPTION:Valmistetaan yhdessä helppo lounas. Ruoan hinta 2 €. Ilmoittaudu.
URL:https://kalenteri.niemikoti.fi/tapahtuma/soppakokit-2/2023-10-04/
LOCATION:Toimintakeskus Villa Borgis\, Linnavuorentie 13\, Helsinki\, 00950\, Finland
CATEGORIES:Toimintakeskus Villa Borgis
END:VEVENT
BEGIN:VEVENT
DTSTART;TZID=Europe/Helsinki:20231004T133000
DTEND;TZID=Europe/Helsinki:20231004T141500
DTSTAMP:20260426T052548
CREATED:20230823T102707Z
LAST-MODIFIED:20240109T140331Z
UID:10003589-1696426200-1696428900@kalenteri.niemikoti.fi
SUMMARY:Taide & musiikki -ryhmä Malmilla
DESCRIPTION:Luontoteemainen taide- ja musiikkiryhmä. Myös askartelua vuodenajan mukaan. Täydentyvä ryhmä\, ilmoittaudu mukaan!
URL:https://kalenteri.niemikoti.fi/tapahtuma/taide-musiikki-ryhma-malmilla/2023-10-04/
LOCATION:Malmin päivätoimintakeskus\, Vanha Helsingintie 9\, Helsinki\, 00700\, Finland
CATEGORIES:Malmin päivätoimintakeskus
END:VEVENT
BEGIN:VEVENT
DTSTART;TZID=Europe/Helsinki:20231004T140000
DTEND;TZID=Europe/Helsinki:20231004T143000
DTSTAMP:20260426T052548
CREATED:20230607T051246Z
LAST-MODIFIED:20250107T131756Z
UID:10001293-1696428000-1696429800@kalenteri.niemikoti.fi
SUMMARY:Yhteisöpäivän päiväkahvit
DESCRIPTION:Päiväkahvit kuuluvat aamiaisen ja/tai lounaan hintaan\, muuten 1 €.
URL:https://kalenteri.niemikoti.fi/tapahtuma/yhteisopaivan-paivakahvit/2023-10-04/
LOCATION:Toimintakeskus Villa Borgis\, Linnavuorentie 13\, Helsinki\, 00950\, Finland
CATEGORIES:Toimintakeskus Villa Borgis
END:VEVENT
BEGIN:VEVENT
DTSTART;TZID=Europe/Helsinki:20231005T103000
DTEND;TZID=Europe/Helsinki:20231005T110000
DTSTAMP:20260426T052548
CREATED:20230731T074003Z
LAST-MODIFIED:20240125T130125Z
UID:10001668-1696501800-1696503600@kalenteri.niemikoti.fi
SUMMARY:Aamuvenyttelyt
DESCRIPTION:Kevyttä aamuliikuntaa\, sään salliessa ulkona.
URL:https://kalenteri.niemikoti.fi/tapahtuma/aamuvenyttelyt-2/2023-10-05/
LOCATION:Toimintakeskus Villa Borgis\, Linnavuorentie 13\, Helsinki\, 00950\, Finland
CATEGORIES:Toimintakeskus Villa Borgis
END:VEVENT
BEGIN:VEVENT
DTSTART;TZID=Europe/Helsinki:20231005T103000
DTEND;TZID=Europe/Helsinki:20231005T150000
DTSTAMP:20260426T052548
CREATED:20230607T051917Z
LAST-MODIFIED:20231110T073904Z
UID:10001559-1696501800-1696518000@kalenteri.niemikoti.fi
SUMMARY:Ryhmäpäivä
DESCRIPTION:Ryhmäpäivä\, talo auki klo 9-15. Ilmoittaudu mukaan yhteen tai useampaan ryhmään. Kahvia tarjolla hintaan 1 €/päivä. Omat eväät mukaan!
URL:https://kalenteri.niemikoti.fi/tapahtuma/ryhmapaiva/2023-10-05/
LOCATION:Toimintakeskus Villa Borgis\, Linnavuorentie 13\, Helsinki\, 00950\, Finland
CATEGORIES:Toimintakeskus Villa Borgis
END:VEVENT
BEGIN:VEVENT
DTSTART;TZID=Europe/Helsinki:20231005T111500
DTEND;TZID=Europe/Helsinki:20231005T140000
DTSTAMP:20260426T052548
CREATED:20230531T135552Z
LAST-MODIFIED:20230808T115834Z
UID:10001260-1696504500-1696514400@kalenteri.niemikoti.fi
SUMMARY:Kaupunkiviljely Malmilla
DESCRIPTION:Green City Farmin pellolla Malmilla. Lähtö Villa Borgiksesta klo 11.15\, ryhmä klo 12-14.
URL:https://kalenteri.niemikoti.fi/tapahtuma/kaupunkiviljely-malmilla/2023-10-05/
LOCATION:Toimintakeskus Villa Borgis\, Linnavuorentie 13\, Helsinki\, 00950\, Finland
CATEGORIES:Toimintakeskus Villa Borgis
END:VEVENT
BEGIN:VEVENT
DTSTART;TZID=Europe/Helsinki:20231005T140000
DTEND;TZID=Europe/Helsinki:20231005T160000
DTSTAMP:20260426T052548
CREATED:20230810T114859Z
LAST-MODIFIED:20230810T114859Z
UID:10001769-1696514400-1696521600@kalenteri.niemikoti.fi
SUMMARY:Kaupunkiviljely Malmilla
DESCRIPTION:Malmin päivätoiminnan viereisellä Green city -farmin pellolla\, ryhmä klo 14 – 16. Ryhmä tapaa päivätoiminnan tiloissa\, josta lähdetään yhdessä pellolla klo 14.10. Ryhmän aluksi luonnon havainnointitehtävä ja sen jälkeen peltohommia.
URL:https://kalenteri.niemikoti.fi/tapahtuma/kaupunkiviljely-malmilla-3/2023-10-05/
LOCATION:Malmin päivätoimintakeskus\, Vanha Helsingintie 9\, Helsinki\, 00700\, Finland
CATEGORIES:Malmin päivätoimintakeskus
END:VEVENT
BEGIN:VEVENT
DTSTART;TZID=Europe/Helsinki:20231006T090000
DTEND;TZID=Europe/Helsinki:20231006T130000
DTSTAMP:20260426T052548
CREATED:20230823T123530Z
LAST-MODIFIED:20240528T092233Z
UID:10003659-1696582800-1696597200@kalenteri.niemikoti.fi
SUMMARY:Yhteisöpäivä Malmilla klo 9-14
DESCRIPTION:Yhteisöpäivä\, Malmin päivätoimintakeskus auki klo 9-14. Ilmoittaudu mukaan!
URL:https://kalenteri.niemikoti.fi/tapahtuma/yhteisopaiva-malmilla-klo-9-13-5/2023-10-06/
LOCATION:Malmin päivätoimintakeskus\, Vanha Helsingintie 9\, Helsinki\, 00700\, Finland
CATEGORIES:Malmin päivätoimintakeskus
END:VEVENT
BEGIN:VEVENT
DTSTART;TZID=Europe/Helsinki:20231006T090000
DTEND;TZID=Europe/Helsinki:20231006T140000
DTSTAMP:20260426T052548
CREATED:20230607T052142Z
LAST-MODIFIED:20230808T114512Z
UID:10001573-1696582800-1696600800@kalenteri.niemikoti.fi
SUMMARY:Ryhmäpäivä klo 9-13
DESCRIPTION:Ryhmäpäivä\, talo auki klo 9-13. Ilmoittaudu mukaan yhteen tai useampaan ryhmään. Kahvia tarjolla hintaan 1 €/päivä. Omat eväät mukaan!
URL:https://kalenteri.niemikoti.fi/tapahtuma/ryhmapaiva-klo-9-13/2023-10-06/
LOCATION:Toimintakeskus Villa Borgis\, Linnavuorentie 13\, Helsinki\, 00950\, Finland
CATEGORIES:Toimintakeskus Villa Borgis
END:VEVENT
BEGIN:VEVENT
DTSTART;TZID=Europe/Helsinki:20231006T100000
DTEND;TZID=Europe/Helsinki:20231006T103000
DTSTAMP:20260426T052548
CREATED:20230823T123714Z
LAST-MODIFIED:20240528T092313Z
UID:10003677-1696586400-1696588200@kalenteri.niemikoti.fi
SUMMARY:Yhteisöpäivän aamukokous Malmilla
DESCRIPTION:Yhteisöpäivän aamukokouksessa käydään läpi päivän ohjelma\, tulevat tapahtumat ja kuulumiskierros.
URL:https://kalenteri.niemikoti.fi/tapahtuma/yhteisopaivan-aamukokous-malmilla-4/2023-10-06/
LOCATION:Malmin päivätoimintakeskus\, Vanha Helsingintie 9\, Helsinki\, 00700\, Finland
CATEGORIES:Malmin päivätoimintakeskus
END:VEVENT
BEGIN:VEVENT
DTSTART;TZID=Europe/Helsinki:20231006T100000
DTEND;TZID=Europe/Helsinki:20231006T110000
DTSTAMP:20260426T052548
CREATED:20230427T055304Z
LAST-MODIFIED:20240513T053309Z
UID:10001687-1696586400-1696590000@kalenteri.niemikoti.fi
SUMMARY:Aamujooga Villa Borgiksessa
DESCRIPTION:8 ensimmäisenä paikalle tullutta mahtuu mukaan ryhmään.
URL:https://kalenteri.niemikoti.fi/tapahtuma/aamujooga-villa-borgiksessa/2023-10-06/
LOCATION:Toimintakeskus Villa Borgis\, Linnavuorentie 13\, Helsinki\, 00950\, Finland
CATEGORIES:Päivätoiminta,Toimintakeskus Villa Borgis
END:VEVENT
BEGIN:VEVENT
DTSTART;TZID=Europe/Helsinki:20231006T103000
DTEND;TZID=Europe/Helsinki:20231006T111500
DTSTAMP:20260426T052548
CREATED:20230823T124255Z
LAST-MODIFIED:20240129T124123Z
UID:10003695-1696588200-1696590900@kalenteri.niemikoti.fi
SUMMARY:Perjantain päähänpistot -ryhmä Malmilla
DESCRIPTION:Vaihtuvaa yhteisön ohjelmaa ryhmän toiveiden mukaan\, esimerkiksi pelaamista\, tietovisa tai leipomista. Täydentyvä ryhmä\, ilmoittaudu mukaan!
URL:https://kalenteri.niemikoti.fi/tapahtuma/ajan-tasalla-ryhma-malmilla/2023-10-06/
LOCATION:Malmin päivätoimintakeskus\, Vanha Helsingintie 9\, Helsinki\, 00700\, Finland
CATEGORIES:Malmin päivätoimintakeskus
END:VEVENT
BEGIN:VEVENT
DTSTART;TZID=Europe/Helsinki:20231006T110000
DTEND;TZID=Europe/Helsinki:20231006T130000
DTSTAMP:20260426T052548
CREATED:20230427T060640Z
LAST-MODIFIED:20240513T053346Z
UID:10001699-1696590000-1696597200@kalenteri.niemikoti.fi
SUMMARY:Perjantaihyggeily
DESCRIPTION:Villasukat jalkaan\, maailman murheet hetkeksi syrjään ja olo mukavaksi teekupposen äärellä.\nTule rupattelemaan muiden kanssa\, lukemaan lehtiä tai vaikkapa tekemään valmiiksi keskeneräisiä projektejasi.\nTarjolla kahvit /teet ja keksit 1 €/pvä.
URL:https://kalenteri.niemikoti.fi/tapahtuma/perjantaihyggeily/2023-10-06/
LOCATION:Toimintakeskus Villa Borgis\, Linnavuorentie 13\, Helsinki\, 00950\, Finland
CATEGORIES:Päivätoiminta,Toimintakeskus Villa Borgis
END:VEVENT
BEGIN:VEVENT
DTSTART;TZID=Europe/Helsinki:20231006T123000
DTEND;TZID=Europe/Helsinki:20231006T141500
DTSTAMP:20260426T052548
CREATED:20230823T124747Z
LAST-MODIFIED:20240314T105912Z
UID:10003713-1696595400-1696601700@kalenteri.niemikoti.fi
SUMMARY:Uintiryhmä
DESCRIPTION:Omatoiminen liikuntaryhmä Malmin liikuntahallille. Täydentyvä ryhmä\, ilmoittaudu mukaan!
URL:https://kalenteri.niemikoti.fi/tapahtuma/uintiryhma-2/2023-10-06/
LOCATION:Malmin päivätoimintakeskus\, Vanha Helsingintie 9\, Helsinki\, 00700\, Finland
CATEGORIES:Malmin päivätoimintakeskus
END:VEVENT
BEGIN:VEVENT
DTSTART;TZID=Europe/Helsinki:20231009T090000
DTEND;TZID=Europe/Helsinki:20231009T094500
DTSTAMP:20260426T052548
CREATED:20230531T083840Z
LAST-MODIFIED:20240205T125147Z
UID:10001596-1696842000-1696844700@kalenteri.niemikoti.fi
SUMMARY:Yhteisöpäivän aamiainen
DESCRIPTION:Aamupala yhteisöpäivään osallistuville (maksullinen).
URL:https://kalenteri.niemikoti.fi/tapahtuma/yhteisopaivan-aamiainen-2/2023-10-09/
LOCATION:Toimintakeskus Villa Borgis\, Linnavuorentie 13\, Helsinki\, 00950\, Finland
CATEGORIES:Toimintakeskus Villa Borgis
END:VEVENT
BEGIN:VEVENT
DTSTART;TZID=Europe/Helsinki:20231009T090000
DTEND;TZID=Europe/Helsinki:20231009T130000
DTSTAMP:20260426T052548
CREATED:20230815T052225Z
LAST-MODIFIED:20240109T140543Z
UID:10001787-1696842000-1696856400@kalenteri.niemikoti.fi
SUMMARY:Yhteisöpäivä Malmilla klo 9-13
DESCRIPTION:Yhteisöpäivä\, Malmin päivätoimintakeskus auki klo 9-13. Ilmoittaudu mukaan!
URL:https://kalenteri.niemikoti.fi/tapahtuma/yhteisopaiva-malmilla-klo-9-13/2023-10-09/
LOCATION:Malmin päivätoimintakeskus\, Vanha Helsingintie 9\, Helsinki\, 00700\, Finland
CATEGORIES:Malmin päivätoimintakeskus
END:VEVENT
BEGIN:VEVENT
DTSTART;TZID=Europe/Helsinki:20231009T090000
DTEND;TZID=Europe/Helsinki:20231009T150000
DTSTAMP:20260426T052548
CREATED:20230531T125715Z
LAST-MODIFIED:20230811T074137Z
UID:10001523-1696842000-1696863600@kalenteri.niemikoti.fi
SUMMARY:Yhteisöpäivä klo 9-15
DESCRIPTION:Yhteisöpäivä\, Villa Borgis auki klo 9-15\, täydentyvä ryhmä\, ilmoittaudu.
URL:https://kalenteri.niemikoti.fi/tapahtuma/yhteisopaiva-klo-9-15/2023-10-09/
LOCATION:Toimintakeskus Villa Borgis\, Linnavuorentie 13\, Helsinki\, 00950\, Finland
CATEGORIES:Toimintakeskus Villa Borgis
END:VEVENT
BEGIN:VEVENT
DTSTART;TZID=Europe/Helsinki:20231009T100000
DTEND;TZID=Europe/Helsinki:20231009T103000
DTSTAMP:20260426T052548
CREATED:20230531T081915Z
LAST-MODIFIED:20240205T125027Z
UID:10001635-1696845600-1696847400@kalenteri.niemikoti.fi
SUMMARY:Yhteisöpäivän aamukokous
DESCRIPTION:Yhteisöpäivän aamukokouksessa käydään läpi päivän ohjelmaa\, tapahtumia\, yhteisötehtäviä ja muita ajankohtaisia asioita.
URL:https://kalenteri.niemikoti.fi/tapahtuma/yhteisopaivan-aamukokous/2023-10-09/
LOCATION:Toimintakeskus Villa Borgis\, Linnavuorentie 13\, Helsinki\, 00950\, Finland
CATEGORIES:Toimintakeskus Villa Borgis
END:VEVENT
BEGIN:VEVENT
DTSTART;TZID=Europe/Helsinki:20231009T100000
DTEND;TZID=Europe/Helsinki:20231009T103000
DTSTAMP:20260426T052548
CREATED:20230815T052928Z
LAST-MODIFIED:20240109T140543Z
UID:10003608-1696845600-1696847400@kalenteri.niemikoti.fi
SUMMARY:Yhteisöpäivän aamukokous Malmilla
DESCRIPTION:Yhteisöpäivän aamukokouksessa käydään läpi päivän ohjelma\, tulevat tapahtumat ja kuulumiskierros.
URL:https://kalenteri.niemikoti.fi/tapahtuma/yhteisopaivan-aamukokous-malmilla/2023-10-09/
LOCATION:Malmin päivätoimintakeskus\, Vanha Helsingintie 9\, Helsinki\, 00700\, Finland
CATEGORIES:Malmin päivätoimintakeskus
END:VEVENT
BEGIN:VEVENT
DTSTART;TZID=Europe/Helsinki:20231009T103000
DTEND;TZID=Europe/Helsinki:20231009T120000
DTSTAMP:20260426T052548
CREATED:20230531T084700Z
LAST-MODIFIED:20240205T125100Z
UID:10001712-1696847400-1696852800@kalenteri.niemikoti.fi
SUMMARY:Talon töitä
DESCRIPTION:Yhteisöpäivän tehtäviä\, esim. piha-/puutarhatyöt\, sisustus\, siivous\, yhteisökokous.
URL:https://kalenteri.niemikoti.fi/tapahtuma/talon-toita/2023-10-09/
LOCATION:Toimintakeskus Villa Borgis\, Linnavuorentie 13\, Helsinki\, 00950\, Finland
CATEGORIES:Toimintakeskus Villa Borgis
END:VEVENT
BEGIN:VEVENT
DTSTART;TZID=Europe/Helsinki:20231009T120000
DTEND;TZID=Europe/Helsinki:20231009T123000
DTSTAMP:20260426T052548
CREATED:20230531T112750Z
LAST-MODIFIED:20250321T104552Z
UID:10001725-1696852800-1696854600@kalenteri.niemikoti.fi
SUMMARY:Yhteisöpäivän lounas
DESCRIPTION:Lounas yhteisöpäivään osallistuville\, maksullinen.
URL:https://kalenteri.niemikoti.fi/tapahtuma/yhteisopaivan-lounas/2023-10-09/
LOCATION:Toimintakeskus Villa Borgis\, Linnavuorentie 13\, Helsinki\, 00950\, Finland
CATEGORIES:Toimintakeskus Villa Borgis
END:VEVENT
BEGIN:VEVENT
DTSTART;TZID=Europe/Helsinki:20231009T130000
DTEND;TZID=Europe/Helsinki:20231009T140000
DTSTAMP:20260426T052548
CREATED:20230809T082730Z
LAST-MODIFIED:20230822T123255Z
UID:10002781-1696856400-1696860000@kalenteri.niemikoti.fi
SUMMARY:Mahdollisuuksien maanantai
DESCRIPTION:Esim. ulkoilua\, musiikinkuuntelua\, rentoutusta.
URL:https://kalenteri.niemikoti.fi/tapahtuma/mahdollisuuksien-maanantai/2023-10-09/
LOCATION:Toimintakeskus Villa Borgis\, Linnavuorentie 13\, Helsinki\, 00950\, Finland
CATEGORIES:Toimintakeskus Villa Borgis
END:VEVENT
BEGIN:VEVENT
DTSTART;TZID=Europe/Helsinki:20231009T140000
DTEND;TZID=Europe/Helsinki:20231009T143000
DTSTAMP:20260426T052548
CREATED:20230607T051246Z
LAST-MODIFIED:20250107T131756Z
UID:10001294-1696860000-1696861800@kalenteri.niemikoti.fi
SUMMARY:Yhteisöpäivän päiväkahvit
DESCRIPTION:Päiväkahvit kuuluvat aamiaisen ja/tai lounaan hintaan\, muuten 1 €.
URL:https://kalenteri.niemikoti.fi/tapahtuma/yhteisopaivan-paivakahvit/2023-10-09/
LOCATION:Toimintakeskus Villa Borgis\, Linnavuorentie 13\, Helsinki\, 00950\, Finland
CATEGORIES:Toimintakeskus Villa Borgis
END:VEVENT
BEGIN:VEVENT
DTSTART;TZID=Europe/Helsinki:20231010T090000
DTEND;TZID=Europe/Helsinki:20231010T094500
DTSTAMP:20260426T052548
CREATED:20230531T083840Z
LAST-MODIFIED:20240205T125147Z
UID:10001597-1696928400-1696931100@kalenteri.niemikoti.fi
SUMMARY:Yhteisöpäivän aamiainen
DESCRIPTION:Aamupala yhteisöpäivään osallistuville (maksullinen).
URL:https://kalenteri.niemikoti.fi/tapahtuma/yhteisopaivan-aamiainen-2/2023-10-10/
LOCATION:Toimintakeskus Villa Borgis\, Linnavuorentie 13\, Helsinki\, 00950\, Finland
CATEGORIES:Toimintakeskus Villa Borgis
END:VEVENT
BEGIN:VEVENT
DTSTART;TZID=Europe/Helsinki:20231010T090000
DTEND;TZID=Europe/Helsinki:20231010T130000
DTSTAMP:20260426T052548
CREATED:20230815T054713Z
LAST-MODIFIED:20240109T140543Z
UID:10001843-1696928400-1696942800@kalenteri.niemikoti.fi
SUMMARY:Yhteisöpäivä Malmilla klo 9-13
DESCRIPTION:Yhteisöpäivä\, Malmin päivätoimintakeskus auki klo 9-13. Ilmoittaudu mukaan!
URL:https://kalenteri.niemikoti.fi/tapahtuma/yhteisopaiva-malmilla-klo-9-13-2/2023-10-10/
LOCATION:Malmin päivätoimintakeskus\, Vanha Helsingintie 9\, Helsinki\, 00700\, Finland
CATEGORIES:Malmin päivätoimintakeskus
END:VEVENT
END:VCALENDAR