BEGIN:VCALENDAR
VERSION:2.0
PRODID:-//Tapahtumakalenteri - ECPv6.15.18//NONSGML v1.0//EN
CALSCALE:GREGORIAN
METHOD:PUBLISH
X-WR-CALNAME:Tapahtumakalenteri
X-ORIGINAL-URL:https://kalenteri.niemikoti.fi
X-WR-CALDESC:Tapahtumat Tapahtumakalenteri
REFRESH-INTERVAL;VALUE=DURATION:PT1H
X-Robots-Tag:noindex
X-PUBLISHED-TTL:PT1H
BEGIN:VTIMEZONE
TZID:Europe/Helsinki
BEGIN:DAYLIGHT
TZOFFSETFROM:+0200
TZOFFSETTO:+0300
TZNAME:EEST
DTSTART:20220327T010000
END:DAYLIGHT
BEGIN:STANDARD
TZOFFSETFROM:+0300
TZOFFSETTO:+0200
TZNAME:EET
DTSTART:20221030T010000
END:STANDARD
BEGIN:DAYLIGHT
TZOFFSETFROM:+0200
TZOFFSETTO:+0300
TZNAME:EEST
DTSTART:20230326T010000
END:DAYLIGHT
BEGIN:STANDARD
TZOFFSETFROM:+0300
TZOFFSETTO:+0200
TZNAME:EET
DTSTART:20231029T010000
END:STANDARD
BEGIN:DAYLIGHT
TZOFFSETFROM:+0200
TZOFFSETTO:+0300
TZNAME:EEST
DTSTART:20240331T010000
END:DAYLIGHT
BEGIN:STANDARD
TZOFFSETFROM:+0300
TZOFFSETTO:+0200
TZNAME:EET
DTSTART:20241027T010000
END:STANDARD
END:VTIMEZONE
BEGIN:VEVENT
DTSTART;TZID=Europe/Helsinki:20231023T090000
DTEND;TZID=Europe/Helsinki:20231023T094500
DTSTAMP:20260426T062826
CREATED:20230531T083840Z
LAST-MODIFIED:20240205T125147Z
UID:10001602-1698051600-1698054300@kalenteri.niemikoti.fi
SUMMARY:Yhteisöpäivän aamiainen
DESCRIPTION:Aamupala yhteisöpäivään osallistuville (maksullinen).
URL:https://kalenteri.niemikoti.fi/tapahtuma/yhteisopaivan-aamiainen-2/2023-10-23/
LOCATION:Toimintakeskus Villa Borgis\, Linnavuorentie 13\, Helsinki\, 00950\, Finland
CATEGORIES:Toimintakeskus Villa Borgis
END:VEVENT
BEGIN:VEVENT
DTSTART;TZID=Europe/Helsinki:20231023T090000
DTEND;TZID=Europe/Helsinki:20231023T130000
DTSTAMP:20260426T062826
CREATED:20230815T052225Z
LAST-MODIFIED:20240109T140543Z
UID:10001789-1698051600-1698066000@kalenteri.niemikoti.fi
SUMMARY:Yhteisöpäivä Malmilla klo 9-13
DESCRIPTION:Yhteisöpäivä\, Malmin päivätoimintakeskus auki klo 9-13. Ilmoittaudu mukaan!
URL:https://kalenteri.niemikoti.fi/tapahtuma/yhteisopaiva-malmilla-klo-9-13/2023-10-23/
LOCATION:Malmin päivätoimintakeskus\, Vanha Helsingintie 9\, Helsinki\, 00700\, Finland
CATEGORIES:Malmin päivätoimintakeskus
END:VEVENT
BEGIN:VEVENT
DTSTART;TZID=Europe/Helsinki:20231023T090000
DTEND;TZID=Europe/Helsinki:20231023T150000
DTSTAMP:20260426T062826
CREATED:20230531T125715Z
LAST-MODIFIED:20230811T074137Z
UID:10001529-1698051600-1698073200@kalenteri.niemikoti.fi
SUMMARY:Yhteisöpäivä klo 9-15
DESCRIPTION:Yhteisöpäivä\, Villa Borgis auki klo 9-15\, täydentyvä ryhmä\, ilmoittaudu.
URL:https://kalenteri.niemikoti.fi/tapahtuma/yhteisopaiva-klo-9-15/2023-10-23/
LOCATION:Toimintakeskus Villa Borgis\, Linnavuorentie 13\, Helsinki\, 00950\, Finland
CATEGORIES:Toimintakeskus Villa Borgis
END:VEVENT
BEGIN:VEVENT
DTSTART;TZID=Europe/Helsinki:20231023T100000
DTEND;TZID=Europe/Helsinki:20231023T103000
DTSTAMP:20260426T062826
CREATED:20230531T081915Z
LAST-MODIFIED:20240205T125027Z
UID:10001641-1698055200-1698057000@kalenteri.niemikoti.fi
SUMMARY:Yhteisöpäivän aamukokous
DESCRIPTION:Yhteisöpäivän aamukokouksessa käydään läpi päivän ohjelmaa\, tapahtumia\, yhteisötehtäviä ja muita ajankohtaisia asioita.
URL:https://kalenteri.niemikoti.fi/tapahtuma/yhteisopaivan-aamukokous/2023-10-23/
LOCATION:Toimintakeskus Villa Borgis\, Linnavuorentie 13\, Helsinki\, 00950\, Finland
CATEGORIES:Toimintakeskus Villa Borgis
END:VEVENT
BEGIN:VEVENT
DTSTART;TZID=Europe/Helsinki:20231023T100000
DTEND;TZID=Europe/Helsinki:20231023T103000
DTSTAMP:20260426T062826
CREATED:20230815T052928Z
LAST-MODIFIED:20240109T140543Z
UID:10003610-1698055200-1698057000@kalenteri.niemikoti.fi
SUMMARY:Yhteisöpäivän aamukokous Malmilla
DESCRIPTION:Yhteisöpäivän aamukokouksessa käydään läpi päivän ohjelma\, tulevat tapahtumat ja kuulumiskierros.
URL:https://kalenteri.niemikoti.fi/tapahtuma/yhteisopaivan-aamukokous-malmilla/2023-10-23/
LOCATION:Malmin päivätoimintakeskus\, Vanha Helsingintie 9\, Helsinki\, 00700\, Finland
CATEGORIES:Malmin päivätoimintakeskus
END:VEVENT
BEGIN:VEVENT
DTSTART;TZID=Europe/Helsinki:20231023T103000
DTEND;TZID=Europe/Helsinki:20231023T120000
DTSTAMP:20260426T062826
CREATED:20230531T084700Z
LAST-MODIFIED:20240205T125100Z
UID:10001714-1698057000-1698062400@kalenteri.niemikoti.fi
SUMMARY:Talon töitä
DESCRIPTION:Yhteisöpäivän tehtäviä\, esim. piha-/puutarhatyöt\, sisustus\, siivous\, yhteisökokous.
URL:https://kalenteri.niemikoti.fi/tapahtuma/talon-toita/2023-10-23/
LOCATION:Toimintakeskus Villa Borgis\, Linnavuorentie 13\, Helsinki\, 00950\, Finland
CATEGORIES:Toimintakeskus Villa Borgis
END:VEVENT
BEGIN:VEVENT
DTSTART;TZID=Europe/Helsinki:20231023T120000
DTEND;TZID=Europe/Helsinki:20231023T123000
DTSTAMP:20260426T062826
CREATED:20230531T112750Z
LAST-MODIFIED:20250321T104552Z
UID:10001727-1698062400-1698064200@kalenteri.niemikoti.fi
SUMMARY:Yhteisöpäivän lounas
DESCRIPTION:Lounas yhteisöpäivään osallistuville\, maksullinen.
URL:https://kalenteri.niemikoti.fi/tapahtuma/yhteisopaivan-lounas/2023-10-23/
LOCATION:Toimintakeskus Villa Borgis\, Linnavuorentie 13\, Helsinki\, 00950\, Finland
CATEGORIES:Toimintakeskus Villa Borgis
END:VEVENT
BEGIN:VEVENT
DTSTART;TZID=Europe/Helsinki:20231023T130000
DTEND;TZID=Europe/Helsinki:20231023T140000
DTSTAMP:20260426T062826
CREATED:20230809T082730Z
LAST-MODIFIED:20230822T123255Z
UID:10002783-1698066000-1698069600@kalenteri.niemikoti.fi
SUMMARY:Mahdollisuuksien maanantai
DESCRIPTION:Esim. ulkoilua\, musiikinkuuntelua\, rentoutusta.
URL:https://kalenteri.niemikoti.fi/tapahtuma/mahdollisuuksien-maanantai/2023-10-23/
LOCATION:Toimintakeskus Villa Borgis\, Linnavuorentie 13\, Helsinki\, 00950\, Finland
CATEGORIES:Toimintakeskus Villa Borgis
END:VEVENT
BEGIN:VEVENT
DTSTART;TZID=Europe/Helsinki:20231023T140000
DTEND;TZID=Europe/Helsinki:20231023T143000
DTSTAMP:20260426T062826
CREATED:20230607T051246Z
LAST-MODIFIED:20250107T131756Z
UID:10001300-1698069600-1698071400@kalenteri.niemikoti.fi
SUMMARY:Yhteisöpäivän päiväkahvit
DESCRIPTION:Päiväkahvit kuuluvat aamiaisen ja/tai lounaan hintaan\, muuten 1 €.
URL:https://kalenteri.niemikoti.fi/tapahtuma/yhteisopaivan-paivakahvit/2023-10-23/
LOCATION:Toimintakeskus Villa Borgis\, Linnavuorentie 13\, Helsinki\, 00950\, Finland
CATEGORIES:Toimintakeskus Villa Borgis
END:VEVENT
BEGIN:VEVENT
DTSTART;TZID=Europe/Helsinki:20231023T140000
DTEND;TZID=Europe/Helsinki:20231023T150000
DTSTAMP:20260426T062826
CREATED:20231016T065208Z
LAST-MODIFIED:20231016T065208Z
UID:10003805-1698069600-1698073200@kalenteri.niemikoti.fi
SUMMARY:Avoin info Malmilla
DESCRIPTION:Toiminnan ja tilan esittely kaikille päivätoiminnasta kiinnostuneille. Ei ilmoittautumista\, tervetuloa!
URL:https://kalenteri.niemikoti.fi/tapahtuma/avoin-info-malmilla-2/
LOCATION:Malmin päivätoimintakeskus\, Vanha Helsingintie 9\, Helsinki\, 00700\, Finland
CATEGORIES:Malmin päivätoimintakeskus
END:VEVENT
BEGIN:VEVENT
DTSTART;TZID=Europe/Helsinki:20231024T090000
DTEND;TZID=Europe/Helsinki:20231024T094500
DTSTAMP:20260426T062826
CREATED:20230531T083840Z
LAST-MODIFIED:20240205T125147Z
UID:10001603-1698138000-1698140700@kalenteri.niemikoti.fi
SUMMARY:Yhteisöpäivän aamiainen
DESCRIPTION:Aamupala yhteisöpäivään osallistuville (maksullinen).
URL:https://kalenteri.niemikoti.fi/tapahtuma/yhteisopaivan-aamiainen-2/2023-10-24/
LOCATION:Toimintakeskus Villa Borgis\, Linnavuorentie 13\, Helsinki\, 00950\, Finland
CATEGORIES:Toimintakeskus Villa Borgis
END:VEVENT
BEGIN:VEVENT
DTSTART;TZID=Europe/Helsinki:20231024T090000
DTEND;TZID=Europe/Helsinki:20231024T130000
DTSTAMP:20260426T062826
CREATED:20230815T054713Z
LAST-MODIFIED:20240109T140543Z
UID:10001845-1698138000-1698152400@kalenteri.niemikoti.fi
SUMMARY:Yhteisöpäivä Malmilla klo 9-13
DESCRIPTION:Yhteisöpäivä\, Malmin päivätoimintakeskus auki klo 9-13. Ilmoittaudu mukaan!
URL:https://kalenteri.niemikoti.fi/tapahtuma/yhteisopaiva-malmilla-klo-9-13-2/2023-10-24/
LOCATION:Malmin päivätoimintakeskus\, Vanha Helsingintie 9\, Helsinki\, 00700\, Finland
CATEGORIES:Malmin päivätoimintakeskus
END:VEVENT
BEGIN:VEVENT
DTSTART;TZID=Europe/Helsinki:20231024T090000
DTEND;TZID=Europe/Helsinki:20231024T130000
DTSTAMP:20260426T062826
CREATED:20230821T054354Z
LAST-MODIFIED:20240528T091101Z
UID:10001863-1698138000-1698152400@kalenteri.niemikoti.fi
SUMMARY:Yhteisöpäivä Malmilla klo 9-13
DESCRIPTION:Yhteisöpäivä\, Malmin päivätoimintakeskus auki klo 9-13. Ilmoittaudu mukaan!
URL:https://kalenteri.niemikoti.fi/tapahtuma/yhteisopaiva-malmilla-klo-9-13-3/2023-10-24/
LOCATION:Malmin päivätoimintakeskus\, Vanha Helsingintie 9\, Helsinki\, 00700\, Finland
CATEGORIES:Malmin päivätoimintakeskus
END:VEVENT
BEGIN:VEVENT
DTSTART;TZID=Europe/Helsinki:20231024T090000
DTEND;TZID=Europe/Helsinki:20231024T150000
DTSTAMP:20260426T062826
CREATED:20230531T125715Z
LAST-MODIFIED:20230811T074137Z
UID:10001530-1698138000-1698159600@kalenteri.niemikoti.fi
SUMMARY:Yhteisöpäivä klo 9-15
DESCRIPTION:Yhteisöpäivä\, Villa Borgis auki klo 9-15\, täydentyvä ryhmä\, ilmoittaudu.
URL:https://kalenteri.niemikoti.fi/tapahtuma/yhteisopaiva-klo-9-15/2023-10-24/
LOCATION:Toimintakeskus Villa Borgis\, Linnavuorentie 13\, Helsinki\, 00950\, Finland
CATEGORIES:Toimintakeskus Villa Borgis
END:VEVENT
BEGIN:VEVENT
DTSTART;TZID=Europe/Helsinki:20231024T100000
DTEND;TZID=Europe/Helsinki:20231024T103000
DTSTAMP:20260426T062826
CREATED:20230531T081915Z
LAST-MODIFIED:20240205T125027Z
UID:10001642-1698141600-1698143400@kalenteri.niemikoti.fi
SUMMARY:Yhteisöpäivän aamukokous
DESCRIPTION:Yhteisöpäivän aamukokouksessa käydään läpi päivän ohjelmaa\, tapahtumia\, yhteisötehtäviä ja muita ajankohtaisia asioita.
URL:https://kalenteri.niemikoti.fi/tapahtuma/yhteisopaivan-aamukokous/2023-10-24/
LOCATION:Toimintakeskus Villa Borgis\, Linnavuorentie 13\, Helsinki\, 00950\, Finland
CATEGORIES:Toimintakeskus Villa Borgis
END:VEVENT
BEGIN:VEVENT
DTSTART;TZID=Europe/Helsinki:20231024T100000
DTEND;TZID=Europe/Helsinki:20231024T103000
DTSTAMP:20260426T062826
CREATED:20230821T054731Z
LAST-MODIFIED:20240528T091332Z
UID:10003627-1698141600-1698143400@kalenteri.niemikoti.fi
SUMMARY:Yhteisöpäivän aamukokous Malmilla
DESCRIPTION:Yhteisöpäivän aamukokouksessa käydään läpi päivän ohjelma\, tulevat tapahtumat ja kuulumiskierros.
URL:https://kalenteri.niemikoti.fi/tapahtuma/yhteisopaivan-aamukokous-malmilla-2/2023-10-24/
LOCATION:Malmin päivätoimintakeskus\, Vanha Helsingintie 9\, Helsinki\, 00700\, Finland
CATEGORIES:Malmin päivätoimintakeskus
END:VEVENT
BEGIN:VEVENT
DTSTART;TZID=Europe/Helsinki:20231024T103000
DTEND;TZID=Europe/Helsinki:20231024T111500
DTSTAMP:20260426T062826
CREATED:20230821T055336Z
LAST-MODIFIED:20240528T091429Z
UID:10001897-1698143400-1698146100@kalenteri.niemikoti.fi
SUMMARY:Luonto & liikunta -kävelyryhmä Malmilla
DESCRIPTION:Päätetään yhdessä päivän kävelyreitti ja kävelläänkö reippaasti vai rauhallisesti. Uusille on tilaa\, ilmoittaudu mukaan!
URL:https://kalenteri.niemikoti.fi/tapahtuma/luonto-liikunta-kavelyryhma-malmilla/2023-10-24/
LOCATION:Malmin päivätoimintakeskus\, Vanha Helsingintie 9\, Helsinki\, 00700\, Finland
CATEGORIES:Malmin päivätoimintakeskus
END:VEVENT
BEGIN:VEVENT
DTSTART;TZID=Europe/Helsinki:20231024T103000
DTEND;TZID=Europe/Helsinki:20231024T120000
DTSTAMP:20260426T062826
CREATED:20230531T124423Z
LAST-MODIFIED:20240123T084001Z
UID:10005047-1698143400-1698148800@kalenteri.niemikoti.fi
SUMMARY:Borgiksen Picassot
DESCRIPTION:Kuvataideryhmä\, ilmoittaudu.
URL:https://kalenteri.niemikoti.fi/tapahtuma/borgiksen-picassot/2023-10-24/
LOCATION:Toimintakeskus Villa Borgis\, Linnavuorentie 13\, Helsinki\, 00950\, Finland
CATEGORIES:Toimintakeskus Villa Borgis
END:VEVENT
BEGIN:VEVENT
DTSTART;TZID=Europe/Helsinki:20231024T123000
DTEND;TZID=Europe/Helsinki:20231024T131500
DTSTAMP:20260426T062826
CREATED:20230901T103623Z
LAST-MODIFIED:20240109T140401Z
UID:10003736-1698150600-1698153300@kalenteri.niemikoti.fi
SUMMARY:Ukulelen alkeisjatko -ryhmä Malmilla
DESCRIPTION:Harjoitellaan yhdessä ukulelen alkeita. Neljä tapaamista: 10.10\, 17.10\, 24.10 ja 31.10. Ilmoittaudu mukaan!
URL:https://kalenteri.niemikoti.fi/tapahtuma/ukulelen-alkeet-ryhma-malmilla/2023-10-24/
LOCATION:Malmin päivätoimintakeskus\, Vanha Helsingintie 9\, Helsinki\, 00700\, Finland
CATEGORIES:Malmin päivätoimintakeskus
END:VEVENT
BEGIN:VEVENT
DTSTART;TZID=Europe/Helsinki:20231024T123000
DTEND;TZID=Europe/Helsinki:20231024T131500
DTSTAMP:20260426T062826
CREATED:20231114T115507Z
LAST-MODIFIED:20240109T140442Z
UID:10004265-1698150600-1698153300@kalenteri.niemikoti.fi
SUMMARY:Ukulelen alkeet Malmilla
DESCRIPTION:Harjoittelemme yhdessä Ukulelen soiton alkeita. Täydentyvä ryhmä\, ilmoittaudu mukaan!
URL:https://kalenteri.niemikoti.fi/tapahtuma/ukulele-ryhma-malmilla/2023-10-24/
LOCATION:Malmin päivätoimintakeskus\, Vanha Helsingintie 9\, Helsinki\, 00700\, Finland
CATEGORIES:Malmin päivätoimintakeskus
END:VEVENT
BEGIN:VEVENT
DTSTART;TZID=Europe/Helsinki:20231024T130000
DTEND;TZID=Europe/Helsinki:20231024T143000
DTSTAMP:20260426T062826
CREATED:20230822T114949Z
LAST-MODIFIED:20230822T123131Z
UID:10002516-1698152400-1698157800@kalenteri.niemikoti.fi
SUMMARY:TTAP
DESCRIPTION:Ryhmäkokonaisuus\, jossa hyvdynnetään erilaisia taiteen ja toiminnan keinoja yhdessä valittuun teemaan liittyen.
URL:https://kalenteri.niemikoti.fi/tapahtuma/ttap-2/2023-10-24/
LOCATION:Toimintakeskus Villa Borgis\, Linnavuorentie 13\, Helsinki\, 00950\, Finland
CATEGORIES:Toimintakeskus Villa Borgis
END:VEVENT
BEGIN:VEVENT
DTSTART;TZID=Europe/Helsinki:20231024T130000
DTEND;TZID=Europe/Helsinki:20231024T150000
DTSTAMP:20260426T062826
CREATED:20231016T065556Z
LAST-MODIFIED:20240912T102328Z
UID:10005890-1698152400-1698159600@kalenteri.niemikoti.fi
SUMMARY:Jälleenvuokrauksen bändi Malmilla
DESCRIPTION:Bändissä on vakiintunut kokoonpano. Lisätietoja bändistä voi kysyä ohjaajilta.
URL:https://kalenteri.niemikoti.fi/tapahtuma/jalleenvuokrauksen-bandi/2023-10-24/
LOCATION:Malmin päivätoimintakeskus\, Vanha Helsingintie 9\, Helsinki\, 00700\, Finland
CATEGORIES:Malmin päivätoimintakeskus
END:VEVENT
BEGIN:VEVENT
DTSTART;TZID=Europe/Helsinki:20231024T140000
DTEND;TZID=Europe/Helsinki:20231024T143000
DTSTAMP:20260426T062826
CREATED:20230607T051246Z
LAST-MODIFIED:20250107T131756Z
UID:10001301-1698156000-1698157800@kalenteri.niemikoti.fi
SUMMARY:Yhteisöpäivän päiväkahvit
DESCRIPTION:Päiväkahvit kuuluvat aamiaisen ja/tai lounaan hintaan\, muuten 1 €.
URL:https://kalenteri.niemikoti.fi/tapahtuma/yhteisopaivan-paivakahvit/2023-10-24/
LOCATION:Toimintakeskus Villa Borgis\, Linnavuorentie 13\, Helsinki\, 00950\, Finland
CATEGORIES:Toimintakeskus Villa Borgis
END:VEVENT
BEGIN:VEVENT
DTSTART;TZID=Europe/Helsinki:20231024T153000
DTEND;TZID=Europe/Helsinki:20231024T170000
DTSTAMP:20260426T062826
CREATED:20231016T065925Z
LAST-MODIFIED:20240912T102346Z
UID:10005926-1698161400-1698166800@kalenteri.niemikoti.fi
SUMMARY:Malmin bändi
DESCRIPTION:Bändissä on vakiintunut kokoonpano. Lisätietoja Malmin bändistä voi kysyä ohjaaja Tapio Kojolta.
URL:https://kalenteri.niemikoti.fi/tapahtuma/malmin-bandi/2023-10-24/
LOCATION:Malmin päivätoimintakeskus\, Vanha Helsingintie 9\, Helsinki\, 00700\, Finland
CATEGORIES:Malmin päivätoimintakeskus
END:VEVENT
BEGIN:VEVENT
DTSTART;TZID=Europe/Helsinki:20231025T090000
DTEND;TZID=Europe/Helsinki:20231025T094500
DTSTAMP:20260426T062826
CREATED:20230531T083840Z
LAST-MODIFIED:20240205T125147Z
UID:10001604-1698224400-1698227100@kalenteri.niemikoti.fi
SUMMARY:Yhteisöpäivän aamiainen
DESCRIPTION:Aamupala yhteisöpäivään osallistuville (maksullinen).
URL:https://kalenteri.niemikoti.fi/tapahtuma/yhteisopaivan-aamiainen-2/2023-10-25/
LOCATION:Toimintakeskus Villa Borgis\, Linnavuorentie 13\, Helsinki\, 00950\, Finland
CATEGORIES:Toimintakeskus Villa Borgis
END:VEVENT
BEGIN:VEVENT
DTSTART;TZID=Europe/Helsinki:20231025T090000
DTEND;TZID=Europe/Helsinki:20231025T130000
DTSTAMP:20260426T062826
CREATED:20230822T114010Z
LAST-MODIFIED:20240528T090051Z
UID:10001933-1698224400-1698238800@kalenteri.niemikoti.fi
SUMMARY:Yhteisöpäivä Malmilla klo 9-13
DESCRIPTION:Yhteisöpäivä\, Malmin päivätoimintakeskus auki klo 9-13. Ilmoittaudu mukaan!
URL:https://kalenteri.niemikoti.fi/tapahtuma/yhteisopaiva-malmilla-klo-9-13-4/2023-10-25/
LOCATION:Malmin päivätoimintakeskus\, Vanha Helsingintie 9\, Helsinki\, 00700\, Finland
CATEGORIES:Malmin päivätoimintakeskus
END:VEVENT
BEGIN:VEVENT
DTSTART;TZID=Europe/Helsinki:20231025T090000
DTEND;TZID=Europe/Helsinki:20231025T150000
DTSTAMP:20260426T062826
CREATED:20230531T125715Z
LAST-MODIFIED:20230811T074137Z
UID:10001531-1698224400-1698246000@kalenteri.niemikoti.fi
SUMMARY:Yhteisöpäivä klo 9-15
DESCRIPTION:Yhteisöpäivä\, Villa Borgis auki klo 9-15\, täydentyvä ryhmä\, ilmoittaudu.
URL:https://kalenteri.niemikoti.fi/tapahtuma/yhteisopaiva-klo-9-15/2023-10-25/
LOCATION:Toimintakeskus Villa Borgis\, Linnavuorentie 13\, Helsinki\, 00950\, Finland
CATEGORIES:Toimintakeskus Villa Borgis
END:VEVENT
BEGIN:VEVENT
DTSTART;TZID=Europe/Helsinki:20231025T100000
DTEND;TZID=Europe/Helsinki:20231025T103000
DTSTAMP:20260426T062826
CREATED:20230531T081915Z
LAST-MODIFIED:20240205T125027Z
UID:10001643-1698228000-1698229800@kalenteri.niemikoti.fi
SUMMARY:Yhteisöpäivän aamukokous
DESCRIPTION:Yhteisöpäivän aamukokouksessa käydään läpi päivän ohjelmaa\, tapahtumia\, yhteisötehtäviä ja muita ajankohtaisia asioita.
URL:https://kalenteri.niemikoti.fi/tapahtuma/yhteisopaivan-aamukokous/2023-10-25/
LOCATION:Toimintakeskus Villa Borgis\, Linnavuorentie 13\, Helsinki\, 00950\, Finland
CATEGORIES:Toimintakeskus Villa Borgis
END:VEVENT
BEGIN:VEVENT
DTSTART;TZID=Europe/Helsinki:20231025T100000
DTEND;TZID=Europe/Helsinki:20231025T103000
DTSTAMP:20260426T062826
CREATED:20230822T114233Z
LAST-MODIFIED:20240528T091641Z
UID:10003644-1698228000-1698229800@kalenteri.niemikoti.fi
SUMMARY:Yhteisöpäivän aamukokous Malmilla
DESCRIPTION:Yhteisöpäivän aamukokouksessa käydään läpi päivän ohjelma\, tulevat tapahtumat ja kuulumiskierros.
URL:https://kalenteri.niemikoti.fi/tapahtuma/yhteisopaivan-aamukokous-malmilla-3/2023-10-25/
LOCATION:Malmin päivätoimintakeskus\, Vanha Helsingintie 9\, Helsinki\, 00700\, Finland
CATEGORIES:Malmin päivätoimintakeskus
END:VEVENT
BEGIN:VEVENT
DTSTART;TZID=Europe/Helsinki:20231025T103000
DTEND;TZID=Europe/Helsinki:20231025T120000
DTSTAMP:20260426T062826
CREATED:20230809T083657Z
LAST-MODIFIED:20230822T123744Z
UID:10003308-1698229800-1698235200@kalenteri.niemikoti.fi
SUMMARY:Soppakokit
DESCRIPTION:Valmistetaan yhdessä helppo lounas. Ruoan hinta 2 €. Ilmoittaudu.
URL:https://kalenteri.niemikoti.fi/tapahtuma/soppakokit-2/2023-10-25/
LOCATION:Toimintakeskus Villa Borgis\, Linnavuorentie 13\, Helsinki\, 00950\, Finland
CATEGORIES:Toimintakeskus Villa Borgis
END:VEVENT
END:VCALENDAR