BEGIN:VCALENDAR
VERSION:2.0
PRODID:-//Tapahtumakalenteri - ECPv6.15.18//NONSGML v1.0//EN
CALSCALE:GREGORIAN
METHOD:PUBLISH
X-ORIGINAL-URL:https://kalenteri.niemikoti.fi
X-WR-CALDESC:Tapahtumat Tapahtumakalenteri
REFRESH-INTERVAL;VALUE=DURATION:PT1H
X-Robots-Tag:noindex
X-PUBLISHED-TTL:PT1H
BEGIN:VTIMEZONE
TZID:Europe/Helsinki
BEGIN:DAYLIGHT
TZOFFSETFROM:+0200
TZOFFSETTO:+0300
TZNAME:EEST
DTSTART:20240331T010000
END:DAYLIGHT
BEGIN:STANDARD
TZOFFSETFROM:+0300
TZOFFSETTO:+0200
TZNAME:EET
DTSTART:20241027T010000
END:STANDARD
BEGIN:DAYLIGHT
TZOFFSETFROM:+0200
TZOFFSETTO:+0300
TZNAME:EEST
DTSTART:20250330T010000
END:DAYLIGHT
BEGIN:STANDARD
TZOFFSETFROM:+0300
TZOFFSETTO:+0200
TZNAME:EET
DTSTART:20251026T010000
END:STANDARD
BEGIN:DAYLIGHT
TZOFFSETFROM:+0200
TZOFFSETTO:+0300
TZNAME:EEST
DTSTART:20260329T010000
END:DAYLIGHT
BEGIN:STANDARD
TZOFFSETFROM:+0300
TZOFFSETTO:+0200
TZNAME:EET
DTSTART:20261025T010000
END:STANDARD
END:VTIMEZONE
BEGIN:VEVENT
DTSTART;TZID=Europe/Helsinki:20250630T080000
DTEND;TZID=Europe/Helsinki:20250810T160000
DTSTAMP:20260420T124832
CREATED:20250612T134052Z
LAST-MODIFIED:20250612T134052Z
UID:10023265-1751270400-1754841600@kalenteri.niemikoti.fi
SUMMARY:Päivätoimintakeskus kiinni 30.6.-10.8.
DESCRIPTION:Malmin päivätoimintakeskus on kiinni 30.6.-10.8.2025. \nPäivätoiminnan yhteinen ja kaikille avoin kesätoiminta 30.6.-1.8. Toimintakeskus Villa Borgiksessa\, Linnavuorentie 13. \nKesäleiri Kesäharjussa 28.7.-1.8.2025 (ilmoittautuneille).
URL:https://kalenteri.niemikoti.fi/tapahtuma/paivatoimintakeskus-kiinni-30-6-10-8/
LOCATION:Malmin päivätoimintakeskus\, Vanha Helsingintie 9\, Helsinki\, 00700\, Finland
CATEGORIES:Malmin päivätoimintakeskus
ATTACH;FMTTYPE=image/png:https://kalenteri.niemikoti.fi/wp-content/uploads/2025/06/Avoin-kesatoiminta-2025.png
END:VEVENT
BEGIN:VEVENT
DTSTART;TZID=Europe/Helsinki:20250724T100000
DTEND;TZID=Europe/Helsinki:20250724T150000
DTSTAMP:20260420T124832
CREATED:20250618T065641Z
LAST-MODIFIED:20250618T065641Z
UID:10023294-1753351200-1753369200@kalenteri.niemikoti.fi
SUMMARY:Kierrättävä kesä Villa Borgiksessa
DESCRIPTION:Avoimen kesätoiminnan ajan 30.6.-1.8.2025 Toimintakeskus Villa Borgiksessa on pieni kierrätyspiste\, jonne voit tuoda tarpeettomaksi jääneitä puhtaita ja ehjiä vaatteita/tavaroita ja ottaa tarvitsemasi. Kierrätyspiste on avoinna aukioloaikojen mukaan ma-ke klo 10-15\, pe 10-13 (torstait ovat retkipäiviä).
URL:https://kalenteri.niemikoti.fi/tapahtuma/kierrattava-kesa-villa-borgiksessa/2025-07-24/
LOCATION:Toimintakeskus Villa Borgis\, Linnavuorentie 13\, Helsinki\, 00950\, Finland
CATEGORIES:Toimintakeskus Villa Borgis
ATTACH;FMTTYPE=image/jpeg:https://kalenteri.niemikoti.fi/wp-content/uploads/2025/06/kierrattavakesaVB.jpg
END:VEVENT
BEGIN:VEVENT
DTSTART;TZID=Europe/Helsinki:20250724T110000
DTEND;TZID=Europe/Helsinki:20250724T150000
DTSTAMP:20260420T124832
CREATED:20250527T075343Z
LAST-MODIFIED:20250527T075343Z
UID:10023231-1753354800-1753369200@kalenteri.niemikoti.fi
SUMMARY:Retkitorstai
DESCRIPTION:Yhteislähtö retkille Villa Borgiksesta\, voidaan sopia tapaamispaikka myös lähemmäs retkikohdetta. Ilmoittaudu\, samalla saat lisätiedot kellonajoista ym. \n3.7. Mustavuori \n10.7. Linnanmäki \n17.7. Green City Farm \n24.7. Stansvik \n31.7. Kahvila Meridian
URL:https://kalenteri.niemikoti.fi/tapahtuma/retkitorstai-2/2025-07-24/
LOCATION:Toimintakeskus Villa Borgis\, Linnavuorentie 13\, Helsinki\, 00950\, Finland
CATEGORIES:Toimintakeskus Villa Borgis
END:VEVENT
BEGIN:VEVENT
DTSTART;TZID=Europe/Helsinki:20250725T100000
DTEND;TZID=Europe/Helsinki:20250725T110000
DTSTAMP:20260420T124832
CREATED:20250522T084825Z
LAST-MODIFIED:20260331T075857Z
UID:10022984-1753437600-1753441200@kalenteri.niemikoti.fi
SUMMARY:Aamujooga
DESCRIPTION:Kaikille sopivaa\, lempeää ja rauhallista joogaa. Max. 10 osallistujaa. Ilmoittaudu.
URL:https://kalenteri.niemikoti.fi/tapahtuma/aamujooga-3/2025-07-25/
LOCATION:Toimintakeskus Villa Borgis\, Linnavuorentie 13\, Helsinki\, 00950\, Finland
CATEGORIES:Toimintakeskus Villa Borgis
ATTACH;FMTTYPE=image/jpeg:https://kalenteri.niemikoti.fi/wp-content/uploads/2025/05/VillaBorgiksen-Aamujooga.jpg
END:VEVENT
BEGIN:VEVENT
DTSTART;TZID=Europe/Helsinki:20250725T100000
DTEND;TZID=Europe/Helsinki:20250725T150000
DTSTAMP:20260420T124832
CREATED:20250618T065641Z
LAST-MODIFIED:20250618T065641Z
UID:10023295-1753437600-1753455600@kalenteri.niemikoti.fi
SUMMARY:Kierrättävä kesä Villa Borgiksessa
DESCRIPTION:Avoimen kesätoiminnan ajan 30.6.-1.8.2025 Toimintakeskus Villa Borgiksessa on pieni kierrätyspiste\, jonne voit tuoda tarpeettomaksi jääneitä puhtaita ja ehjiä vaatteita/tavaroita ja ottaa tarvitsemasi. Kierrätyspiste on avoinna aukioloaikojen mukaan ma-ke klo 10-15\, pe 10-13 (torstait ovat retkipäiviä).
URL:https://kalenteri.niemikoti.fi/tapahtuma/kierrattava-kesa-villa-borgiksessa/2025-07-25/
LOCATION:Toimintakeskus Villa Borgis\, Linnavuorentie 13\, Helsinki\, 00950\, Finland
CATEGORIES:Toimintakeskus Villa Borgis
ATTACH;FMTTYPE=image/jpeg:https://kalenteri.niemikoti.fi/wp-content/uploads/2025/06/kierrattavakesaVB.jpg
END:VEVENT
BEGIN:VEVENT
DTSTART;TZID=Europe/Helsinki:20250725T110000
DTEND;TZID=Europe/Helsinki:20250725T130000
DTSTAMP:20260420T124832
CREATED:20250522T090632Z
LAST-MODIFIED:20250523T070530Z
UID:10023169-1753441200-1753448400@kalenteri.niemikoti.fi
SUMMARY:Sauna ja grilli kuumina
DESCRIPTION:Kesän ajan perjantaisin Villa Borgiksessa sauna lämpimänä ja grillausmahdollisuus (omat grillattavat mukaan). (Huom. ei juhannusperjantaina 20.6.)
URL:https://kalenteri.niemikoti.fi/tapahtuma/sauna-ja-grilli-kuumina/2025-07-25/
LOCATION:Toimintakeskus Villa Borgis\, Linnavuorentie 13\, Helsinki\, 00950\, Finland
CATEGORIES:Toimintakeskus Villa Borgis
END:VEVENT
BEGIN:VEVENT
DTSTART;TZID=Europe/Helsinki:20250726T100000
DTEND;TZID=Europe/Helsinki:20250726T150000
DTSTAMP:20260420T124832
CREATED:20250618T065641Z
LAST-MODIFIED:20250618T065641Z
UID:10023296-1753524000-1753542000@kalenteri.niemikoti.fi
SUMMARY:Kierrättävä kesä Villa Borgiksessa
DESCRIPTION:Avoimen kesätoiminnan ajan 30.6.-1.8.2025 Toimintakeskus Villa Borgiksessa on pieni kierrätyspiste\, jonne voit tuoda tarpeettomaksi jääneitä puhtaita ja ehjiä vaatteita/tavaroita ja ottaa tarvitsemasi. Kierrätyspiste on avoinna aukioloaikojen mukaan ma-ke klo 10-15\, pe 10-13 (torstait ovat retkipäiviä).
URL:https://kalenteri.niemikoti.fi/tapahtuma/kierrattava-kesa-villa-borgiksessa/2025-07-26/
LOCATION:Toimintakeskus Villa Borgis\, Linnavuorentie 13\, Helsinki\, 00950\, Finland
CATEGORIES:Toimintakeskus Villa Borgis
ATTACH;FMTTYPE=image/jpeg:https://kalenteri.niemikoti.fi/wp-content/uploads/2025/06/kierrattavakesaVB.jpg
END:VEVENT
BEGIN:VEVENT
DTSTART;TZID=Europe/Helsinki:20250727T100000
DTEND;TZID=Europe/Helsinki:20250727T150000
DTSTAMP:20260420T124832
CREATED:20250618T065641Z
LAST-MODIFIED:20250618T065641Z
UID:10023297-1753610400-1753628400@kalenteri.niemikoti.fi
SUMMARY:Kierrättävä kesä Villa Borgiksessa
DESCRIPTION:Avoimen kesätoiminnan ajan 30.6.-1.8.2025 Toimintakeskus Villa Borgiksessa on pieni kierrätyspiste\, jonne voit tuoda tarpeettomaksi jääneitä puhtaita ja ehjiä vaatteita/tavaroita ja ottaa tarvitsemasi. Kierrätyspiste on avoinna aukioloaikojen mukaan ma-ke klo 10-15\, pe 10-13 (torstait ovat retkipäiviä).
URL:https://kalenteri.niemikoti.fi/tapahtuma/kierrattava-kesa-villa-borgiksessa/2025-07-27/
LOCATION:Toimintakeskus Villa Borgis\, Linnavuorentie 13\, Helsinki\, 00950\, Finland
CATEGORIES:Toimintakeskus Villa Borgis
ATTACH;FMTTYPE=image/jpeg:https://kalenteri.niemikoti.fi/wp-content/uploads/2025/06/kierrattavakesaVB.jpg
END:VEVENT
BEGIN:VEVENT
DTSTART;VALUE=DATE:20250728
DTEND;VALUE=DATE:20250802
DTSTAMP:20260420T124832
CREATED:20250612T134948Z
LAST-MODIFIED:20250612T135358Z
UID:10023267-1753660800-1754092799@kalenteri.niemikoti.fi
SUMMARY:Päivätoiminnan kesäleiri
DESCRIPTION:Päivätoiminnan kesäleiri Iitin Kesäharjussa 28.7.-1.8.2025. \n  \nIlmoittautumiset 10.7. mennessä: \nMalmin päivätoimintakeskus: 050-4040025\, malmi@niemikoti.fi \nToimintakeskus Villa Borgis: 0400-560176\, villaborgis@niemikoti.fi
URL:https://kalenteri.niemikoti.fi/tapahtuma/paivatoiminnan-kesaleiri/
LOCATION:Malmin päivätoimintakeskus\, Vanha Helsingintie 9\, Helsinki\, 00700\, Finland
CATEGORIES:Malmin päivätoimintakeskus,Toimintakeskus Villa Borgis
ATTACH;FMTTYPE=image/jpeg:https://kalenteri.niemikoti.fi/wp-content/uploads/2025/06/Kesaleiri_2025.jpg
END:VEVENT
BEGIN:VEVENT
DTSTART;TZID=Europe/Helsinki:20250728T100000
DTEND;TZID=Europe/Helsinki:20250728T110000
DTSTAMP:20260420T124832
CREATED:20250520T082827Z
LAST-MODIFIED:20250523T065246Z
UID:10022104-1753696800-1753700400@kalenteri.niemikoti.fi
SUMMARY:Puurobaari
DESCRIPTION:Tarjolla aamupuuro ja kahvit\, hinta 2 €.
URL:https://kalenteri.niemikoti.fi/tapahtuma/puurobaari-3/2025-07-28/
LOCATION:Toimintakeskus Villa Borgis\, Linnavuorentie 13\, Helsinki\, 00950\, Finland
CATEGORIES:Toimintakeskus Villa Borgis
END:VEVENT
BEGIN:VEVENT
DTSTART;TZID=Europe/Helsinki:20250728T100000
DTEND;TZID=Europe/Helsinki:20250728T150000
DTSTAMP:20260420T124832
CREATED:20250618T065641Z
LAST-MODIFIED:20250618T065641Z
UID:10023298-1753696800-1753714800@kalenteri.niemikoti.fi
SUMMARY:Kierrättävä kesä Villa Borgiksessa
DESCRIPTION:Avoimen kesätoiminnan ajan 30.6.-1.8.2025 Toimintakeskus Villa Borgiksessa on pieni kierrätyspiste\, jonne voit tuoda tarpeettomaksi jääneitä puhtaita ja ehjiä vaatteita/tavaroita ja ottaa tarvitsemasi. Kierrätyspiste on avoinna aukioloaikojen mukaan ma-ke klo 10-15\, pe 10-13 (torstait ovat retkipäiviä).
URL:https://kalenteri.niemikoti.fi/tapahtuma/kierrattava-kesa-villa-borgiksessa/2025-07-28/
LOCATION:Toimintakeskus Villa Borgis\, Linnavuorentie 13\, Helsinki\, 00950\, Finland
CATEGORIES:Toimintakeskus Villa Borgis
ATTACH;FMTTYPE=image/jpeg:https://kalenteri.niemikoti.fi/wp-content/uploads/2025/06/kierrattavakesaVB.jpg
END:VEVENT
BEGIN:VEVENT
DTSTART;TZID=Europe/Helsinki:20250728T103000
DTEND;TZID=Europe/Helsinki:20250728T120000
DTSTAMP:20260420T124832
CREATED:20240814T064605Z
LAST-MODIFIED:20260331T080702Z
UID:10022646-1753698600-1753704000@kalenteri.niemikoti.fi
SUMMARY:Talon töitä
DESCRIPTION:Yhteisön yhteisiä talon töitä; siivousta\, pihatöitä\, keittiötöitä\, sisustusta yms.
URL:https://kalenteri.niemikoti.fi/tapahtuma/talon-toita-3/2025-07-28/
LOCATION:Toimintakeskus Villa Borgis\, Linnavuorentie 13\, Helsinki\, 00950\, Finland
CATEGORIES:Toimintakeskus Villa Borgis
END:VEVENT
BEGIN:VEVENT
DTSTART;TZID=Europe/Helsinki:20250728T130000
DTEND;TZID=Europe/Helsinki:20250728T150000
DTSTAMP:20260420T124832
CREATED:20250527T074143Z
LAST-MODIFIED:20250527T074143Z
UID:10023215-1753707600-1753714800@kalenteri.niemikoti.fi
SUMMARY:Luovaa toimintaa
DESCRIPTION:Kädentaitoja\, kuvataidetta\, kirjoittamista. musiikkia\, sirkustelua\, pelejä ym.
URL:https://kalenteri.niemikoti.fi/tapahtuma/luovaa-toimintaa-2/2025-07-28/
LOCATION:Toimintakeskus Villa Borgis\, Linnavuorentie 13\, Helsinki\, 00950\, Finland
CATEGORIES:Toimintakeskus Villa Borgis
END:VEVENT
BEGIN:VEVENT
DTSTART;TZID=Europe/Helsinki:20250729T100000
DTEND;TZID=Europe/Helsinki:20250729T110000
DTSTAMP:20260420T124832
CREATED:20250520T082827Z
LAST-MODIFIED:20250523T065246Z
UID:10022105-1753783200-1753786800@kalenteri.niemikoti.fi
SUMMARY:Puurobaari
DESCRIPTION:Tarjolla aamupuuro ja kahvit\, hinta 2 €.
URL:https://kalenteri.niemikoti.fi/tapahtuma/puurobaari-3/2025-07-29/
LOCATION:Toimintakeskus Villa Borgis\, Linnavuorentie 13\, Helsinki\, 00950\, Finland
CATEGORIES:Toimintakeskus Villa Borgis
END:VEVENT
BEGIN:VEVENT
DTSTART;TZID=Europe/Helsinki:20250729T100000
DTEND;TZID=Europe/Helsinki:20250729T150000
DTSTAMP:20260420T124832
CREATED:20250618T065641Z
LAST-MODIFIED:20250618T065641Z
UID:10023299-1753783200-1753801200@kalenteri.niemikoti.fi
SUMMARY:Kierrättävä kesä Villa Borgiksessa
DESCRIPTION:Avoimen kesätoiminnan ajan 30.6.-1.8.2025 Toimintakeskus Villa Borgiksessa on pieni kierrätyspiste\, jonne voit tuoda tarpeettomaksi jääneitä puhtaita ja ehjiä vaatteita/tavaroita ja ottaa tarvitsemasi. Kierrätyspiste on avoinna aukioloaikojen mukaan ma-ke klo 10-15\, pe 10-13 (torstait ovat retkipäiviä).
URL:https://kalenteri.niemikoti.fi/tapahtuma/kierrattava-kesa-villa-borgiksessa/2025-07-29/
LOCATION:Toimintakeskus Villa Borgis\, Linnavuorentie 13\, Helsinki\, 00950\, Finland
CATEGORIES:Toimintakeskus Villa Borgis
ATTACH;FMTTYPE=image/jpeg:https://kalenteri.niemikoti.fi/wp-content/uploads/2025/06/kierrattavakesaVB.jpg
END:VEVENT
BEGIN:VEVENT
DTSTART;TZID=Europe/Helsinki:20250729T103000
DTEND;TZID=Europe/Helsinki:20250729T120000
DTSTAMP:20260420T124832
CREATED:20240814T065248Z
LAST-MODIFIED:20260331T081820Z
UID:10025498-1753785000-1753790400@kalenteri.niemikoti.fi
SUMMARY:Borgiksen Picassot
DESCRIPTION:Kuvataideryhmä. Kaikille sopivaa kuvallista työskentelyä\, ei vaadi erityisosaamista.
URL:https://kalenteri.niemikoti.fi/tapahtuma/borgiksen-picassot-2/2025-07-29/
LOCATION:Toimintakeskus Villa Borgis\, Linnavuorentie 13\, Helsinki\, 00950\, Finland
CATEGORIES:Toimintakeskus Villa Borgis
ATTACH;FMTTYPE=image/jpeg:https://kalenteri.niemikoti.fi/wp-content/uploads/2024/08/Borgiksen-Picassot-1.jpg
END:VEVENT
BEGIN:VEVENT
DTSTART;TZID=Europe/Helsinki:20250729T120000
DTEND;TZID=Europe/Helsinki:20250729T150000
DTSTAMP:20260420T124832
CREATED:20250527T074500Z
LAST-MODIFIED:20250527T074500Z
UID:10023221-1753790400-1753801200@kalenteri.niemikoti.fi
SUMMARY:Lautapelit
DESCRIPTION:Osallistujien kesken päätetään mitä lautapeliä pelataan. Villa borgiksessa on erilaisia lautapelejä mutta voit tuoda mukaan myös omasi.
URL:https://kalenteri.niemikoti.fi/tapahtuma/lautapelit-5/2025-07-29/
LOCATION:Toimintakeskus Villa Borgis\, Linnavuorentie 13\, Helsinki\, 00950\, Finland
CATEGORIES:Toimintakeskus Villa Borgis
END:VEVENT
BEGIN:VEVENT
DTSTART;TZID=Europe/Helsinki:20250729T130000
DTEND;TZID=Europe/Helsinki:20250729T150000
DTSTAMP:20260420T124832
CREATED:20250527T074143Z
LAST-MODIFIED:20250527T074143Z
UID:10023216-1753794000-1753801200@kalenteri.niemikoti.fi
SUMMARY:Luovaa toimintaa
DESCRIPTION:Kädentaitoja\, kuvataidetta\, kirjoittamista. musiikkia\, sirkustelua\, pelejä ym.
URL:https://kalenteri.niemikoti.fi/tapahtuma/luovaa-toimintaa-2/2025-07-29/
LOCATION:Toimintakeskus Villa Borgis\, Linnavuorentie 13\, Helsinki\, 00950\, Finland
CATEGORIES:Toimintakeskus Villa Borgis
END:VEVENT
BEGIN:VEVENT
DTSTART;TZID=Europe/Helsinki:20250729T150000
DTEND;TZID=Europe/Helsinki:20250729T160000
DTSTAMP:20260420T124832
CREATED:20250722T130712Z
LAST-MODIFIED:20250728T153209Z
UID:10023310-1753801200-1753804800@kalenteri.niemikoti.fi
SUMMARY:Äänikylpy gongeilla ja äänimaljoilla Kulttuuripaja Elviksessä
DESCRIPTION:Anna äänien hoitaa – tule kokemaan syvärentouttava äänikylpy! \nKuvittele hetki\, jolloin voit pysähtyä täysin. Hetki\, jolloin kehosi ja mielesi saavat luvan hellittää ja palautua. Äänikylpy on matka äänien ja värähtelyiden maailmaan\, jossa gongien\, äänimaljojen ja handpan-rummun soinnut luovat sinulle tilan hengittää\, rauhoittua ja päästää irti. \nKehollasi on luontainen kyky parantaa ja tasapainottaa itseään. Mutta arjen kiire\, stressi ja jatkuva häly voivat tukahduttaa tämän viisauden. Äänikylvyssä annat itsellesi mahdollisuuden laskeutua syvään rauhaan\, jossa jokainen solu saa levätä ja virkistyä. \nSinun ei tarvitse tehdä mitään – vain asettua mukavasti alustalle ja antautua soivien värähtelyiden kannateltavaksi. Ääniaaltojen hellät kosketukset hoitavat kehoa\, rauhoittavat hermostoa ja kirkastavat mieltä. Lopputuloksena nouset alustalta virkistyneenä\, levollisena ja valmiina jatkamaan matkaasi kevyemmin askelin. \nRentouttava äänikylpy on kaikille Niemikotisäätiön palveluidenkäyttäjille ja henkilökunnalle. \nTervetuloa äänikylpyyn🙏
URL:https://kalenteri.niemikoti.fi/tapahtuma/aanikylpy-gongeilla-ja-aanimaljoilla-kulttuuripaja-elviksessa/
CATEGORIES:Kulttuuripaja ELVIS,Tapahtumat henkilökunnalle,Tapahtumat palvelunkäyttäjille
ATTACH;FMTTYPE=image/png:https://kalenteri.niemikoti.fi/wp-content/uploads/2025/07/Aanikylvyt-elviksessa.png
END:VEVENT
BEGIN:VEVENT
DTSTART;TZID=Europe/Helsinki:20250730T100000
DTEND;TZID=Europe/Helsinki:20250730T150000
DTSTAMP:20260420T124832
CREATED:20250618T065641Z
LAST-MODIFIED:20250618T065641Z
UID:10023300-1753869600-1753887600@kalenteri.niemikoti.fi
SUMMARY:Kierrättävä kesä Villa Borgiksessa
DESCRIPTION:Avoimen kesätoiminnan ajan 30.6.-1.8.2025 Toimintakeskus Villa Borgiksessa on pieni kierrätyspiste\, jonne voit tuoda tarpeettomaksi jääneitä puhtaita ja ehjiä vaatteita/tavaroita ja ottaa tarvitsemasi. Kierrätyspiste on avoinna aukioloaikojen mukaan ma-ke klo 10-15\, pe 10-13 (torstait ovat retkipäiviä).
URL:https://kalenteri.niemikoti.fi/tapahtuma/kierrattava-kesa-villa-borgiksessa/2025-07-30/
LOCATION:Toimintakeskus Villa Borgis\, Linnavuorentie 13\, Helsinki\, 00950\, Finland
CATEGORIES:Toimintakeskus Villa Borgis
ATTACH;FMTTYPE=image/jpeg:https://kalenteri.niemikoti.fi/wp-content/uploads/2025/06/kierrattavakesaVB.jpg
END:VEVENT
BEGIN:VEVENT
DTSTART;TZID=Europe/Helsinki:20250730T103000
DTEND;TZID=Europe/Helsinki:20250730T120000
DTSTAMP:20260420T124832
CREATED:20250522T073754Z
LAST-MODIFIED:20250523T065712Z
UID:10022695-1753871400-1753876800@kalenteri.niemikoti.fi
SUMMARY:Soppakokit
DESCRIPTION:Tehdään yhdessä ruokaa. Ruoan hinta ryhmään osallistuville 2 €.
URL:https://kalenteri.niemikoti.fi/tapahtuma/soppakokit-10/2025-07-30/
LOCATION:Toimintakeskus Villa Borgis\, Linnavuorentie 13\, Helsinki\, 00950\, Finland
CATEGORIES:Toimintakeskus Villa Borgis
END:VEVENT
BEGIN:VEVENT
DTSTART;TZID=Europe/Helsinki:20250730T110000
DTEND;TZID=Europe/Helsinki:20250730T130000
DTSTAMP:20260420T124832
CREATED:20250527T074759Z
LAST-MODIFIED:20250527T074759Z
UID:10023226-1753873200-1753880400@kalenteri.niemikoti.fi
SUMMARY:Pleikkapelit
DESCRIPTION:Villa Borgiksessa on monipuolinen valikoima playstation 4:n pelejä. Pelattava peli valitaan osallistujien kesken.
URL:https://kalenteri.niemikoti.fi/tapahtuma/pleikkapelit-3/2025-07-30/
LOCATION:Toimintakeskus Villa Borgis\, Linnavuorentie 13\, Helsinki\, 00950\, Finland
CATEGORIES:Toimintakeskus Villa Borgis
END:VEVENT
BEGIN:VEVENT
DTSTART;TZID=Europe/Helsinki:20250730T130000
DTEND;TZID=Europe/Helsinki:20250730T150000
DTSTAMP:20260420T124832
CREATED:20250522T075722Z
LAST-MODIFIED:20250924T123220Z
UID:10022974-1753880400-1753887600@kalenteri.niemikoti.fi
SUMMARY:Viherpeukalot – luonto- ja puutarharyhmä
DESCRIPTION:Puutarhan ja pihan hoitoa ym. luontoon liittyvää toimintaa.
URL:https://kalenteri.niemikoti.fi/tapahtuma/viherpeukalot-luonto-ja-puutarharyhma-2/2025-07-30/
LOCATION:Toimintakeskus Villa Borgis\, Linnavuorentie 13\, Helsinki\, 00950\, Finland
CATEGORIES:Toimintakeskus Villa Borgis
ATTACH;FMTTYPE=image/jpeg:https://kalenteri.niemikoti.fi/wp-content/uploads/2025/05/Viherpeukalot-2.jpg
END:VEVENT
BEGIN:VEVENT
DTSTART;TZID=Europe/Helsinki:20250731T100000
DTEND;TZID=Europe/Helsinki:20250731T150000
DTSTAMP:20260420T124832
CREATED:20250618T065641Z
LAST-MODIFIED:20250618T065641Z
UID:10023301-1753956000-1753974000@kalenteri.niemikoti.fi
SUMMARY:Kierrättävä kesä Villa Borgiksessa
DESCRIPTION:Avoimen kesätoiminnan ajan 30.6.-1.8.2025 Toimintakeskus Villa Borgiksessa on pieni kierrätyspiste\, jonne voit tuoda tarpeettomaksi jääneitä puhtaita ja ehjiä vaatteita/tavaroita ja ottaa tarvitsemasi. Kierrätyspiste on avoinna aukioloaikojen mukaan ma-ke klo 10-15\, pe 10-13 (torstait ovat retkipäiviä).
URL:https://kalenteri.niemikoti.fi/tapahtuma/kierrattava-kesa-villa-borgiksessa/2025-07-31/
LOCATION:Toimintakeskus Villa Borgis\, Linnavuorentie 13\, Helsinki\, 00950\, Finland
CATEGORIES:Toimintakeskus Villa Borgis
ATTACH;FMTTYPE=image/jpeg:https://kalenteri.niemikoti.fi/wp-content/uploads/2025/06/kierrattavakesaVB.jpg
END:VEVENT
BEGIN:VEVENT
DTSTART;TZID=Europe/Helsinki:20250731T110000
DTEND;TZID=Europe/Helsinki:20250731T150000
DTSTAMP:20260420T124832
CREATED:20250527T075343Z
LAST-MODIFIED:20250527T075343Z
UID:10023232-1753959600-1753974000@kalenteri.niemikoti.fi
SUMMARY:Retkitorstai
DESCRIPTION:Yhteislähtö retkille Villa Borgiksesta\, voidaan sopia tapaamispaikka myös lähemmäs retkikohdetta. Ilmoittaudu\, samalla saat lisätiedot kellonajoista ym. \n3.7. Mustavuori \n10.7. Linnanmäki \n17.7. Green City Farm \n24.7. Stansvik \n31.7. Kahvila Meridian
URL:https://kalenteri.niemikoti.fi/tapahtuma/retkitorstai-2/2025-07-31/
LOCATION:Toimintakeskus Villa Borgis\, Linnavuorentie 13\, Helsinki\, 00950\, Finland
CATEGORIES:Toimintakeskus Villa Borgis
END:VEVENT
BEGIN:VEVENT
DTSTART;TZID=Europe/Helsinki:20250801T100000
DTEND;TZID=Europe/Helsinki:20250801T110000
DTSTAMP:20260420T124832
CREATED:20250522T084825Z
LAST-MODIFIED:20260331T075857Z
UID:10022985-1754042400-1754046000@kalenteri.niemikoti.fi
SUMMARY:Aamujooga
DESCRIPTION:Kaikille sopivaa\, lempeää ja rauhallista joogaa. Max. 10 osallistujaa. Ilmoittaudu.
URL:https://kalenteri.niemikoti.fi/tapahtuma/aamujooga-3/2025-08-01/
LOCATION:Toimintakeskus Villa Borgis\, Linnavuorentie 13\, Helsinki\, 00950\, Finland
CATEGORIES:Toimintakeskus Villa Borgis
ATTACH;FMTTYPE=image/jpeg:https://kalenteri.niemikoti.fi/wp-content/uploads/2025/05/VillaBorgiksen-Aamujooga.jpg
END:VEVENT
BEGIN:VEVENT
DTSTART;TZID=Europe/Helsinki:20250801T100000
DTEND;TZID=Europe/Helsinki:20250801T150000
DTSTAMP:20260420T124832
CREATED:20250618T065641Z
LAST-MODIFIED:20250618T065641Z
UID:10023302-1754042400-1754060400@kalenteri.niemikoti.fi
SUMMARY:Kierrättävä kesä Villa Borgiksessa
DESCRIPTION:Avoimen kesätoiminnan ajan 30.6.-1.8.2025 Toimintakeskus Villa Borgiksessa on pieni kierrätyspiste\, jonne voit tuoda tarpeettomaksi jääneitä puhtaita ja ehjiä vaatteita/tavaroita ja ottaa tarvitsemasi. Kierrätyspiste on avoinna aukioloaikojen mukaan ma-ke klo 10-15\, pe 10-13 (torstait ovat retkipäiviä).
URL:https://kalenteri.niemikoti.fi/tapahtuma/kierrattava-kesa-villa-borgiksessa/2025-08-01/
LOCATION:Toimintakeskus Villa Borgis\, Linnavuorentie 13\, Helsinki\, 00950\, Finland
CATEGORIES:Toimintakeskus Villa Borgis
ATTACH;FMTTYPE=image/jpeg:https://kalenteri.niemikoti.fi/wp-content/uploads/2025/06/kierrattavakesaVB.jpg
END:VEVENT
BEGIN:VEVENT
DTSTART;TZID=Europe/Helsinki:20250801T110000
DTEND;TZID=Europe/Helsinki:20250801T130000
DTSTAMP:20260420T124832
CREATED:20250522T090632Z
LAST-MODIFIED:20250523T070530Z
UID:10023170-1754046000-1754053200@kalenteri.niemikoti.fi
SUMMARY:Sauna ja grilli kuumina
DESCRIPTION:Kesän ajan perjantaisin Villa Borgiksessa sauna lämpimänä ja grillausmahdollisuus (omat grillattavat mukaan). (Huom. ei juhannusperjantaina 20.6.)
URL:https://kalenteri.niemikoti.fi/tapahtuma/sauna-ja-grilli-kuumina/2025-08-01/
LOCATION:Toimintakeskus Villa Borgis\, Linnavuorentie 13\, Helsinki\, 00950\, Finland
CATEGORIES:Toimintakeskus Villa Borgis
END:VEVENT
BEGIN:VEVENT
DTSTART;TZID=Europe/Helsinki:20250801T150000
DTEND;TZID=Europe/Helsinki:20250801T160000
DTSTAMP:20260420T124832
CREATED:20250722T130939Z
LAST-MODIFIED:20250728T153306Z
UID:10023311-1754060400-1754064000@kalenteri.niemikoti.fi
SUMMARY:Äänikylpy gongeilla ja äänimaljoilla Kulttuuripaja Elviksessä
DESCRIPTION:Anna äänien hoitaa – tule kokemaan syvärentouttava äänikylpy! \nKuvittele hetki\, jolloin voit pysähtyä täysin. Hetki\, jolloin kehosi ja mielesi saavat luvan hellittää ja palautua. Äänikylpy on matka äänien ja värähtelyiden maailmaan\, jossa gongien\, äänimaljojen ja handpan-rummun soinnut luovat sinulle tilan hengittää\, rauhoittua ja päästää irti. \nKehollasi on luontainen kyky parantaa ja tasapainottaa itseään. Mutta arjen kiire\, stressi ja jatkuva häly voivat tukahduttaa tämän viisauden. Äänikylvyssä annat itsellesi mahdollisuuden laskeutua syvään rauhaan\, jossa jokainen solu saa levätä ja virkistyä. \nSinun ei tarvitse tehdä mitään – vain asettua mukavasti alustalle ja antautua soivien värähtelyiden kannateltavaksi. Ääniaaltojen hellät kosketukset hoitavat kehoa\, rauhoittavat hermostoa ja kirkastavat mieltä. Lopputuloksena nouset alustalta virkistyneenä\, levollisena ja valmiina jatkamaan matkaasi kevyemmin askelin. \nRentouttava äänikylpy on kaikille Niemikotisäätiön palveluidenkäyttäjille ja henkilökunnalle. \nTervetuloa äänikylpyyn🙏
URL:https://kalenteri.niemikoti.fi/tapahtuma/aanikylpy-gongeilla-ja-aanimaljoilla-kulttuuripaja-elviksessa-2/
CATEGORIES:Kulttuuripaja ELVIS,Tapahtumat henkilökunnalle,Tapahtumat palvelunkäyttäjille
ATTACH;FMTTYPE=image/png:https://kalenteri.niemikoti.fi/wp-content/uploads/2025/07/Aanikylvyt-elviksessa-1.png
END:VEVENT
BEGIN:VEVENT
DTSTART;TZID=Europe/Helsinki:20250802T100000
DTEND;TZID=Europe/Helsinki:20250802T150000
DTSTAMP:20260420T124832
CREATED:20250618T065641Z
LAST-MODIFIED:20250618T065641Z
UID:10023303-1754128800-1754146800@kalenteri.niemikoti.fi
SUMMARY:Kierrättävä kesä Villa Borgiksessa
DESCRIPTION:Avoimen kesätoiminnan ajan 30.6.-1.8.2025 Toimintakeskus Villa Borgiksessa on pieni kierrätyspiste\, jonne voit tuoda tarpeettomaksi jääneitä puhtaita ja ehjiä vaatteita/tavaroita ja ottaa tarvitsemasi. Kierrätyspiste on avoinna aukioloaikojen mukaan ma-ke klo 10-15\, pe 10-13 (torstait ovat retkipäiviä).
URL:https://kalenteri.niemikoti.fi/tapahtuma/kierrattava-kesa-villa-borgiksessa/2025-08-02/
LOCATION:Toimintakeskus Villa Borgis\, Linnavuorentie 13\, Helsinki\, 00950\, Finland
CATEGORIES:Toimintakeskus Villa Borgis
ATTACH;FMTTYPE=image/jpeg:https://kalenteri.niemikoti.fi/wp-content/uploads/2025/06/kierrattavakesaVB.jpg
END:VEVENT
END:VCALENDAR