BEGIN:VCALENDAR
VERSION:2.0
PRODID:-//Tapahtumakalenteri - ECPv6.15.18//NONSGML v1.0//EN
CALSCALE:GREGORIAN
METHOD:PUBLISH
X-ORIGINAL-URL:https://kalenteri.niemikoti.fi
X-WR-CALDESC:Tapahtumat Tapahtumakalenteri
REFRESH-INTERVAL;VALUE=DURATION:PT1H
X-Robots-Tag:noindex
X-PUBLISHED-TTL:PT1H
BEGIN:VTIMEZONE
TZID:Europe/Helsinki
BEGIN:DAYLIGHT
TZOFFSETFROM:+0200
TZOFFSETTO:+0300
TZNAME:EEST
DTSTART:20230326T010000
END:DAYLIGHT
BEGIN:STANDARD
TZOFFSETFROM:+0300
TZOFFSETTO:+0200
TZNAME:EET
DTSTART:20231029T010000
END:STANDARD
BEGIN:DAYLIGHT
TZOFFSETFROM:+0200
TZOFFSETTO:+0300
TZNAME:EEST
DTSTART:20240331T010000
END:DAYLIGHT
BEGIN:STANDARD
TZOFFSETFROM:+0300
TZOFFSETTO:+0200
TZNAME:EET
DTSTART:20241027T010000
END:STANDARD
BEGIN:DAYLIGHT
TZOFFSETFROM:+0200
TZOFFSETTO:+0300
TZNAME:EEST
DTSTART:20250330T010000
END:DAYLIGHT
BEGIN:STANDARD
TZOFFSETFROM:+0300
TZOFFSETTO:+0200
TZNAME:EET
DTSTART:20251026T010000
END:STANDARD
END:VTIMEZONE
BEGIN:VEVENT
DTSTART;TZID=Europe/Helsinki:20240205T090000
DTEND;TZID=Europe/Helsinki:20240205T094500
DTSTAMP:20260421T184026
CREATED:20230531T083840Z
LAST-MODIFIED:20240205T125147Z
UID:10003848-1707123600-1707126300@kalenteri.niemikoti.fi
SUMMARY:Yhteisöpäivän aamiainen
DESCRIPTION:Aamupala yhteisöpäivään osallistuville (maksullinen).
URL:https://kalenteri.niemikoti.fi/tapahtuma/yhteisopaivan-aamiainen-2/2024-02-05/
LOCATION:Toimintakeskus Villa Borgis\, Linnavuorentie 13\, Helsinki\, 00950\, Finland
CATEGORIES:Toimintakeskus Villa Borgis
END:VEVENT
BEGIN:VEVENT
DTSTART;TZID=Europe/Helsinki:20240205T090000
DTEND;TZID=Europe/Helsinki:20240205T130000
DTSTAMP:20260421T184027
CREATED:20230815T052225Z
LAST-MODIFIED:20240109T140543Z
UID:10004714-1707123600-1707138000@kalenteri.niemikoti.fi
SUMMARY:Yhteisöpäivä Malmilla klo 9-13
DESCRIPTION:Yhteisöpäivä\, Malmin päivätoimintakeskus auki klo 9-13. Ilmoittaudu mukaan!
URL:https://kalenteri.niemikoti.fi/tapahtuma/yhteisopaiva-malmilla-klo-9-13/2024-02-05/
LOCATION:Malmin päivätoimintakeskus\, Vanha Helsingintie 9\, Helsinki\, 00700\, Finland
CATEGORIES:Malmin päivätoimintakeskus
END:VEVENT
BEGIN:VEVENT
DTSTART;TZID=Europe/Helsinki:20240205T100000
DTEND;TZID=Europe/Helsinki:20240205T103000
DTSTAMP:20260421T184027
CREATED:20230531T081915Z
LAST-MODIFIED:20240205T125027Z
UID:10003973-1707127200-1707129000@kalenteri.niemikoti.fi
SUMMARY:Yhteisöpäivän aamukokous
DESCRIPTION:Yhteisöpäivän aamukokouksessa käydään läpi päivän ohjelmaa\, tapahtumia\, yhteisötehtäviä ja muita ajankohtaisia asioita.
URL:https://kalenteri.niemikoti.fi/tapahtuma/yhteisopaivan-aamukokous/2024-02-05/
LOCATION:Toimintakeskus Villa Borgis\, Linnavuorentie 13\, Helsinki\, 00950\, Finland
CATEGORIES:Toimintakeskus Villa Borgis
END:VEVENT
BEGIN:VEVENT
DTSTART;TZID=Europe/Helsinki:20240205T100000
DTEND;TZID=Europe/Helsinki:20240205T103000
DTSTAMP:20260421T184027
CREATED:20230815T052928Z
LAST-MODIFIED:20240109T140543Z
UID:10004688-1707127200-1707129000@kalenteri.niemikoti.fi
SUMMARY:Yhteisöpäivän aamukokous Malmilla
DESCRIPTION:Yhteisöpäivän aamukokouksessa käydään läpi päivän ohjelma\, tulevat tapahtumat ja kuulumiskierros.
URL:https://kalenteri.niemikoti.fi/tapahtuma/yhteisopaivan-aamukokous-malmilla/2024-02-05/
LOCATION:Malmin päivätoimintakeskus\, Vanha Helsingintie 9\, Helsinki\, 00700\, Finland
CATEGORIES:Malmin päivätoimintakeskus
END:VEVENT
BEGIN:VEVENT
DTSTART;TZID=Europe/Helsinki:20240205T103000
DTEND;TZID=Europe/Helsinki:20240205T120000
DTSTAMP:20260421T184027
CREATED:20230531T084700Z
LAST-MODIFIED:20240205T125100Z
UID:10004032-1707129000-1707134400@kalenteri.niemikoti.fi
SUMMARY:Talon töitä
DESCRIPTION:Yhteisöpäivän tehtäviä\, esim. piha-/puutarhatyöt\, sisustus\, siivous\, yhteisökokous.
URL:https://kalenteri.niemikoti.fi/tapahtuma/talon-toita/2024-02-05/
LOCATION:Toimintakeskus Villa Borgis\, Linnavuorentie 13\, Helsinki\, 00950\, Finland
CATEGORIES:Toimintakeskus Villa Borgis
END:VEVENT
BEGIN:VEVENT
DTSTART;TZID=Europe/Helsinki:20240205T120000
DTEND;TZID=Europe/Helsinki:20240205T123000
DTSTAMP:20260421T184027
CREATED:20230531T112750Z
LAST-MODIFIED:20250321T104552Z
UID:10004057-1707134400-1707136200@kalenteri.niemikoti.fi
SUMMARY:Yhteisöpäivän lounas
DESCRIPTION:Lounas yhteisöpäivään osallistuville\, maksullinen.
URL:https://kalenteri.niemikoti.fi/tapahtuma/yhteisopaivan-lounas/2024-02-05/
LOCATION:Toimintakeskus Villa Borgis\, Linnavuorentie 13\, Helsinki\, 00950\, Finland
CATEGORIES:Toimintakeskus Villa Borgis
END:VEVENT
BEGIN:VEVENT
DTSTART;TZID=Europe/Helsinki:20240205T123000
DTEND;TZID=Europe/Helsinki:20240205T160000
DTSTAMP:20260421T184027
CREATED:20240129T121752Z
LAST-MODIFIED:20240403T070846Z
UID:10006079-1707136200-1707148800@kalenteri.niemikoti.fi
SUMMARY:Iloa ulkoilusta -liikuntaryhmä
DESCRIPTION:Iloa ulkoilusta -liikuntaryhmä klo 12.30-16.00. Lähtö Malmin päivätoimintakeskukselta klo 12.30. \n8.4. Geokätköily \n15.4. Kävely Seurasaaressa \n22.4. Malmin ulkokuntosali (paluu klo 15 mennessä) \n29.4. Kivinokan esteetön luontopolku ja lintulava \nIlmoittaudu mukaan!
URL:https://kalenteri.niemikoti.fi/tapahtuma/liiku-ja-innostu-liikuntaryhma/2024-02-05/
LOCATION:Malmin päivätoimintakeskus\, Vanha Helsingintie 9\, Helsinki\, 00700\, Finland
CATEGORIES:Malmin päivätoimintakeskus
ATTACH;FMTTYPE=image/jpeg:https://kalenteri.niemikoti.fi/wp-content/uploads/2024/01/Iloa_liikunnasta.jpg
END:VEVENT
BEGIN:VEVENT
DTSTART;TZID=Europe/Helsinki:20240205T130000
DTEND;TZID=Europe/Helsinki:20240205T140000
DTSTAMP:20260421T184027
CREATED:20230822T084516Z
LAST-MODIFIED:20250520T082214Z
UID:10001983-1707138000-1707141600@kalenteri.niemikoti.fi
SUMMARY:Mahdollisuuksien maanantai
DESCRIPTION:Yhteisön ohjelmaa (toiveryhmiä ja vaihtuvia teemoja)
URL:https://kalenteri.niemikoti.fi/tapahtuma/mahdollisuuksien-maanantai-2/2024-02-05/
LOCATION:Toimintakeskus Villa Borgis\, Linnavuorentie 13\, Helsinki\, 00950\, Finland
CATEGORIES:Toimintakeskus Villa Borgis
END:VEVENT
BEGIN:VEVENT
DTSTART;TZID=Europe/Helsinki:20240205T140000
DTEND;TZID=Europe/Helsinki:20240205T143000
DTSTAMP:20260421T184027
CREATED:20230607T051246Z
LAST-MODIFIED:20250107T131756Z
UID:10013933-1707141600-1707143400@kalenteri.niemikoti.fi
SUMMARY:Yhteisöpäivän päiväkahvit
DESCRIPTION:Päiväkahvit kuuluvat aamiaisen ja/tai lounaan hintaan\, muuten 1 €.
URL:https://kalenteri.niemikoti.fi/tapahtuma/yhteisopaivan-paivakahvit/2024-02-05/
LOCATION:Toimintakeskus Villa Borgis\, Linnavuorentie 13\, Helsinki\, 00950\, Finland
CATEGORIES:Toimintakeskus Villa Borgis
END:VEVENT
BEGIN:VEVENT
DTSTART;TZID=Europe/Helsinki:20240206T090000
DTEND;TZID=Europe/Helsinki:20240206T094500
DTSTAMP:20260421T184027
CREATED:20230531T083840Z
LAST-MODIFIED:20240205T125147Z
UID:10003849-1707210000-1707212700@kalenteri.niemikoti.fi
SUMMARY:Yhteisöpäivän aamiainen
DESCRIPTION:Aamupala yhteisöpäivään osallistuville (maksullinen).
URL:https://kalenteri.niemikoti.fi/tapahtuma/yhteisopaivan-aamiainen-2/2024-02-06/
LOCATION:Toimintakeskus Villa Borgis\, Linnavuorentie 13\, Helsinki\, 00950\, Finland
CATEGORIES:Toimintakeskus Villa Borgis
END:VEVENT
BEGIN:VEVENT
DTSTART;TZID=Europe/Helsinki:20240206T090000
DTEND;TZID=Europe/Helsinki:20240206T130000
DTSTAMP:20260421T184027
CREATED:20230821T054354Z
LAST-MODIFIED:20240528T091101Z
UID:10004636-1707210000-1707224400@kalenteri.niemikoti.fi
SUMMARY:Yhteisöpäivä Malmilla klo 9-13
DESCRIPTION:Yhteisöpäivä\, Malmin päivätoimintakeskus auki klo 9-13. Ilmoittaudu mukaan!
URL:https://kalenteri.niemikoti.fi/tapahtuma/yhteisopaiva-malmilla-klo-9-13-3/2024-02-06/
LOCATION:Malmin päivätoimintakeskus\, Vanha Helsingintie 9\, Helsinki\, 00700\, Finland
CATEGORIES:Malmin päivätoimintakeskus
END:VEVENT
BEGIN:VEVENT
DTSTART;TZID=Europe/Helsinki:20240206T100000
DTEND;TZID=Europe/Helsinki:20240206T103000
DTSTAMP:20260421T184027
CREATED:20230531T081915Z
LAST-MODIFIED:20240205T125027Z
UID:10003974-1707213600-1707215400@kalenteri.niemikoti.fi
SUMMARY:Yhteisöpäivän aamukokous
DESCRIPTION:Yhteisöpäivän aamukokouksessa käydään läpi päivän ohjelmaa\, tapahtumia\, yhteisötehtäviä ja muita ajankohtaisia asioita.
URL:https://kalenteri.niemikoti.fi/tapahtuma/yhteisopaivan-aamukokous/2024-02-06/
LOCATION:Toimintakeskus Villa Borgis\, Linnavuorentie 13\, Helsinki\, 00950\, Finland
CATEGORIES:Toimintakeskus Villa Borgis
END:VEVENT
BEGIN:VEVENT
DTSTART;TZID=Europe/Helsinki:20240206T100000
DTEND;TZID=Europe/Helsinki:20240206T103000
DTSTAMP:20260421T184027
CREATED:20230821T054731Z
LAST-MODIFIED:20240528T091332Z
UID:10004610-1707213600-1707215400@kalenteri.niemikoti.fi
SUMMARY:Yhteisöpäivän aamukokous Malmilla
DESCRIPTION:Yhteisöpäivän aamukokouksessa käydään läpi päivän ohjelma\, tulevat tapahtumat ja kuulumiskierros.
URL:https://kalenteri.niemikoti.fi/tapahtuma/yhteisopaivan-aamukokous-malmilla-2/2024-02-06/
LOCATION:Malmin päivätoimintakeskus\, Vanha Helsingintie 9\, Helsinki\, 00700\, Finland
CATEGORIES:Malmin päivätoimintakeskus
END:VEVENT
BEGIN:VEVENT
DTSTART;TZID=Europe/Helsinki:20240206T103000
DTEND;TZID=Europe/Helsinki:20240206T111500
DTSTAMP:20260421T184027
CREATED:20230821T055336Z
LAST-MODIFIED:20240528T091429Z
UID:10004584-1707215400-1707218100@kalenteri.niemikoti.fi
SUMMARY:Luonto & liikunta -kävelyryhmä Malmilla
DESCRIPTION:Päätetään yhdessä päivän kävelyreitti ja kävelläänkö reippaasti vai rauhallisesti. Uusille on tilaa\, ilmoittaudu mukaan!
URL:https://kalenteri.niemikoti.fi/tapahtuma/luonto-liikunta-kavelyryhma-malmilla/2024-02-06/
LOCATION:Malmin päivätoimintakeskus\, Vanha Helsingintie 9\, Helsinki\, 00700\, Finland
CATEGORIES:Malmin päivätoimintakeskus
END:VEVENT
BEGIN:VEVENT
DTSTART;TZID=Europe/Helsinki:20240206T103000
DTEND;TZID=Europe/Helsinki:20240206T120000
DTSTAMP:20260421T184027
CREATED:20230531T124423Z
LAST-MODIFIED:20240123T084001Z
UID:10005061-1707215400-1707220800@kalenteri.niemikoti.fi
SUMMARY:Borgiksen Picassot
DESCRIPTION:Kuvataideryhmä\, ilmoittaudu.
URL:https://kalenteri.niemikoti.fi/tapahtuma/borgiksen-picassot/2024-02-06/
LOCATION:Toimintakeskus Villa Borgis\, Linnavuorentie 13\, Helsinki\, 00950\, Finland
CATEGORIES:Toimintakeskus Villa Borgis
END:VEVENT
BEGIN:VEVENT
DTSTART;TZID=Europe/Helsinki:20240206T123000
DTEND;TZID=Europe/Helsinki:20240206T131500
DTSTAMP:20260421T184027
CREATED:20240129T121244Z
LAST-MODIFIED:20240912T102135Z
UID:10005175-1707222600-1707225300@kalenteri.niemikoti.fi
SUMMARY:Soittoryhmä Malmilla
DESCRIPTION:Tutustutaan yhdessä pianon\, kitaran ja ukulelen soiton alkeisiin ja soitetaan yhdessä helppoja kappaleita. Max. 8 osallistujaa\, ilmoittaudu mukaan!
URL:https://kalenteri.niemikoti.fi/tapahtuma/soittoryhma/2024-02-06/
LOCATION:Malmin päivätoimintakeskus\, Vanha Helsingintie 9\, Helsinki\, 00700\, Finland
CATEGORIES:Malmin päivätoimintakeskus
END:VEVENT
BEGIN:VEVENT
DTSTART;TZID=Europe/Helsinki:20240206T130000
DTEND;TZID=Europe/Helsinki:20240206T140000
DTSTAMP:20260421T184027
CREATED:20231108T090753Z
LAST-MODIFIED:20240513T053528Z
UID:10004174-1707224400-1707228000@kalenteri.niemikoti.fi
SUMMARY:Yhteisön ohjelmaa
DESCRIPTION:Yhteisön ohjelmaa\, esim. rentoutusta\, ulkoilua\, musiikin kuuntelua\, kädentaitoja.
URL:https://kalenteri.niemikoti.fi/tapahtuma/yhteison-ohjelmaa-2/2024-02-06/
LOCATION:Toimintakeskus Villa Borgis\, Linnavuorentie 13\, Helsinki\, 00950\, Finland
CATEGORIES:Toimintakeskus Villa Borgis
END:VEVENT
BEGIN:VEVENT
DTSTART;TZID=Europe/Helsinki:20240206T130000
DTEND;TZID=Europe/Helsinki:20240206T150000
DTSTAMP:20260421T184027
CREATED:20231016T065556Z
LAST-MODIFIED:20240912T102328Z
UID:10005904-1707224400-1707231600@kalenteri.niemikoti.fi
SUMMARY:Jälleenvuokrauksen bändi Malmilla
DESCRIPTION:Bändissä on vakiintunut kokoonpano. Lisätietoja bändistä voi kysyä ohjaajilta.
URL:https://kalenteri.niemikoti.fi/tapahtuma/jalleenvuokrauksen-bandi/2024-02-06/
LOCATION:Malmin päivätoimintakeskus\, Vanha Helsingintie 9\, Helsinki\, 00700\, Finland
CATEGORIES:Malmin päivätoimintakeskus
END:VEVENT
BEGIN:VEVENT
DTSTART;TZID=Europe/Helsinki:20240206T140000
DTEND;TZID=Europe/Helsinki:20240206T143000
DTSTAMP:20260421T184027
CREATED:20230607T051246Z
LAST-MODIFIED:20250107T131756Z
UID:10013934-1707228000-1707229800@kalenteri.niemikoti.fi
SUMMARY:Yhteisöpäivän päiväkahvit
DESCRIPTION:Päiväkahvit kuuluvat aamiaisen ja/tai lounaan hintaan\, muuten 1 €.
URL:https://kalenteri.niemikoti.fi/tapahtuma/yhteisopaivan-paivakahvit/2024-02-06/
LOCATION:Toimintakeskus Villa Borgis\, Linnavuorentie 13\, Helsinki\, 00950\, Finland
CATEGORIES:Toimintakeskus Villa Borgis
END:VEVENT
BEGIN:VEVENT
DTSTART;TZID=Europe/Helsinki:20240206T153000
DTEND;TZID=Europe/Helsinki:20240206T170000
DTSTAMP:20260421T184027
CREATED:20231016T065925Z
LAST-MODIFIED:20240912T102346Z
UID:10005941-1707233400-1707238800@kalenteri.niemikoti.fi
SUMMARY:Malmin bändi
DESCRIPTION:Bändissä on vakiintunut kokoonpano. Lisätietoja Malmin bändistä voi kysyä ohjaaja Tapio Kojolta.
URL:https://kalenteri.niemikoti.fi/tapahtuma/malmin-bandi/2024-02-06/
LOCATION:Malmin päivätoimintakeskus\, Vanha Helsingintie 9\, Helsinki\, 00700\, Finland
CATEGORIES:Malmin päivätoimintakeskus
END:VEVENT
BEGIN:VEVENT
DTSTART;TZID=Europe/Helsinki:20240207T090000
DTEND;TZID=Europe/Helsinki:20240207T094500
DTSTAMP:20260421T184027
CREATED:20230531T083840Z
LAST-MODIFIED:20240205T125147Z
UID:10003850-1707296400-1707299100@kalenteri.niemikoti.fi
SUMMARY:Yhteisöpäivän aamiainen
DESCRIPTION:Aamupala yhteisöpäivään osallistuville (maksullinen).
URL:https://kalenteri.niemikoti.fi/tapahtuma/yhteisopaivan-aamiainen-2/2024-02-07/
LOCATION:Toimintakeskus Villa Borgis\, Linnavuorentie 13\, Helsinki\, 00950\, Finland
CATEGORIES:Toimintakeskus Villa Borgis
END:VEVENT
BEGIN:VEVENT
DTSTART;TZID=Europe/Helsinki:20240207T090000
DTEND;TZID=Europe/Helsinki:20240207T130000
DTSTAMP:20260421T184027
CREATED:20230822T114010Z
LAST-MODIFIED:20240528T090051Z
UID:10004402-1707296400-1707310800@kalenteri.niemikoti.fi
SUMMARY:Yhteisöpäivä Malmilla klo 9-13
DESCRIPTION:Yhteisöpäivä\, Malmin päivätoimintakeskus auki klo 9-13. Ilmoittaudu mukaan!
URL:https://kalenteri.niemikoti.fi/tapahtuma/yhteisopaiva-malmilla-klo-9-13-4/2024-02-07/
LOCATION:Malmin päivätoimintakeskus\, Vanha Helsingintie 9\, Helsinki\, 00700\, Finland
CATEGORIES:Malmin päivätoimintakeskus
END:VEVENT
BEGIN:VEVENT
DTSTART;TZID=Europe/Helsinki:20240207T100000
DTEND;TZID=Europe/Helsinki:20240207T103000
DTSTAMP:20260421T184027
CREATED:20230531T081915Z
LAST-MODIFIED:20240205T125027Z
UID:10003975-1707300000-1707301800@kalenteri.niemikoti.fi
SUMMARY:Yhteisöpäivän aamukokous
DESCRIPTION:Yhteisöpäivän aamukokouksessa käydään läpi päivän ohjelmaa\, tapahtumia\, yhteisötehtäviä ja muita ajankohtaisia asioita.
URL:https://kalenteri.niemikoti.fi/tapahtuma/yhteisopaivan-aamukokous/2024-02-07/
LOCATION:Toimintakeskus Villa Borgis\, Linnavuorentie 13\, Helsinki\, 00950\, Finland
CATEGORIES:Toimintakeskus Villa Borgis
END:VEVENT
BEGIN:VEVENT
DTSTART;TZID=Europe/Helsinki:20240207T100000
DTEND;TZID=Europe/Helsinki:20240207T103000
DTSTAMP:20260421T184027
CREATED:20230822T114233Z
LAST-MODIFIED:20240528T091641Z
UID:10004428-1707300000-1707301800@kalenteri.niemikoti.fi
SUMMARY:Yhteisöpäivän aamukokous Malmilla
DESCRIPTION:Yhteisöpäivän aamukokouksessa käydään läpi päivän ohjelma\, tulevat tapahtumat ja kuulumiskierros.
URL:https://kalenteri.niemikoti.fi/tapahtuma/yhteisopaivan-aamukokous-malmilla-3/2024-02-07/
LOCATION:Malmin päivätoimintakeskus\, Vanha Helsingintie 9\, Helsinki\, 00700\, Finland
CATEGORIES:Malmin päivätoimintakeskus
END:VEVENT
BEGIN:VEVENT
DTSTART;TZID=Europe/Helsinki:20240207T103000
DTEND;TZID=Europe/Helsinki:20240207T120000
DTSTAMP:20260421T184027
CREATED:20231108T084809Z
LAST-MODIFIED:20231211T130833Z
UID:10004163-1707301800-1707307200@kalenteri.niemikoti.fi
SUMMARY:Kohtaamistaide
DESCRIPTION:Moniaistillista kuvataidetta ryhmässä. Virittäydymme päivän aiheeseen kaikin aistein ja teemme yllätyksellisen taideteoksen arvostaen omaa ja muiden tekemistä. Työt kootaan taidenäyttelyksi. Aiempaa kokemusta tai osaamista ei tarvita. Ilmoittaudu!
URL:https://kalenteri.niemikoti.fi/tapahtuma/kohtaamistaide/2024-02-07/
LOCATION:Toimintakeskus Villa Borgis\, Linnavuorentie 13\, Helsinki\, 00950\, Finland
CATEGORIES:Toimintakeskus Villa Borgis
ATTACH;FMTTYPE=image/jpeg:https://kalenteri.niemikoti.fi/wp-content/uploads/2023/11/Kohtaamistaide-2024.jpg
END:VEVENT
BEGIN:VEVENT
DTSTART;TZID=Europe/Helsinki:20240207T130000
DTEND;TZID=Europe/Helsinki:20240207T143000
DTSTAMP:20260421T184027
CREATED:20240103T134956Z
LAST-MODIFIED:20240912T102443Z
UID:10004831-1707310800-1707316200@kalenteri.niemikoti.fi
SUMMARY:Taide & käsityö -ryhmä Malmilla
DESCRIPTION:Kuvataidetta ja käsitöitä vaihtuvin teemoin ja tekniikoin. Max. 8 osallistujaa\, ilmoittaudu mukaan!
URL:https://kalenteri.niemikoti.fi/tapahtuma/kuvis-ja-kasityo-ryhma-malmilla/2024-02-07/
LOCATION:Malmin päivätoimintakeskus\, Vanha Helsingintie 9\, Helsinki\, 00700\, Finland
CATEGORIES:Malmin päivätoimintakeskus
END:VEVENT
BEGIN:VEVENT
DTSTART;TZID=Europe/Helsinki:20240207T130000
DTEND;TZID=Europe/Helsinki:20240207T150000
DTSTAMP:20260421T184027
CREATED:20231027T070935Z
LAST-MODIFIED:20240130T100922Z
UID:10004145-1707310800-1707318000@kalenteri.niemikoti.fi
SUMMARY:Helppoa liikuntaa
DESCRIPTION:Tutustutaan yhdessä erilaisiin liikuntalajeihin ja -paikkoihin. Ilmoittaudu! \n10.1. keilaus \n17.1. ulkoilu \n24.1. jooga \n31.1. sisäolympialaiset \n7.2. eri lajikokeilut Liikuntamyllyssä \n14.2. Gongirentoutus Elviksessä \n21.2. pallopelit Helmi Center Malmilla \n28.2. uinti \n 
URL:https://kalenteri.niemikoti.fi/tapahtuma/helppoa-liikuntaa-2/2024-02-07/
LOCATION:Toimintakeskus Villa Borgis\, Linnavuorentie 13\, Helsinki\, 00950\, Finland
CATEGORIES:Toimintakeskus Villa Borgis
END:VEVENT
BEGIN:VEVENT
DTSTART;TZID=Europe/Helsinki:20240208T110000
DTEND;TZID=Europe/Helsinki:20240208T120000
DTSTAMP:20260421T184027
CREATED:20231110T103101Z
LAST-MODIFIED:20240911T111654Z
UID:10010628-1707390000-1707393600@kalenteri.niemikoti.fi
SUMMARY:Rento jooga Malmilla
DESCRIPTION:Lempeää ja helppoa venyttelyä sekä rentoutusta. Täydentyvä ryhmä\, ilmoittaudu mukaan!
URL:https://kalenteri.niemikoti.fi/tapahtuma/jooga-malmilla/2024-02-08/
LOCATION:Malmin päivätoimintakeskus\, Vanha Helsingintie 9\, Helsinki\, 00700\, Finland
CATEGORIES:Malmin päivätoimintakeskus
END:VEVENT
BEGIN:VEVENT
DTSTART;TZID=Europe/Helsinki:20240208T120000
DTEND;TZID=Europe/Helsinki:20240208T150000
DTSTAMP:20260421T184027
CREATED:20231108T091648Z
LAST-MODIFIED:20240214T082403Z
UID:10004193-1707393600-1707404400@kalenteri.niemikoti.fi
SUMMARY:Helsinki tutuksi -retkiryhmä
DESCRIPTION:Kävely- ja museoretkiä eri puolille kaupunkia. Liikumme kohteisiin julkisella liikenteellä\, joten tarvitset voimassa olevan HSL:n matkalipun. Museoihin pääsemme ryhmänä ilmaiseksi. \n1.2. Ateneum \n8.2. Taidehalli \n15.2. Liikennelakon takia retki peruttu. Villa Borgis on auki. \n22.2. Kiasma \n29.2. Hotelli- ja ravintolamuseo
URL:https://kalenteri.niemikoti.fi/tapahtuma/helsinki-tutuksi-retkiryhma/2024-02-08/
LOCATION:Toimintakeskus Villa Borgis\, Linnavuorentie 13\, Helsinki\, 00950\, Finland
CATEGORIES:Toimintakeskus Villa Borgis
ATTACH;FMTTYPE=image/jpeg:https://kalenteri.niemikoti.fi/wp-content/uploads/2023/11/Cream-Red-Blue-Abstract-Creative-Art-Exhibition-Invitation-1.jpg
END:VEVENT
BEGIN:VEVENT
DTSTART;TZID=Europe/Helsinki:20240208T123000
DTEND;TZID=Europe/Helsinki:20240208T163000
DTSTAMP:20260421T184027
CREATED:20240122T134303Z
LAST-MODIFIED:20240422T065905Z
UID:10005002-1707395400-1707409800@kalenteri.niemikoti.fi
SUMMARY:Pelitorstai
DESCRIPTION:Lautapelejä ja korttipelejä rennossa tunnelmassa teekupposen äärellä. Ei ilmoittautumista. Tervetuloa pelaamaan!
URL:https://kalenteri.niemikoti.fi/tapahtuma/pelitorstai/2024-02-08/
LOCATION:Malmin päivätoimintakeskus\, Vanha Helsingintie 9\, Helsinki\, 00700\, Finland
CATEGORIES:Malmin päivätoimintakeskus
ATTACH;FMTTYPE=image/jpeg:https://kalenteri.niemikoti.fi/wp-content/uploads/2024/01/Pelitorstai-2.jpg
END:VEVENT
END:VCALENDAR