BEGIN:VCALENDAR
VERSION:2.0
PRODID:-//Tapahtumakalenteri - ECPv6.15.18//NONSGML v1.0//EN
CALSCALE:GREGORIAN
METHOD:PUBLISH
X-ORIGINAL-URL:https://kalenteri.niemikoti.fi
X-WR-CALDESC:Tapahtumat Tapahtumakalenteri
REFRESH-INTERVAL;VALUE=DURATION:PT1H
X-Robots-Tag:noindex
X-PUBLISHED-TTL:PT1H
BEGIN:VTIMEZONE
TZID:Europe/Helsinki
BEGIN:DAYLIGHT
TZOFFSETFROM:+0200
TZOFFSETTO:+0300
TZNAME:EEST
DTSTART:20240331T010000
END:DAYLIGHT
BEGIN:STANDARD
TZOFFSETFROM:+0300
TZOFFSETTO:+0200
TZNAME:EET
DTSTART:20241027T010000
END:STANDARD
BEGIN:DAYLIGHT
TZOFFSETFROM:+0200
TZOFFSETTO:+0300
TZNAME:EEST
DTSTART:20250330T010000
END:DAYLIGHT
BEGIN:STANDARD
TZOFFSETFROM:+0300
TZOFFSETTO:+0200
TZNAME:EET
DTSTART:20251026T010000
END:STANDARD
BEGIN:DAYLIGHT
TZOFFSETFROM:+0200
TZOFFSETTO:+0300
TZNAME:EEST
DTSTART:20260329T010000
END:DAYLIGHT
BEGIN:STANDARD
TZOFFSETFROM:+0300
TZOFFSETTO:+0200
TZNAME:EET
DTSTART:20261025T010000
END:STANDARD
END:VTIMEZONE
BEGIN:VEVENT
DTSTART;TZID=Europe/Helsinki:20250603T110000
DTEND;TZID=Europe/Helsinki:20250603T123000
DTSTAMP:20260426T035051
CREATED:20250520T064558Z
LAST-MODIFIED:20250520T065654Z
UID:10022085-1748948400-1748953800@kalenteri.niemikoti.fi
SUMMARY:Hyvinvointiryhmä: Kulttuurihyvinvointi
DESCRIPTION:3.6. ryhmän teemana on kulttuurihyvinvointi. Tervetuloa mukaan keskustelemaan kulttuurin ja hyvinvoinnin yhteydestä\, ja saamaan tietoa kesällä järjestettävistä matalan kynnyksen kulttuurimenoista. Paikalla ohjaamassa ryhmää on työvalmentajan Matleenan lisäksi kokemusasiantuntija Sanna-Mari. Ryhmään ei tarvitse ilmoittautua ennakkoon\, eikä ryhmään osallistuminen vaadi Valtti Valmennuksen valmennuksessa olemista. Ryhmämme ovat kaikille avoimia!
URL:https://kalenteri.niemikoti.fi/tapahtuma/hyvinvointiryhma-kulttuurihyvinvointi-2/
LOCATION:Valtti Valmennus\, Elimäenkatu 26\, Helsinki\, 00510\, Finland
CATEGORIES:Tapahtumat palvelunkäyttäjille,Valtti Valmennus
ATTACH;FMTTYPE=image/png:https://kalenteri.niemikoti.fi/wp-content/uploads/2025/05/KESAN-RYHMAMAINOKSET-1-1.png
END:VEVENT
BEGIN:VEVENT
DTSTART;TZID=Europe/Helsinki:20250605T133000
DTEND;TZID=Europe/Helsinki:20250605T170000
DTSTAMP:20260426T035051
CREATED:20250522T053418Z
LAST-MODIFIED:20250522T053418Z
UID:10022672-1749130200-1749142800@kalenteri.niemikoti.fi
SUMMARY:Retki Ilonpilke-tapahtumaan
DESCRIPTION:Lähdetään yhdessä IlonPilke-tapahtumaan Lapinlahden lähteelle! IlonPilke-tapahtumassa paikalla järjestöjä\, toiminnallista tekemistä\, musiikkiesityksiä ja pientä purtavaa. \nIlonPilke 2025 | Facebook \n  \nLähtö Valtti Valmennuksen tiloista (Kuortaneenkatu 1\, 4. krs) kokemusasiantuntija Ainon kanssa. Julkisella liikenteellä matka kestää n. 30-40 minuuttia. \nIlmoittauduthan ennakkoon sähköpostitse aino.kokemusasiantuntija@niemikoti.fi 3.6. mennessä!
URL:https://kalenteri.niemikoti.fi/tapahtuma/retki-ilonpilke-tapahtumaan-2/
LOCATION:Valtti Valmennus\, Elimäenkatu 26\, Helsinki\, 00510\, Finland
CATEGORIES:Valtti Valmennus
ATTACH;FMTTYPE=image/png:https://kalenteri.niemikoti.fi/wp-content/uploads/2025/05/Ilonpilke.png
END:VEVENT
BEGIN:VEVENT
DTSTART;TZID=Europe/Helsinki:20250610T110000
DTEND;TZID=Europe/Helsinki:20250610T123000
DTSTAMP:20260426T035051
CREATED:20250324T092947Z
LAST-MODIFIED:20250528T055439Z
UID:10022003-1749553200-1749558600@kalenteri.niemikoti.fi
SUMMARY:Ryhmävalmennusta: TYÖNHAKUTIISTAI
DESCRIPTION:Tule Valtti Valmennukseen tarkastelemaan\, löytyisikö työmarkkinoilta jotain kiinnostavaa. Valmentaja paikalla jeesailemassa etsinnöissä ja antamassa vinkkejä työnhakuihin. \nRyhmään ei tarvitse ilmoittautua ennakkoon ja ryhmä on kaikille avoin. \n 
URL:https://kalenteri.niemikoti.fi/tapahtuma/ryhmavalmennusta-tyonhakutorstai/
LOCATION:Valtti Valmennus\, Elimäenkatu 26\, Helsinki\, 00510\, Finland
CATEGORIES:Valtti Valmennus
ATTACH;FMTTYPE=image/png:https://kalenteri.niemikoti.fi/wp-content/uploads/2025/03/Tyonhakutiistaithetiistai-1.png
END:VEVENT
BEGIN:VEVENT
DTSTART;TZID=Europe/Helsinki:20250612T103000
DTEND;TZID=Europe/Helsinki:20250612T120000
DTSTAMP:20260426T035051
CREATED:20250527T074807Z
LAST-MODIFIED:20250527T074807Z
UID:10023227-1749724200-1749729600@kalenteri.niemikoti.fi
SUMMARY:Helsinki-päivä: Amos Rex
DESCRIPTION:Helsinki-päivänä Helsinki on täynnä erilaista ohjelmaa ja tekemistä. Taidemuseo Amos Rexiin on ilmainen sisäänpääsy klo 11 alkaen. Näyttelynä silloin on Anna Estarriola: Staged Circumstances and Piles of Things. Lisää Amos Rexin näyttelytarjonnasta voit lukea heidän nettisivuiltaan: Amos Rex – taidemuseo Helsingissä \nValtti Valmennus järjestää retken Amos Rexiin\, ja yhteislähtö on Valtti Valmennuksen tiloista (Kuortaneenkatu 1\, 4. krs). \nIlmoittauduthan retkelle ennakkoon viimeistään 11.6. mennessä:\nvaltti@niemikoti.fi
URL:https://kalenteri.niemikoti.fi/tapahtuma/helsinki-paiva-amos-rex/
LOCATION:Valtti Valmennus\, Elimäenkatu 26\, Helsinki\, 00510\, Finland
CATEGORIES:Tapahtumat palvelunkäyttäjille,Valtti Valmennus
ATTACH;FMTTYPE=image/png:https://kalenteri.niemikoti.fi/wp-content/uploads/2025/05/HelsinkiPaiva.png
END:VEVENT
BEGIN:VEVENT
DTSTART;TZID=Europe/Helsinki:20250617T110000
DTEND;TZID=Europe/Helsinki:20250617T123000
DTSTAMP:20260426T035051
CREATED:20250527T073926Z
LAST-MODIFIED:20250527T073926Z
UID:10023206-1750158000-1750163400@kalenteri.niemikoti.fi
SUMMARY:Katutaidebongaus
DESCRIPTION:Lähdetään yhdessä bongailemaan katutaidetta lähiympäristöön rennolla meiningillä. Tiedossa ei ole valmista reittiä\, vaan edetään ryhmäläisten toiveiden ja tahdin mukaisesti. Yhteinen lähtö Valtti Valmennuksen tiloista (Kuortaneenkatu 1\, 4. krs). \nIlmoittauduthan ennakkoon 16.6. mennessä:\nvaltti@niemikoti.fi
URL:https://kalenteri.niemikoti.fi/tapahtuma/katutaidebongaus-5/
LOCATION:Valtti Valmennus\, Elimäenkatu 26\, Helsinki\, 00510\, Finland
CATEGORIES:Tapahtumat palvelunkäyttäjille,Valtti Valmennus
ATTACH;FMTTYPE=image/png:https://kalenteri.niemikoti.fi/wp-content/uploads/2025/05/Kappaleen-teksti-5.png
END:VEVENT
BEGIN:VEVENT
DTSTART;TZID=Europe/Helsinki:20250624T110000
DTEND;TZID=Europe/Helsinki:20250624T123000
DTSTAMP:20260426T035051
CREATED:20250527T122531Z
LAST-MODIFIED:20250605T072029Z
UID:10023235-1750762800-1750768200@kalenteri.niemikoti.fi
SUMMARY:INFO: LinkedIn
DESCRIPTION:Kokemusasiantuntija Aino ja työvalmentaja Matleena järjestävät 24.6. LinkedIn-infon. LinkedIn on hyvä verkostoitumisen ja työnhaun väline\, jota monet eri alojen ammattilaiset hyödyntävät. Infoon voi ilmoittautua 23.6. mennessä sähköpostitse aino.kokemusasiantuntija@niemikoti.fi. Voit osallistua infoon paikan päällä Valtti Valmennuksessa tai etänä Teamsin välityksellä. Kerro ilmoittautumisen yhteydessä tuletko paikan päälle Valtti Valmennukseen vai osallistutko etänä. Info on kaikille avoin\, tervetuloa!
URL:https://kalenteri.niemikoti.fi/tapahtuma/info-linkedin/
LOCATION:Valtti Valmennus\, Elimäenkatu 26\, Helsinki\, 00510\, Finland
CATEGORIES:Tapahtumat henkilökunnalle,Tapahtumat palvelunkäyttäjille,Valtti Valmennus
ATTACH;FMTTYPE=image/png:https://kalenteri.niemikoti.fi/wp-content/uploads/2025/05/LinkedIn-infoUUSI.png
END:VEVENT
END:VCALENDAR