BEGIN:VCALENDAR
VERSION:2.0
PRODID:-//Tapahtumakalenteri - ECPv6.15.18//NONSGML v1.0//EN
CALSCALE:GREGORIAN
METHOD:PUBLISH
X-WR-CALNAME:Tapahtumakalenteri
X-ORIGINAL-URL:https://kalenteri.niemikoti.fi
X-WR-CALDESC:Tapahtumat Tapahtumakalenteri
REFRESH-INTERVAL;VALUE=DURATION:PT1H
X-Robots-Tag:noindex
X-PUBLISHED-TTL:PT1H
BEGIN:VTIMEZONE
TZID:Europe/Helsinki
BEGIN:DAYLIGHT
TZOFFSETFROM:+0200
TZOFFSETTO:+0300
TZNAME:EEST
DTSTART:20240331T010000
END:DAYLIGHT
BEGIN:STANDARD
TZOFFSETFROM:+0300
TZOFFSETTO:+0200
TZNAME:EET
DTSTART:20241027T010000
END:STANDARD
BEGIN:DAYLIGHT
TZOFFSETFROM:+0200
TZOFFSETTO:+0300
TZNAME:EEST
DTSTART:20250330T010000
END:DAYLIGHT
BEGIN:STANDARD
TZOFFSETFROM:+0300
TZOFFSETTO:+0200
TZNAME:EET
DTSTART:20251026T010000
END:STANDARD
BEGIN:DAYLIGHT
TZOFFSETFROM:+0200
TZOFFSETTO:+0300
TZNAME:EEST
DTSTART:20260329T010000
END:DAYLIGHT
BEGIN:STANDARD
TZOFFSETFROM:+0300
TZOFFSETTO:+0200
TZNAME:EET
DTSTART:20261025T010000
END:STANDARD
END:VTIMEZONE
BEGIN:VEVENT
DTSTART;TZID=Europe/Helsinki:20250903T090000
DTEND;TZID=Europe/Helsinki:20250903T100000
DTSTAMP:20260424T063816
CREATED:20250624T080417Z
LAST-MODIFIED:20250624T080417Z
UID:10023305-1756890000-1756893600@kalenteri.niemikoti.fi
SUMMARY:tutustuminen haagan toimintataloon ke. 3.9. klo 9.00
DESCRIPTION:Tervetuloa tutustumaan Haagan toimintataloon keskiviikkona 3.9. klo 9.00. Kierros alkaa 1 .krs kahvilasta ja kestää noin tunnin
URL:https://kalenteri.niemikoti.fi/tapahtuma/tutustuminen-haagan-toimintataloon-ke-3-9-klo-9-00/2025-09-03/
LOCATION:Haagan toimintatalo\, Vanha viertotie 22\, Helsinki\, 00350\, Finland
CATEGORIES:Haagan toimintatalo,Tapahtumat henkilökunnalle,Tapahtumat palvelunkäyttäjille
END:VEVENT
BEGIN:VEVENT
DTSTART;TZID=Europe/Helsinki:20250930T110000
DTEND;TZID=Europe/Helsinki:20250930T130000
DTSTAMP:20260424T063816
CREATED:20250815T073555Z
LAST-MODIFIED:20250815T073555Z
UID:10024487-1759230000-1759237200@kalenteri.niemikoti.fi
SUMMARY:CV-Paja
DESCRIPTION:Tervetuloa Valtti Valmennuksen CV-pajaan aloittamaan ansioluettelon tekemistä\, tai jatkamaan keskeneräistä. Saat työvalmentajan vinkit ja halutessasi myös henkilökohtaista tukea. Työpajassa voit käyttää Valtin pöytätietokoneita\, tai tuoda oman kannettavan. Työpajassa on mukana myös kokemusasiantuntija. \nSinun ei tarvitse valmistautua tai ilmoittautua CV-pajaan\, vaan voit vain saapua paikalle.
URL:https://kalenteri.niemikoti.fi/tapahtuma/cv-paja-8/
LOCATION:Valtti Valmennus\, Elimäenkatu 26\, Helsinki\, 00510\, Finland
CATEGORIES:Työ- ja valmennustoiminta,Valtti Valmennus
ATTACH;FMTTYPE=image/png:https://kalenteri.niemikoti.fi/wp-content/uploads/2025/08/cvpaja-1.png
END:VEVENT
END:VCALENDAR