BEGIN:VCALENDAR
VERSION:2.0
PRODID:-//Tapahtumakalenteri - ECPv6.15.18//NONSGML v1.0//EN
CALSCALE:GREGORIAN
METHOD:PUBLISH
X-ORIGINAL-URL:https://kalenteri.niemikoti.fi
X-WR-CALDESC:Tapahtumat Tapahtumakalenteri
REFRESH-INTERVAL;VALUE=DURATION:PT1H
X-Robots-Tag:noindex
X-PUBLISHED-TTL:PT1H
BEGIN:VTIMEZONE
TZID:Europe/Helsinki
BEGIN:DAYLIGHT
TZOFFSETFROM:+0200
TZOFFSETTO:+0300
TZNAME:EEST
DTSTART:20240331T010000
END:DAYLIGHT
BEGIN:STANDARD
TZOFFSETFROM:+0300
TZOFFSETTO:+0200
TZNAME:EET
DTSTART:20241027T010000
END:STANDARD
BEGIN:DAYLIGHT
TZOFFSETFROM:+0200
TZOFFSETTO:+0300
TZNAME:EEST
DTSTART:20250330T010000
END:DAYLIGHT
BEGIN:STANDARD
TZOFFSETFROM:+0300
TZOFFSETTO:+0200
TZNAME:EET
DTSTART:20251026T010000
END:STANDARD
BEGIN:DAYLIGHT
TZOFFSETFROM:+0200
TZOFFSETTO:+0300
TZNAME:EEST
DTSTART:20260329T010000
END:DAYLIGHT
BEGIN:STANDARD
TZOFFSETFROM:+0300
TZOFFSETTO:+0200
TZNAME:EET
DTSTART:20261025T010000
END:STANDARD
END:VTIMEZONE
BEGIN:VEVENT
DTSTART;TZID=Europe/Helsinki:20250722T110000
DTEND;TZID=Europe/Helsinki:20250722T123000
DTSTAMP:20260425T050035
CREATED:20250527T080347Z
LAST-MODIFIED:20250527T080347Z
UID:10023233-1753182000-1753187400@kalenteri.niemikoti.fi
SUMMARY:Ryhmävalmennusta: TYÖNHAKUTIISTAI
DESCRIPTION:Onko sinulla joku juokseva asia joka pitäisi saada hoidettua? Tai kaipaatko tukea työnhakuun tai opiskeluihin? Työnhakutiistaina saat tukea itsellesi ajankohtaisiin asioihin työvalmentajalta. Mahdollisuus käyttää myös Valtin tietokoneita. \nRyhmään ei tarvitse ennakkoilmoittautua\, vaan voit vain saapua paikalle.
URL:https://kalenteri.niemikoti.fi/tapahtuma/ryhmavalmennusta-tyonhakutiistai/
LOCATION:Valtti Valmennus\, Elimäenkatu 26\, Helsinki\, 00510\, Finland
CATEGORIES:Valtti Valmennus
ATTACH;FMTTYPE=image/png:https://kalenteri.niemikoti.fi/wp-content/uploads/2025/05/Tyonhakutiistait.png
END:VEVENT
END:VCALENDAR