BEGIN:VCALENDAR
VERSION:2.0
PRODID:-//Tapahtumakalenteri - ECPv6.15.18//NONSGML v1.0//EN
CALSCALE:GREGORIAN
METHOD:PUBLISH
X-WR-CALNAME:Tapahtumakalenteri
X-ORIGINAL-URL:https://kalenteri.niemikoti.fi
X-WR-CALDESC:Tapahtumat Tapahtumakalenteri
REFRESH-INTERVAL;VALUE=DURATION:PT1H
X-Robots-Tag:noindex
X-PUBLISHED-TTL:PT1H
BEGIN:VTIMEZONE
TZID:Europe/Helsinki
BEGIN:DAYLIGHT
TZOFFSETFROM:+0200
TZOFFSETTO:+0300
TZNAME:EEST
DTSTART:20240331T010000
END:DAYLIGHT
BEGIN:STANDARD
TZOFFSETFROM:+0300
TZOFFSETTO:+0200
TZNAME:EET
DTSTART:20241027T010000
END:STANDARD
BEGIN:DAYLIGHT
TZOFFSETFROM:+0200
TZOFFSETTO:+0300
TZNAME:EEST
DTSTART:20250330T010000
END:DAYLIGHT
BEGIN:STANDARD
TZOFFSETFROM:+0300
TZOFFSETTO:+0200
TZNAME:EET
DTSTART:20251026T010000
END:STANDARD
BEGIN:DAYLIGHT
TZOFFSETFROM:+0200
TZOFFSETTO:+0300
TZNAME:EEST
DTSTART:20260329T010000
END:DAYLIGHT
BEGIN:STANDARD
TZOFFSETFROM:+0300
TZOFFSETTO:+0200
TZNAME:EET
DTSTART:20261025T010000
END:STANDARD
BEGIN:DAYLIGHT
TZOFFSETFROM:+0200
TZOFFSETTO:+0300
TZNAME:EEST
DTSTART:20270328T010000
END:DAYLIGHT
BEGIN:STANDARD
TZOFFSETFROM:+0300
TZOFFSETTO:+0200
TZNAME:EET
DTSTART:20271031T010000
END:STANDARD
END:VTIMEZONE
BEGIN:VEVENT
DTSTART;TZID=Europe/Helsinki:20251022T120000
DTEND;TZID=Europe/Helsinki:20251022T153000
DTSTAMP:20260424T083350
CREATED:20251002T103534Z
LAST-MODIFIED:20251002T103534Z
UID:10024927-1761134400-1761147000@kalenteri.niemikoti.fi
SUMMARY:AVOIMET OVET: Valtti Valmennus ja Ompelimo & Olohuone
DESCRIPTION:Niemikotisäätiön työ- ja opintovalmennus yksikkö Valtti Valmennus ja työtoiminnan yksikkö Ompelimo & Olohuone muuttivat uusiin yhteisiin tiloihin kesällä. Sen kunniaksi järjestämme yhteisen avoimien ovien tapahtuman! Tervetuloa tutustumaan Valtti Valmennuksen ja Ompelimo & Olohuoneen palveluihin 22.10. keskiviikkona klo 12-15.30. Yksikkömme löytyvät osoitteesta Kuortaneenkatu 1 (4. kerros).\n\n\nKaikki palveluista kiinnostuneet ovat tervetulleet osallistumaan!  Tapahtumaan ei tarvitse ilmoittautua ennakkoon.
URL:https://kalenteri.niemikoti.fi/tapahtuma/avoimet-ovet-valtti-valmennus-ja-ompelimo-olohuone/
LOCATION:Valtti Valmennus\, Elimäenkatu 26\, Helsinki\, 00510\, Finland
CATEGORIES:Ompelimo & Olohuone,Valtti Valmennus
ATTACH;FMTTYPE=image/png:https://kalenteri.niemikoti.fi/wp-content/uploads/2025/10/Avoimet-ovet.png
END:VEVENT
BEGIN:VEVENT
DTSTART;TZID=Europe/Helsinki:20251029T090000
DTEND;TZID=Europe/Helsinki:20251029T100000
DTSTAMP:20260424T083350
CREATED:20250903T093507Z
LAST-MODIFIED:20250903T093507Z
UID:10024811-1761728400-1761732000@kalenteri.niemikoti.fi
SUMMARY:Tutustuminen haagan toimintataloon ke. 29.10. klo 9.00 (työtoiminnassa jonoa)
DESCRIPTION:Tervetuloa tutustumaan Haagan toimintataloon ke 29.10. klo 9.00. Tutustumiskierros alkaa 1. kerroksesta tasan klo.900 ja kestää noin tunnin. Työtoimintamme on varsin täynnä ja jonossa on jo työtoimintaan pääsyä odottavia mutta ryhmätoiminnoissa on tilaa.
URL:https://kalenteri.niemikoti.fi/tapahtuma/tutustuminen-haagan-toimintataloon-ke-29-10-klo-9-00-tyotoiminnassa-jonoa/
CATEGORIES:Haagan toimintatalo
END:VEVENT
BEGIN:VEVENT
DTSTART;TZID=Europe/Helsinki:20251125T110000
DTEND;TZID=Europe/Helsinki:20251125T130000
DTSTAMP:20260424T083350
CREATED:20251030T082024Z
LAST-MODIFIED:20251030T082024Z
UID:10024943-1764068400-1764075600@kalenteri.niemikoti.fi
SUMMARY:CV-PAJA
DESCRIPTION:Valtti Valmennus järjestää loppu vuodesta vielä kaksi CV-pajaa: 25.11. sekä 9.12. Cv-pajassa saat vinkkejä ja tarvittaessa tukea oman ansioluettelon tekemiseen. Tutustumme työpajassa osaamispohjaisen CV:n eli ansioluettelon tekemiseen ja Canva-ohjelman käyttöön. Ohjaamassa työpajaa on työvalmentajan lisäksi Valtti Valmennuksessa toimiva kokemusasiantuntija Aino.\n\n\n\nTyöpajat toimivat matalan kynnyksen periaatteella\, eikä ennakkoilmoittautumista vaadita. Olet myös lämpimästi tervetullut mukaan\, vaikket olisikaan valmennuksessa Valtissa.\n\n\n\nPistetään CV:t yhdessä kuntoon!
URL:https://kalenteri.niemikoti.fi/tapahtuma/cv-paja-10/
LOCATION:Valtti Valmennus\, Elimäenkatu 26\, Helsinki\, 00510\, Finland
CATEGORIES:Valtti Valmennus
ATTACH;FMTTYPE=image/png:https://kalenteri.niemikoti.fi/wp-content/uploads/2025/10/Ansioluettelo-eli-CV-Curriculum-Vitae-Instagram-postaus-45-3.png
END:VEVENT
BEGIN:VEVENT
DTSTART;TZID=Europe/Helsinki:20251203T090000
DTEND;TZID=Europe/Helsinki:20251203T100000
DTSTAMP:20260424T083350
CREATED:20251112T092946Z
LAST-MODIFIED:20251112T092946Z
UID:10025402-1764752400-1764756000@kalenteri.niemikoti.fi
SUMMARY:tutustuminen Haagan toimintataloon ke. 3.12.2025 klo 9.00
DESCRIPTION:tervetuloa tutustumaan haagan toimintataloon ke 3.12. klo 9.00. Tutustumiskierros alkaa 1 kerroksen kahvilasta tasan klo 9.00 eli tulethan ajoissa. Tutustumiskierros kestää noin tunnin.
URL:https://kalenteri.niemikoti.fi/tapahtuma/tutustuminen-haagan-toimintataloon-ke-3-12-2025-klo-9-00/
CATEGORIES:Haagan toimintatalo,Tapahtumat henkilökunnalle,Tapahtumat palvelunkäyttäjille
END:VEVENT
BEGIN:VEVENT
DTSTART;TZID=Europe/Helsinki:20251209T110000
DTEND;TZID=Europe/Helsinki:20251209T130000
DTSTAMP:20260424T083350
CREATED:20251030T082556Z
LAST-MODIFIED:20251030T082556Z
UID:10024944-1765278000-1765285200@kalenteri.niemikoti.fi
SUMMARY:CV-PAJA
DESCRIPTION:Valtti Valmennus järjestää loppu vuodesta vielä kaksi CV-pajaa: 25.11. sekä 9.12. CV-pajassa saat vinkkejä ja tarvittaessa tukea oman ansioluettelon tekemiseen. Tutustumme työpajassa osaamispohjaisen CV:n eli ansioluettelon tekemiseen ja Canva-ohjelman käyttöön. Ohjaamassa työpajaa on työvalmentajan lisäksi Valtti Valmennuksessa toimiva kokemusasiantuntija Aino.\n\n\n\nTyöpajat toimivat matalan kynnyksen periaatteella\, eikä ennakkoilmoittautumista vaadita. Olet myös lämpimästi tervetullut mukaan\, vaikket olisikaan valmennuksessa Valtissa.\n\n\n\nPistetään CV:t yhdessä kuntoon!
URL:https://kalenteri.niemikoti.fi/tapahtuma/cv-paja-11/
LOCATION:Valtti Valmennus\, Elimäenkatu 26\, Helsinki\, 00510\, Finland
CATEGORIES:Valtti Valmennus
ATTACH;FMTTYPE=image/png:https://kalenteri.niemikoti.fi/wp-content/uploads/2025/10/Ansioluettelo-eli-CV-Curriculum-Vitae-Instagram-postaus-45-3-1.png
END:VEVENT
BEGIN:VEVENT
DTSTART;TZID=Europe/Helsinki:20251209T110000
DTEND;TZID=Europe/Helsinki:20251209T130000
DTSTAMP:20260424T083350
CREATED:20251128T081734Z
LAST-MODIFIED:20251128T081734Z
UID:10025549-1765278000-1765285200@kalenteri.niemikoti.fi
SUMMARY:CV-PAJA
DESCRIPTION:Vuoden 2025 viimeinen CV-paja järjestetään tiistaina 9.12. klo 11-13.\nTyöpajaan ei tarvitse ilmoittautua ennakkoon\, eikä työpajaan osallistuminen vaadi valmennuksessamme olemista. Saat työpajassa vinkkejä mm. osaamispohjaisen CV:n tekemiseen sekä Canva-ohjelman käyttöön. Työpajaa on ohjaamassa työvalmentajan lisäksi kokemusasiantuntija Aino.\n\n\n\nTervetuloa mukaan\, matalalla kynnyksellä!
URL:https://kalenteri.niemikoti.fi/tapahtuma/cv-paja-12/
LOCATION:Valtti Valmennus\, Elimäenkatu 26\, Helsinki\, 00510\, Finland
CATEGORIES:Tapahtumat palvelunkäyttäjille,Valtti Valmennus
ATTACH;FMTTYPE=image/png:https://kalenteri.niemikoti.fi/wp-content/uploads/2025/11/Ansioluettelo-eli-CV-Curriculum-Vitae-Instagram-postaus-45-4.png
END:VEVENT
BEGIN:VEVENT
DTSTART;TZID=Europe/Helsinki:20251218T120000
DTEND;TZID=Europe/Helsinki:20251218T150000
DTSTAMP:20260424T083350
CREATED:20251202T102626Z
LAST-MODIFIED:20251202T102626Z
UID:10025639-1766059200-1766070000@kalenteri.niemikoti.fi
SUMMARY:Valtti Valmennuksen ja Ompelimo & Olohuoneen PUUROJUHLA
DESCRIPTION:Ompelimo & Olohuone ja Valtti Valmennus järjestävät yhteisen puurojuhlan 18.12. klo 12.00 kaikille ompelijoille sekä valmennuksessamme oleville! Tarjolla on riisipuuroa (VE)\, jouluista tunnelmaa ja hyvää seuraa Valtti Valmennuksen ja Ompelimo & Olohuoneen tiloissa Kuortaneenkadulla.\n\n\n\nMikäli haluat osallistua tapahtumaan\, ilmoitathan ohjaajallesi/valmentajallesi 15.12. mennessä. Tervetuloa!
URL:https://kalenteri.niemikoti.fi/tapahtuma/valtti-valmennuksen-ja-ompelimo-olohuoneen-puurojuhla/
LOCATION:Valtti Valmennus\, Elimäenkatu 26\, Helsinki\, 00510\, Finland
CATEGORIES:Ompelimo & Olohuone,Valtti Valmennus
ATTACH;FMTTYPE=image/png:https://kalenteri.niemikoti.fi/wp-content/uploads/2025/12/Puurojuhla.png
END:VEVENT
BEGIN:VEVENT
DTSTART;TZID=Europe/Helsinki:20260128T090000
DTEND;TZID=Europe/Helsinki:20260128T100000
DTSTAMP:20260424T083350
CREATED:20260112T065449Z
LAST-MODIFIED:20260112T065449Z
UID:10026124-1769590800-1769594400@kalenteri.niemikoti.fi
SUMMARY:tutustuminen Haagan toimintataloon ke. 28.1.2026  klo 9.00
DESCRIPTION:tervetuloa tutustumaan haagan toimintataloon ke 28.1.2026. klo 9.00. Tutustumiskierros alkaa 1 kerroksen kahvilasta tasan klo 9.00 eli tulethan ajoissa. Tutustumiskierros kestää noin tunnin.
URL:https://kalenteri.niemikoti.fi/tapahtuma/tutustuminen-haagan-toimintataloon-ke-28-1-2026-klo-9-00/
LOCATION:Haagan toimintatalo\, Vanha viertotie 22\, Helsinki\, 00350\, Finland
CATEGORIES:Haagan toimintatalo,Tapahtumat henkilökunnalle,Tapahtumat palvelunkäyttäjille
END:VEVENT
BEGIN:VEVENT
DTSTART;TZID=Europe/Helsinki:20260212T140000
DTEND;TZID=Europe/Helsinki:20260212T150000
DTSTAMP:20260424T083350
CREATED:20260202T073944Z
LAST-MODIFIED:20260202T073944Z
UID:10033530-1770904800-1770908400@kalenteri.niemikoti.fi
SUMMARY:Takuusäätiön info
DESCRIPTION:Mitkä laskut pitäisi maksaa ensiksi? Mikä on maksuhäiriömerkintä? Millaisia palveluita on tarjolla taloushaasteissa? Tervetuloa kuulemaan Takuusäätiön info velka- ja talousasioista! \nInfo järjestetään Teamsissä ja ilmoittautuneille lähetetään erillinen Teams-kutsu (ilmoittautumiset ke 11.2. mennessä osoitteeseen emma.heikkinen@niemikoti.fi). Infoa voi myös tulla kuuntelemaan paikan päälle Valtti Valmennukseen (Kuortaneenkatu 1).
URL:https://kalenteri.niemikoti.fi/tapahtuma/takuusaation-info/
LOCATION:Valtti Valmennus\, Elimäenkatu 26\, Helsinki\, 00510\, Finland
CATEGORIES:Valtti Valmennus
ATTACH;FMTTYPE=image/png:https://kalenteri.niemikoti.fi/wp-content/uploads/2026/02/Takuusaation-info.png
END:VEVENT
BEGIN:VEVENT
DTSTART;TZID=Europe/Helsinki:20260225T080000
DTEND;TZID=Europe/Helsinki:20260225T170000
DTSTAMP:20260424T083350
CREATED:20260203T061110Z
LAST-MODIFIED:20260203T061110Z
UID:10033531-1772006400-1772038800@kalenteri.niemikoti.fi
SUMMARY:tutustuminen Haagan toimintataloon ke. 25.2.2026 klo 9.00
DESCRIPTION:Tervetuloa tutustumaan Haagan toimintataloon keskiviikkona  25.2. Tutustumiskierros alkaa tasan klo 9.00 ensimmäisen kerroksen kahvilasta  eli tulethan ajoissa. Tutustumiskierros kestää noin tunnin.
URL:https://kalenteri.niemikoti.fi/tapahtuma/tutustuminen-haagan-toimintataloon-ke-25-2-2026-klo-9-00/2026-02-25/1/
LOCATION:Haagan toimintatalo\, Vanha viertotie 22\, Helsinki\, 00350\, Finland
CATEGORIES:Haagan toimintatalo,Tapahtumat henkilökunnalle,Tapahtumat palvelunkäyttäjille
END:VEVENT
BEGIN:VEVENT
DTSTART;TZID=Europe/Helsinki:20260225T090000
DTEND;TZID=Europe/Helsinki:20260225T100000
DTSTAMP:20260424T083350
CREATED:20260203T061110Z
LAST-MODIFIED:20260203T061110Z
UID:10033532-1772010000-1772013600@kalenteri.niemikoti.fi
SUMMARY:tutustuminen Haagan toimintataloon ke. 25.2.2026 klo 9.00
DESCRIPTION:Tervetuloa tutustumaan Haagan toimintataloon keskiviikkona  25.2. Tutustumiskierros alkaa tasan klo 9.00 ensimmäisen kerroksen kahvilasta  eli tulethan ajoissa. Tutustumiskierros kestää noin tunnin.
URL:https://kalenteri.niemikoti.fi/tapahtuma/tutustuminen-haagan-toimintataloon-ke-25-2-2026-klo-9-00/2026-02-25/2/
LOCATION:Haagan toimintatalo\, Vanha viertotie 22\, Helsinki\, 00350\, Finland
CATEGORIES:Haagan toimintatalo,Tapahtumat henkilökunnalle,Tapahtumat palvelunkäyttäjille
END:VEVENT
BEGIN:VEVENT
DTSTART;TZID=Europe/Helsinki:20260415T090000
DTEND;TZID=Europe/Helsinki:20260415T100000
DTSTAMP:20260424T083350
CREATED:20260226T094743Z
LAST-MODIFIED:20260302T092244Z
UID:10033956-1776243600-1776247200@kalenteri.niemikoti.fi
SUMMARY:tutustuminen Haagan toimintataloon ke. 15.4.2026 klo 9.00
DESCRIPTION:tervetuloa tutustumaan Haagan toimintataloon keskiviikkona 15.4 klo 9.00. Tutustumiskierros alkaa 1.kerroksen kahvilasta tasan klo 9.00 eli tulethan ajoissa. Tutustumiskierros kestää noin tunnin. Tervetuloa!  ps jos tämä aika ei sinulle käy niin ota yhteyttä p 0505931551(Marko Hanni)
URL:https://kalenteri.niemikoti.fi/tapahtuma/tutustuminen-haagan-toimintataloon-ke-15-4-2026-klo-9-00/
LOCATION:Haagan toimintatalo\, Vanha viertotie 22\, Helsinki\, 00350\, Finland
CATEGORIES:Haagan toimintatalo,Tapahtumat henkilökunnalle,Tapahtumat palvelunkäyttäjille
END:VEVENT
END:VCALENDAR