BEGIN:VCALENDAR
VERSION:2.0
PRODID:-//Tapahtumakalenteri - ECPv6.15.18//NONSGML v1.0//EN
CALSCALE:GREGORIAN
METHOD:PUBLISH
X-WR-CALNAME:Tapahtumakalenteri
X-ORIGINAL-URL:https://kalenteri.niemikoti.fi
X-WR-CALDESC:Tapahtumat Tapahtumakalenteri
REFRESH-INTERVAL;VALUE=DURATION:PT1H
X-Robots-Tag:noindex
X-PUBLISHED-TTL:PT1H
BEGIN:VTIMEZONE
TZID:Europe/Helsinki
BEGIN:DAYLIGHT
TZOFFSETFROM:+0200
TZOFFSETTO:+0300
TZNAME:EEST
DTSTART:20230326T010000
END:DAYLIGHT
BEGIN:STANDARD
TZOFFSETFROM:+0300
TZOFFSETTO:+0200
TZNAME:EET
DTSTART:20231029T010000
END:STANDARD
BEGIN:DAYLIGHT
TZOFFSETFROM:+0200
TZOFFSETTO:+0300
TZNAME:EEST
DTSTART:20240331T010000
END:DAYLIGHT
BEGIN:STANDARD
TZOFFSETFROM:+0300
TZOFFSETTO:+0200
TZNAME:EET
DTSTART:20241027T010000
END:STANDARD
BEGIN:DAYLIGHT
TZOFFSETFROM:+0200
TZOFFSETTO:+0300
TZNAME:EEST
DTSTART:20250330T010000
END:DAYLIGHT
BEGIN:STANDARD
TZOFFSETFROM:+0300
TZOFFSETTO:+0200
TZNAME:EET
DTSTART:20251026T010000
END:STANDARD
END:VTIMEZONE
BEGIN:VEVENT
DTSTART;TZID=Europe/Helsinki:20240503T090000
DTEND;TZID=Europe/Helsinki:20240503T130000
DTSTAMP:20260423T121800
CREATED:20230823T123530Z
LAST-MODIFIED:20240528T092233Z
UID:10004492-1714726800-1714741200@kalenteri.niemikoti.fi
SUMMARY:Yhteisöpäivä Malmilla klo 9-14
DESCRIPTION:Yhteisöpäivä\, Malmin päivätoimintakeskus auki klo 9-14. Ilmoittaudu mukaan!
URL:https://kalenteri.niemikoti.fi/tapahtuma/yhteisopaiva-malmilla-klo-9-13-5/2024-05-03/
LOCATION:Malmin päivätoimintakeskus\, Vanha Helsingintie 9\, Helsinki\, 00700\, Finland
CATEGORIES:Malmin päivätoimintakeskus
END:VEVENT
BEGIN:VEVENT
DTSTART;TZID=Europe/Helsinki:20240503T100000
DTEND;TZID=Europe/Helsinki:20240503T103000
DTSTAMP:20260423T121800
CREATED:20230823T123714Z
LAST-MODIFIED:20240528T092313Z
UID:10004518-1714730400-1714732200@kalenteri.niemikoti.fi
SUMMARY:Yhteisöpäivän aamukokous Malmilla
DESCRIPTION:Yhteisöpäivän aamukokouksessa käydään läpi päivän ohjelma\, tulevat tapahtumat ja kuulumiskierros.
URL:https://kalenteri.niemikoti.fi/tapahtuma/yhteisopaivan-aamukokous-malmilla-4/2024-05-03/
LOCATION:Malmin päivätoimintakeskus\, Vanha Helsingintie 9\, Helsinki\, 00700\, Finland
CATEGORIES:Malmin päivätoimintakeskus
END:VEVENT
BEGIN:VEVENT
DTSTART;TZID=Europe/Helsinki:20240503T100000
DTEND;TZID=Europe/Helsinki:20240503T110000
DTSTAMP:20260423T121800
CREATED:20230427T055304Z
LAST-MODIFIED:20240513T053309Z
UID:10003946-1714730400-1714734000@kalenteri.niemikoti.fi
SUMMARY:Aamujooga Villa Borgiksessa
DESCRIPTION:8 ensimmäisenä paikalle tullutta mahtuu mukaan ryhmään.
URL:https://kalenteri.niemikoti.fi/tapahtuma/aamujooga-villa-borgiksessa/2024-05-03/
LOCATION:Toimintakeskus Villa Borgis\, Linnavuorentie 13\, Helsinki\, 00950\, Finland
CATEGORIES:Päivätoiminta,Toimintakeskus Villa Borgis
END:VEVENT
BEGIN:VEVENT
DTSTART;TZID=Europe/Helsinki:20240503T110000
DTEND;TZID=Europe/Helsinki:20240503T130000
DTSTAMP:20260423T121800
CREATED:20230427T060640Z
LAST-MODIFIED:20240513T053346Z
UID:10003920-1714734000-1714741200@kalenteri.niemikoti.fi
SUMMARY:Perjantaihyggeily
DESCRIPTION:Villasukat jalkaan\, maailman murheet hetkeksi syrjään ja olo mukavaksi teekupposen äärellä.\nTule rupattelemaan muiden kanssa\, lukemaan lehtiä tai vaikkapa tekemään valmiiksi keskeneräisiä projektejasi.\nTarjolla kahvit /teet ja keksit 1 €/pvä.
URL:https://kalenteri.niemikoti.fi/tapahtuma/perjantaihyggeily/2024-05-03/
LOCATION:Toimintakeskus Villa Borgis\, Linnavuorentie 13\, Helsinki\, 00950\, Finland
CATEGORIES:Päivätoiminta,Toimintakeskus Villa Borgis
END:VEVENT
BEGIN:VEVENT
DTSTART;TZID=Europe/Helsinki:20240503T120000
DTEND;TZID=Europe/Helsinki:20240503T123000
DTSTAMP:20260423T121800
CREATED:20230628T115200Z
LAST-MODIFIED:20250107T132307Z
UID:10004126-1714737600-1714739400@kalenteri.niemikoti.fi
SUMMARY:Avoin info
DESCRIPTION:Tervetuloa tutustumaan taloomme ja toimintaamme! Avoin info on tarkoitettu kaikille toiminnastamme kiinnostuneille (opiskelijat\, ammattilaiset\, toipujat\, omaiset…). Kahvitarjoilu!
URL:https://kalenteri.niemikoti.fi/tapahtuma/avoin-info/2024-05-03/
LOCATION:Toimintakeskus Villa Borgis\, Linnavuorentie 13\, Helsinki\, 00950\, Finland
CATEGORIES:Toimintakeskus Villa Borgis
END:VEVENT
BEGIN:VEVENT
DTSTART;TZID=Europe/Helsinki:20240503T123000
DTEND;TZID=Europe/Helsinki:20240503T140000
DTSTAMP:20260423T121800
CREATED:20240129T123333Z
LAST-MODIFIED:20240528T092459Z
UID:10005562-1714739400-1714744800@kalenteri.niemikoti.fi
SUMMARY:Sirkuspaja Malmilla
DESCRIPTION:Tehdään yhdessä sirkusvälineitä ja harjoitellaan pihalla temppuja. Ilmoittaudu mukaan!
URL:https://kalenteri.niemikoti.fi/tapahtuma/perjantaidokkari-malmilla/2024-05-03/
LOCATION:Malmin päivätoimintakeskus\, Vanha Helsingintie 9\, Helsinki\, 00700\, Finland
CATEGORIES:Malmin päivätoimintakeskus
END:VEVENT
BEGIN:VEVENT
DTSTART;TZID=Europe/Helsinki:20240506T080000
DTEND;TZID=Europe/Helsinki:20240508T150000
DTSTAMP:20260423T121800
CREATED:20240409T073548Z
LAST-MODIFIED:20240409T073548Z
UID:10010518-1714982400-1715180400@kalenteri.niemikoti.fi
SUMMARY:Kevätleiri Kesäharjussa
DESCRIPTION:Lähde mukaan keväiseen Kesäharjuun! Luvassa mukavaa keväistä ohjelmaa\, mm. piha- ja lautapelejä\, kädentaitoja\, liikkumista ja tietenkin saunomista ja hyvää ruokaa. Leirille voivat ilmoittautua kaikki Niemikotisäätiön palvelunkäyttäjät. Paikat täytetään ilmoittautumisjärjestyksessä.
URL:https://kalenteri.niemikoti.fi/tapahtuma/kevatleiri-kesaharjussa/
CATEGORIES:Kesäharjun toimintakeskus,Malmin päivätoimintakeskus,Toimintakeskus Villa Borgis
ATTACH;FMTTYPE=image/jpeg:https://kalenteri.niemikoti.fi/wp-content/uploads/2024/04/Kopio-Villa-Borgiksen-ja-Malmin-paivatoiminnan-kevatleiri-Iitin-Kesaharjussa-ma-ke-6.-8.5.jpg
END:VEVENT
BEGIN:VEVENT
DTSTART;TZID=Europe/Helsinki:20240506T090000
DTEND;TZID=Europe/Helsinki:20240506T094500
DTSTAMP:20260423T121800
CREATED:20230531T083840Z
LAST-MODIFIED:20240205T125147Z
UID:10003887-1714986000-1714988700@kalenteri.niemikoti.fi
SUMMARY:Yhteisöpäivän aamiainen
DESCRIPTION:Aamupala yhteisöpäivään osallistuville (maksullinen).
URL:https://kalenteri.niemikoti.fi/tapahtuma/yhteisopaivan-aamiainen-2/2024-05-06/
LOCATION:Toimintakeskus Villa Borgis\, Linnavuorentie 13\, Helsinki\, 00950\, Finland
CATEGORIES:Toimintakeskus Villa Borgis
END:VEVENT
BEGIN:VEVENT
DTSTART;TZID=Europe/Helsinki:20240506T090000
DTEND;TZID=Europe/Helsinki:20240506T130000
DTSTAMP:20260423T121800
CREATED:20230815T052225Z
LAST-MODIFIED:20240109T140543Z
UID:10004727-1714986000-1715000400@kalenteri.niemikoti.fi
SUMMARY:Yhteisöpäivä Malmilla klo 9-13
DESCRIPTION:Yhteisöpäivä\, Malmin päivätoimintakeskus auki klo 9-13. Ilmoittaudu mukaan!
URL:https://kalenteri.niemikoti.fi/tapahtuma/yhteisopaiva-malmilla-klo-9-13/2024-05-06/
LOCATION:Malmin päivätoimintakeskus\, Vanha Helsingintie 9\, Helsinki\, 00700\, Finland
CATEGORIES:Malmin päivätoimintakeskus
END:VEVENT
BEGIN:VEVENT
DTSTART;TZID=Europe/Helsinki:20240506T100000
DTEND;TZID=Europe/Helsinki:20240506T103000
DTSTAMP:20260423T121800
CREATED:20230531T081915Z
LAST-MODIFIED:20240205T125027Z
UID:10004012-1714989600-1714991400@kalenteri.niemikoti.fi
SUMMARY:Yhteisöpäivän aamukokous
DESCRIPTION:Yhteisöpäivän aamukokouksessa käydään läpi päivän ohjelmaa\, tapahtumia\, yhteisötehtäviä ja muita ajankohtaisia asioita.
URL:https://kalenteri.niemikoti.fi/tapahtuma/yhteisopaivan-aamukokous/2024-05-06/
LOCATION:Toimintakeskus Villa Borgis\, Linnavuorentie 13\, Helsinki\, 00950\, Finland
CATEGORIES:Toimintakeskus Villa Borgis
END:VEVENT
BEGIN:VEVENT
DTSTART;TZID=Europe/Helsinki:20240506T100000
DTEND;TZID=Europe/Helsinki:20240506T103000
DTSTAMP:20260423T121800
CREATED:20230815T052928Z
LAST-MODIFIED:20240109T140543Z
UID:10004701-1714989600-1714991400@kalenteri.niemikoti.fi
SUMMARY:Yhteisöpäivän aamukokous Malmilla
DESCRIPTION:Yhteisöpäivän aamukokouksessa käydään läpi päivän ohjelma\, tulevat tapahtumat ja kuulumiskierros.
URL:https://kalenteri.niemikoti.fi/tapahtuma/yhteisopaivan-aamukokous-malmilla/2024-05-06/
LOCATION:Malmin päivätoimintakeskus\, Vanha Helsingintie 9\, Helsinki\, 00700\, Finland
CATEGORIES:Malmin päivätoimintakeskus
END:VEVENT
BEGIN:VEVENT
DTSTART;TZID=Europe/Helsinki:20240506T103000
DTEND;TZID=Europe/Helsinki:20240506T120000
DTSTAMP:20260423T121800
CREATED:20230531T084700Z
LAST-MODIFIED:20240205T125100Z
UID:10004045-1714991400-1714996800@kalenteri.niemikoti.fi
SUMMARY:Talon töitä
DESCRIPTION:Yhteisöpäivän tehtäviä\, esim. piha-/puutarhatyöt\, sisustus\, siivous\, yhteisökokous.
URL:https://kalenteri.niemikoti.fi/tapahtuma/talon-toita/2024-05-06/
LOCATION:Toimintakeskus Villa Borgis\, Linnavuorentie 13\, Helsinki\, 00950\, Finland
CATEGORIES:Toimintakeskus Villa Borgis
END:VEVENT
BEGIN:VEVENT
DTSTART;TZID=Europe/Helsinki:20240506T120000
DTEND;TZID=Europe/Helsinki:20240506T123000
DTSTAMP:20260423T121800
CREATED:20230531T112750Z
LAST-MODIFIED:20250321T104552Z
UID:10004070-1714996800-1714998600@kalenteri.niemikoti.fi
SUMMARY:Yhteisöpäivän lounas
DESCRIPTION:Lounas yhteisöpäivään osallistuville\, maksullinen.
URL:https://kalenteri.niemikoti.fi/tapahtuma/yhteisopaivan-lounas/2024-05-06/
LOCATION:Toimintakeskus Villa Borgis\, Linnavuorentie 13\, Helsinki\, 00950\, Finland
CATEGORIES:Toimintakeskus Villa Borgis
END:VEVENT
BEGIN:VEVENT
DTSTART;TZID=Europe/Helsinki:20240506T120000
DTEND;TZID=Europe/Helsinki:20240506T150000
DTSTAMP:20260423T121800
CREATED:20240404T121828Z
LAST-MODIFIED:20240409T042343Z
UID:10010253-1714996800-1715007600@kalenteri.niemikoti.fi
SUMMARY:Kässäkerho
DESCRIPTION:Löytyykö kaapistasi keskeneräinen kudin\, ompelus\, kirjontatyö tai mikä tahansa muu käsityö? Maanantaisin ompelimoon kokoontuu kässäkerho\, missä esimerkiksi näitä keskeneräisiä töitä voi tehdä valmiiksi. Ohjaajat ovat apuna tarpeen tullen. Ei ennakkoilmoittautumista!
URL:https://kalenteri.niemikoti.fi/tapahtuma/kassakerho/2024-05-06/
LOCATION:Ompelimo & Olohuone\, Kalevankatu 30\, Helsinki\, 00100\, Finland
CATEGORIES:Ompelimo & Olohuone
ATTACH;FMTTYPE=image/jpeg:https://kalenteri.niemikoti.fi/wp-content/uploads/2024/04/DSCN8419-scaled.jpg
END:VEVENT
BEGIN:VEVENT
DTSTART;TZID=Europe/Helsinki:20240506T130000
DTEND;TZID=Europe/Helsinki:20240506T140000
DTSTAMP:20260423T121800
CREATED:20230822T084516Z
LAST-MODIFIED:20250520T082214Z
UID:10001996-1715000400-1715004000@kalenteri.niemikoti.fi
SUMMARY:Mahdollisuuksien maanantai
DESCRIPTION:Yhteisön ohjelmaa (toiveryhmiä ja vaihtuvia teemoja)
URL:https://kalenteri.niemikoti.fi/tapahtuma/mahdollisuuksien-maanantai-2/2024-05-06/
LOCATION:Toimintakeskus Villa Borgis\, Linnavuorentie 13\, Helsinki\, 00950\, Finland
CATEGORIES:Toimintakeskus Villa Borgis
END:VEVENT
BEGIN:VEVENT
DTSTART;TZID=Europe/Helsinki:20240506T140000
DTEND;TZID=Europe/Helsinki:20240506T143000
DTSTAMP:20260423T121800
CREATED:20230607T051246Z
LAST-MODIFIED:20250107T131756Z
UID:10013970-1715004000-1715005800@kalenteri.niemikoti.fi
SUMMARY:Yhteisöpäivän päiväkahvit
DESCRIPTION:Päiväkahvit kuuluvat aamiaisen ja/tai lounaan hintaan\, muuten 1 €.
URL:https://kalenteri.niemikoti.fi/tapahtuma/yhteisopaivan-paivakahvit/2024-05-06/
LOCATION:Toimintakeskus Villa Borgis\, Linnavuorentie 13\, Helsinki\, 00950\, Finland
CATEGORIES:Toimintakeskus Villa Borgis
END:VEVENT
BEGIN:VEVENT
DTSTART;TZID=Europe/Helsinki:20240507T090000
DTEND;TZID=Europe/Helsinki:20240507T094500
DTSTAMP:20260423T121800
CREATED:20230531T083840Z
LAST-MODIFIED:20240205T125147Z
UID:10003888-1715072400-1715075100@kalenteri.niemikoti.fi
SUMMARY:Yhteisöpäivän aamiainen
DESCRIPTION:Aamupala yhteisöpäivään osallistuville (maksullinen).
URL:https://kalenteri.niemikoti.fi/tapahtuma/yhteisopaivan-aamiainen-2/2024-05-07/
LOCATION:Toimintakeskus Villa Borgis\, Linnavuorentie 13\, Helsinki\, 00950\, Finland
CATEGORIES:Toimintakeskus Villa Borgis
END:VEVENT
BEGIN:VEVENT
DTSTART;TZID=Europe/Helsinki:20240507T090000
DTEND;TZID=Europe/Helsinki:20240507T130000
DTSTAMP:20260423T121800
CREATED:20230821T054354Z
LAST-MODIFIED:20240528T091101Z
UID:10004649-1715072400-1715086800@kalenteri.niemikoti.fi
SUMMARY:Yhteisöpäivä Malmilla klo 9-13
DESCRIPTION:Yhteisöpäivä\, Malmin päivätoimintakeskus auki klo 9-13. Ilmoittaudu mukaan!
URL:https://kalenteri.niemikoti.fi/tapahtuma/yhteisopaiva-malmilla-klo-9-13-3/2024-05-07/
LOCATION:Malmin päivätoimintakeskus\, Vanha Helsingintie 9\, Helsinki\, 00700\, Finland
CATEGORIES:Malmin päivätoimintakeskus
END:VEVENT
BEGIN:VEVENT
DTSTART;TZID=Europe/Helsinki:20240507T100000
DTEND;TZID=Europe/Helsinki:20240507T103000
DTSTAMP:20260423T121800
CREATED:20230531T081915Z
LAST-MODIFIED:20240205T125027Z
UID:10004013-1715076000-1715077800@kalenteri.niemikoti.fi
SUMMARY:Yhteisöpäivän aamukokous
DESCRIPTION:Yhteisöpäivän aamukokouksessa käydään läpi päivän ohjelmaa\, tapahtumia\, yhteisötehtäviä ja muita ajankohtaisia asioita.
URL:https://kalenteri.niemikoti.fi/tapahtuma/yhteisopaivan-aamukokous/2024-05-07/
LOCATION:Toimintakeskus Villa Borgis\, Linnavuorentie 13\, Helsinki\, 00950\, Finland
CATEGORIES:Toimintakeskus Villa Borgis
END:VEVENT
BEGIN:VEVENT
DTSTART;TZID=Europe/Helsinki:20240507T100000
DTEND;TZID=Europe/Helsinki:20240507T103000
DTSTAMP:20260423T121800
CREATED:20230821T054731Z
LAST-MODIFIED:20240528T091332Z
UID:10004623-1715076000-1715077800@kalenteri.niemikoti.fi
SUMMARY:Yhteisöpäivän aamukokous Malmilla
DESCRIPTION:Yhteisöpäivän aamukokouksessa käydään läpi päivän ohjelma\, tulevat tapahtumat ja kuulumiskierros.
URL:https://kalenteri.niemikoti.fi/tapahtuma/yhteisopaivan-aamukokous-malmilla-2/2024-05-07/
LOCATION:Malmin päivätoimintakeskus\, Vanha Helsingintie 9\, Helsinki\, 00700\, Finland
CATEGORIES:Malmin päivätoimintakeskus
END:VEVENT
BEGIN:VEVENT
DTSTART;TZID=Europe/Helsinki:20240507T103000
DTEND;TZID=Europe/Helsinki:20240507T111500
DTSTAMP:20260423T121800
CREATED:20230821T055336Z
LAST-MODIFIED:20240528T091429Z
UID:10004597-1715077800-1715080500@kalenteri.niemikoti.fi
SUMMARY:Luonto & liikunta -kävelyryhmä Malmilla
DESCRIPTION:Päätetään yhdessä päivän kävelyreitti ja kävelläänkö reippaasti vai rauhallisesti. Uusille on tilaa\, ilmoittaudu mukaan!
URL:https://kalenteri.niemikoti.fi/tapahtuma/luonto-liikunta-kavelyryhma-malmilla/2024-05-07/
LOCATION:Malmin päivätoimintakeskus\, Vanha Helsingintie 9\, Helsinki\, 00700\, Finland
CATEGORIES:Malmin päivätoimintakeskus
END:VEVENT
BEGIN:VEVENT
DTSTART;TZID=Europe/Helsinki:20240507T103000
DTEND;TZID=Europe/Helsinki:20240507T120000
DTSTAMP:20260423T121800
CREATED:20230531T124423Z
LAST-MODIFIED:20240123T084001Z
UID:10005074-1715077800-1715083200@kalenteri.niemikoti.fi
SUMMARY:Borgiksen Picassot
DESCRIPTION:Kuvataideryhmä\, ilmoittaudu.
URL:https://kalenteri.niemikoti.fi/tapahtuma/borgiksen-picassot/2024-05-07/
LOCATION:Toimintakeskus Villa Borgis\, Linnavuorentie 13\, Helsinki\, 00950\, Finland
CATEGORIES:Toimintakeskus Villa Borgis
END:VEVENT
BEGIN:VEVENT
DTSTART;TZID=Europe/Helsinki:20240507T123000
DTEND;TZID=Europe/Helsinki:20240507T131500
DTSTAMP:20260423T121800
CREATED:20240129T121244Z
LAST-MODIFIED:20240912T102135Z
UID:10005188-1715085000-1715087700@kalenteri.niemikoti.fi
SUMMARY:Soittoryhmä Malmilla
DESCRIPTION:Tutustutaan yhdessä pianon\, kitaran ja ukulelen soiton alkeisiin ja soitetaan yhdessä helppoja kappaleita. Max. 8 osallistujaa\, ilmoittaudu mukaan!
URL:https://kalenteri.niemikoti.fi/tapahtuma/soittoryhma/2024-05-07/
LOCATION:Malmin päivätoimintakeskus\, Vanha Helsingintie 9\, Helsinki\, 00700\, Finland
CATEGORIES:Malmin päivätoimintakeskus
END:VEVENT
BEGIN:VEVENT
DTSTART;TZID=Europe/Helsinki:20240507T130000
DTEND;TZID=Europe/Helsinki:20240507T140000
DTSTAMP:20260423T121800
CREATED:20231108T090753Z
LAST-MODIFIED:20240513T053528Z
UID:10004853-1715086800-1715090400@kalenteri.niemikoti.fi
SUMMARY:Yhteisön ohjelmaa
DESCRIPTION:Yhteisön ohjelmaa\, esim. rentoutusta\, ulkoilua\, musiikin kuuntelua\, kädentaitoja.
URL:https://kalenteri.niemikoti.fi/tapahtuma/yhteison-ohjelmaa-2/2024-05-07/
LOCATION:Toimintakeskus Villa Borgis\, Linnavuorentie 13\, Helsinki\, 00950\, Finland
CATEGORIES:Toimintakeskus Villa Borgis
END:VEVENT
BEGIN:VEVENT
DTSTART;TZID=Europe/Helsinki:20240507T130000
DTEND;TZID=Europe/Helsinki:20240507T150000
DTSTAMP:20260423T121800
CREATED:20231016T065556Z
LAST-MODIFIED:20240912T102328Z
UID:10005917-1715086800-1715094000@kalenteri.niemikoti.fi
SUMMARY:Jälleenvuokrauksen bändi Malmilla
DESCRIPTION:Bändissä on vakiintunut kokoonpano. Lisätietoja bändistä voi kysyä ohjaajilta.
URL:https://kalenteri.niemikoti.fi/tapahtuma/jalleenvuokrauksen-bandi/2024-05-07/
LOCATION:Malmin päivätoimintakeskus\, Vanha Helsingintie 9\, Helsinki\, 00700\, Finland
CATEGORIES:Malmin päivätoimintakeskus
END:VEVENT
BEGIN:VEVENT
DTSTART;TZID=Europe/Helsinki:20240507T140000
DTEND;TZID=Europe/Helsinki:20240507T143000
DTSTAMP:20260423T121800
CREATED:20230607T051246Z
LAST-MODIFIED:20250107T131756Z
UID:10013971-1715090400-1715092200@kalenteri.niemikoti.fi
SUMMARY:Yhteisöpäivän päiväkahvit
DESCRIPTION:Päiväkahvit kuuluvat aamiaisen ja/tai lounaan hintaan\, muuten 1 €.
URL:https://kalenteri.niemikoti.fi/tapahtuma/yhteisopaivan-paivakahvit/2024-05-07/
LOCATION:Toimintakeskus Villa Borgis\, Linnavuorentie 13\, Helsinki\, 00950\, Finland
CATEGORIES:Toimintakeskus Villa Borgis
END:VEVENT
BEGIN:VEVENT
DTSTART;TZID=Europe/Helsinki:20240507T153000
DTEND;TZID=Europe/Helsinki:20240507T170000
DTSTAMP:20260423T121800
CREATED:20231016T065925Z
LAST-MODIFIED:20240912T102346Z
UID:10005954-1715095800-1715101200@kalenteri.niemikoti.fi
SUMMARY:Malmin bändi
DESCRIPTION:Bändissä on vakiintunut kokoonpano. Lisätietoja Malmin bändistä voi kysyä ohjaaja Tapio Kojolta.
URL:https://kalenteri.niemikoti.fi/tapahtuma/malmin-bandi/2024-05-07/
LOCATION:Malmin päivätoimintakeskus\, Vanha Helsingintie 9\, Helsinki\, 00700\, Finland
CATEGORIES:Malmin päivätoimintakeskus
END:VEVENT
BEGIN:VEVENT
DTSTART;TZID=Europe/Helsinki:20240508T090000
DTEND;TZID=Europe/Helsinki:20240508T094500
DTSTAMP:20260423T121800
CREATED:20230531T083840Z
LAST-MODIFIED:20240205T125147Z
UID:10003889-1715158800-1715161500@kalenteri.niemikoti.fi
SUMMARY:Yhteisöpäivän aamiainen
DESCRIPTION:Aamupala yhteisöpäivään osallistuville (maksullinen).
URL:https://kalenteri.niemikoti.fi/tapahtuma/yhteisopaivan-aamiainen-2/2024-05-08/
LOCATION:Toimintakeskus Villa Borgis\, Linnavuorentie 13\, Helsinki\, 00950\, Finland
CATEGORIES:Toimintakeskus Villa Borgis
END:VEVENT
BEGIN:VEVENT
DTSTART;TZID=Europe/Helsinki:20240508T090000
DTEND;TZID=Europe/Helsinki:20240508T130000
DTSTAMP:20260423T121800
CREATED:20230822T114010Z
LAST-MODIFIED:20240528T090051Z
UID:10004415-1715158800-1715173200@kalenteri.niemikoti.fi
SUMMARY:Yhteisöpäivä Malmilla klo 9-13
DESCRIPTION:Yhteisöpäivä\, Malmin päivätoimintakeskus auki klo 9-13. Ilmoittaudu mukaan!
URL:https://kalenteri.niemikoti.fi/tapahtuma/yhteisopaiva-malmilla-klo-9-13-4/2024-05-08/
LOCATION:Malmin päivätoimintakeskus\, Vanha Helsingintie 9\, Helsinki\, 00700\, Finland
CATEGORIES:Malmin päivätoimintakeskus
END:VEVENT
BEGIN:VEVENT
DTSTART;TZID=Europe/Helsinki:20240508T100000
DTEND;TZID=Europe/Helsinki:20240508T103000
DTSTAMP:20260423T121800
CREATED:20230531T081915Z
LAST-MODIFIED:20240205T125027Z
UID:10004014-1715162400-1715164200@kalenteri.niemikoti.fi
SUMMARY:Yhteisöpäivän aamukokous
DESCRIPTION:Yhteisöpäivän aamukokouksessa käydään läpi päivän ohjelmaa\, tapahtumia\, yhteisötehtäviä ja muita ajankohtaisia asioita.
URL:https://kalenteri.niemikoti.fi/tapahtuma/yhteisopaivan-aamukokous/2024-05-08/
LOCATION:Toimintakeskus Villa Borgis\, Linnavuorentie 13\, Helsinki\, 00950\, Finland
CATEGORIES:Toimintakeskus Villa Borgis
END:VEVENT
END:VCALENDAR