BEGIN:VCALENDAR
VERSION:2.0
PRODID:-//Tapahtumakalenteri - ECPv6.15.18//NONSGML v1.0//EN
CALSCALE:GREGORIAN
METHOD:PUBLISH
X-ORIGINAL-URL:https://kalenteri.niemikoti.fi
X-WR-CALDESC:Tapahtumat Tapahtumakalenteri
REFRESH-INTERVAL;VALUE=DURATION:PT1H
X-Robots-Tag:noindex
X-PUBLISHED-TTL:PT1H
BEGIN:VTIMEZONE
TZID:Europe/Helsinki
BEGIN:DAYLIGHT
TZOFFSETFROM:+0200
TZOFFSETTO:+0300
TZNAME:EEST
DTSTART:20250330T010000
END:DAYLIGHT
BEGIN:STANDARD
TZOFFSETFROM:+0300
TZOFFSETTO:+0200
TZNAME:EET
DTSTART:20251026T010000
END:STANDARD
BEGIN:DAYLIGHT
TZOFFSETFROM:+0200
TZOFFSETTO:+0300
TZNAME:EEST
DTSTART:20260329T010000
END:DAYLIGHT
BEGIN:STANDARD
TZOFFSETFROM:+0300
TZOFFSETTO:+0200
TZNAME:EET
DTSTART:20261025T010000
END:STANDARD
BEGIN:DAYLIGHT
TZOFFSETFROM:+0200
TZOFFSETTO:+0300
TZNAME:EEST
DTSTART:20270328T010000
END:DAYLIGHT
BEGIN:STANDARD
TZOFFSETFROM:+0300
TZOFFSETTO:+0200
TZNAME:EET
DTSTART:20271031T010000
END:STANDARD
END:VTIMEZONE
BEGIN:VEVENT
DTSTART;TZID=Europe/Helsinki:20260130T100000
DTEND;TZID=Europe/Helsinki:20260424T120000
DTSTAMP:20260421T165854
CREATED:20250522T084825Z
LAST-MODIFIED:20260421T134929Z
UID:10025559-1769767200-1777032000@kalenteri.niemikoti.fi
SUMMARY:Aamujooga
DESCRIPTION:Kaikille sopivaa\, lempeää ja rauhallista joogaa. Max. 10 osallistujaa. Ilmoittaudu.
URL:https://kalenteri.niemikoti.fi/tapahtuma/aamujooga-3/2026-01-30/
LOCATION:Toimintakeskus Villa Borgis\, Linnavuorentie 13\, Helsinki\, 00950\, Finland
CATEGORIES:Toimintakeskus Villa Borgis
ATTACH;FMTTYPE=image/jpeg:https://kalenteri.niemikoti.fi/wp-content/uploads/2025/05/VillaBorgiksen-Aamujooga.jpg
END:VEVENT
BEGIN:VEVENT
DTSTART;TZID=Europe/Helsinki:20260206T100000
DTEND;TZID=Europe/Helsinki:20260501T120000
DTSTAMP:20260421T165854
CREATED:20250522T084825Z
LAST-MODIFIED:20260421T134929Z
UID:10025560-1770372000-1777636800@kalenteri.niemikoti.fi
SUMMARY:Aamujooga
DESCRIPTION:Kaikille sopivaa\, lempeää ja rauhallista joogaa. Max. 10 osallistujaa. Ilmoittaudu.
URL:https://kalenteri.niemikoti.fi/tapahtuma/aamujooga-3/2026-02-06/
LOCATION:Toimintakeskus Villa Borgis\, Linnavuorentie 13\, Helsinki\, 00950\, Finland
CATEGORIES:Toimintakeskus Villa Borgis
ATTACH;FMTTYPE=image/jpeg:https://kalenteri.niemikoti.fi/wp-content/uploads/2025/05/VillaBorgiksen-Aamujooga.jpg
END:VEVENT
BEGIN:VEVENT
DTSTART;TZID=Europe/Helsinki:20260213T100000
DTEND;TZID=Europe/Helsinki:20260508T120000
DTSTAMP:20260421T165854
CREATED:20250522T084825Z
LAST-MODIFIED:20260421T134929Z
UID:10025561-1770976800-1778241600@kalenteri.niemikoti.fi
SUMMARY:Aamujooga
DESCRIPTION:Kaikille sopivaa\, lempeää ja rauhallista joogaa. Max. 10 osallistujaa. Ilmoittaudu.
URL:https://kalenteri.niemikoti.fi/tapahtuma/aamujooga-3/2026-02-13/
LOCATION:Toimintakeskus Villa Borgis\, Linnavuorentie 13\, Helsinki\, 00950\, Finland
CATEGORIES:Toimintakeskus Villa Borgis
ATTACH;FMTTYPE=image/jpeg:https://kalenteri.niemikoti.fi/wp-content/uploads/2025/05/VillaBorgiksen-Aamujooga.jpg
END:VEVENT
BEGIN:VEVENT
DTSTART;TZID=Europe/Helsinki:20260220T100000
DTEND;TZID=Europe/Helsinki:20260515T120000
DTSTAMP:20260421T165854
CREATED:20250522T084825Z
LAST-MODIFIED:20260421T134929Z
UID:10025562-1771581600-1778846400@kalenteri.niemikoti.fi
SUMMARY:Aamujooga
DESCRIPTION:Kaikille sopivaa\, lempeää ja rauhallista joogaa. Max. 10 osallistujaa. Ilmoittaudu.
URL:https://kalenteri.niemikoti.fi/tapahtuma/aamujooga-3/2026-02-20/
LOCATION:Toimintakeskus Villa Borgis\, Linnavuorentie 13\, Helsinki\, 00950\, Finland
CATEGORIES:Toimintakeskus Villa Borgis
ATTACH;FMTTYPE=image/jpeg:https://kalenteri.niemikoti.fi/wp-content/uploads/2025/05/VillaBorgiksen-Aamujooga.jpg
END:VEVENT
BEGIN:VEVENT
DTSTART;TZID=Europe/Helsinki:20260227T100000
DTEND;TZID=Europe/Helsinki:20260522T120000
DTSTAMP:20260421T165854
CREATED:20250522T084825Z
LAST-MODIFIED:20260421T134929Z
UID:10025563-1772186400-1779451200@kalenteri.niemikoti.fi
SUMMARY:Aamujooga
DESCRIPTION:Kaikille sopivaa\, lempeää ja rauhallista joogaa. Max. 10 osallistujaa. Ilmoittaudu.
URL:https://kalenteri.niemikoti.fi/tapahtuma/aamujooga-3/2026-02-27/
LOCATION:Toimintakeskus Villa Borgis\, Linnavuorentie 13\, Helsinki\, 00950\, Finland
CATEGORIES:Toimintakeskus Villa Borgis
ATTACH;FMTTYPE=image/jpeg:https://kalenteri.niemikoti.fi/wp-content/uploads/2025/05/VillaBorgiksen-Aamujooga.jpg
END:VEVENT
BEGIN:VEVENT
DTSTART;TZID=Europe/Helsinki:20260306T100000
DTEND;TZID=Europe/Helsinki:20260529T120000
DTSTAMP:20260421T165854
CREATED:20250522T084825Z
LAST-MODIFIED:20260421T134929Z
UID:10025564-1772791200-1780056000@kalenteri.niemikoti.fi
SUMMARY:Aamujooga
DESCRIPTION:Kaikille sopivaa\, lempeää ja rauhallista joogaa. Max. 10 osallistujaa. Ilmoittaudu.
URL:https://kalenteri.niemikoti.fi/tapahtuma/aamujooga-3/2026-03-06/
LOCATION:Toimintakeskus Villa Borgis\, Linnavuorentie 13\, Helsinki\, 00950\, Finland
CATEGORIES:Toimintakeskus Villa Borgis
ATTACH;FMTTYPE=image/jpeg:https://kalenteri.niemikoti.fi/wp-content/uploads/2025/05/VillaBorgiksen-Aamujooga.jpg
END:VEVENT
BEGIN:VEVENT
DTSTART;TZID=Europe/Helsinki:20260313T100000
DTEND;TZID=Europe/Helsinki:20260605T120000
DTSTAMP:20260421T165854
CREATED:20250522T084825Z
LAST-MODIFIED:20260421T134929Z
UID:10025565-1773396000-1780660800@kalenteri.niemikoti.fi
SUMMARY:Aamujooga
DESCRIPTION:Kaikille sopivaa\, lempeää ja rauhallista joogaa. Max. 10 osallistujaa. Ilmoittaudu.
URL:https://kalenteri.niemikoti.fi/tapahtuma/aamujooga-3/2026-03-13/
LOCATION:Toimintakeskus Villa Borgis\, Linnavuorentie 13\, Helsinki\, 00950\, Finland
CATEGORIES:Toimintakeskus Villa Borgis
ATTACH;FMTTYPE=image/jpeg:https://kalenteri.niemikoti.fi/wp-content/uploads/2025/05/VillaBorgiksen-Aamujooga.jpg
END:VEVENT
BEGIN:VEVENT
DTSTART;TZID=Europe/Helsinki:20260320T100000
DTEND;TZID=Europe/Helsinki:20260612T120000
DTSTAMP:20260421T165854
CREATED:20250522T084825Z
LAST-MODIFIED:20260421T134929Z
UID:10025566-1774000800-1781265600@kalenteri.niemikoti.fi
SUMMARY:Aamujooga
DESCRIPTION:Kaikille sopivaa\, lempeää ja rauhallista joogaa. Max. 10 osallistujaa. Ilmoittaudu.
URL:https://kalenteri.niemikoti.fi/tapahtuma/aamujooga-3/2026-03-20/
LOCATION:Toimintakeskus Villa Borgis\, Linnavuorentie 13\, Helsinki\, 00950\, Finland
CATEGORIES:Toimintakeskus Villa Borgis
ATTACH;FMTTYPE=image/jpeg:https://kalenteri.niemikoti.fi/wp-content/uploads/2025/05/VillaBorgiksen-Aamujooga.jpg
END:VEVENT
BEGIN:VEVENT
DTSTART;TZID=Europe/Helsinki:20260327T100000
DTEND;TZID=Europe/Helsinki:20260619T120000
DTSTAMP:20260421T165854
CREATED:20250522T084825Z
LAST-MODIFIED:20260421T134929Z
UID:10025567-1774605600-1781870400@kalenteri.niemikoti.fi
SUMMARY:Aamujooga
DESCRIPTION:Kaikille sopivaa\, lempeää ja rauhallista joogaa. Max. 10 osallistujaa. Ilmoittaudu.
URL:https://kalenteri.niemikoti.fi/tapahtuma/aamujooga-3/2026-03-27/
LOCATION:Toimintakeskus Villa Borgis\, Linnavuorentie 13\, Helsinki\, 00950\, Finland
CATEGORIES:Toimintakeskus Villa Borgis
ATTACH;FMTTYPE=image/jpeg:https://kalenteri.niemikoti.fi/wp-content/uploads/2025/05/VillaBorgiksen-Aamujooga.jpg
END:VEVENT
BEGIN:VEVENT
DTSTART;TZID=Europe/Helsinki:20260410T100000
DTEND;TZID=Europe/Helsinki:20260703T110000
DTSTAMP:20260421T165854
CREATED:20250522T084825Z
LAST-MODIFIED:20260421T134929Z
UID:10025569-1775815200-1783076400@kalenteri.niemikoti.fi
SUMMARY:Aamujooga
DESCRIPTION:Kaikille sopivaa\, lempeää ja rauhallista joogaa. Max. 10 osallistujaa. Ilmoittaudu.
URL:https://kalenteri.niemikoti.fi/tapahtuma/aamujooga-3/2026-04-10/
LOCATION:Toimintakeskus Villa Borgis\, Linnavuorentie 13\, Helsinki\, 00950\, Finland
CATEGORIES:Toimintakeskus Villa Borgis
ATTACH;FMTTYPE=image/jpeg:https://kalenteri.niemikoti.fi/wp-content/uploads/2025/05/VillaBorgiksen-Aamujooga.jpg
END:VEVENT
BEGIN:VEVENT
DTSTART;TZID=Europe/Helsinki:20260417T100000
DTEND;TZID=Europe/Helsinki:20260710T110000
DTSTAMP:20260421T165854
CREATED:20250522T084825Z
LAST-MODIFIED:20260421T134929Z
UID:10025570-1776420000-1783681200@kalenteri.niemikoti.fi
SUMMARY:Aamujooga
DESCRIPTION:Kaikille sopivaa\, lempeää ja rauhallista joogaa. Max. 10 osallistujaa. Ilmoittaudu.
URL:https://kalenteri.niemikoti.fi/tapahtuma/aamujooga-3/2026-04-17/
LOCATION:Toimintakeskus Villa Borgis\, Linnavuorentie 13\, Helsinki\, 00950\, Finland
CATEGORIES:Toimintakeskus Villa Borgis
ATTACH;FMTTYPE=image/jpeg:https://kalenteri.niemikoti.fi/wp-content/uploads/2025/05/VillaBorgiksen-Aamujooga.jpg
END:VEVENT
BEGIN:VEVENT
DTSTART;TZID=Europe/Helsinki:20260421T090000
DTEND;TZID=Europe/Helsinki:20260421T100000
DTSTAMP:20260421T165854
CREATED:20260302T134800Z
LAST-MODIFIED:20260302T134800Z
UID:10033995-1776762000-1776765600@kalenteri.niemikoti.fi
SUMMARY:Yhteisön aamiainen Malmilla
DESCRIPTION:Aamiaisella puuroa\, muroja tai jogurttia vaihtelevasti sekä leipää päällisineen. Juomaksi tuoremehua sekä kahvia tai teetä. Hinta 1\,5 e.
URL:https://kalenteri.niemikoti.fi/tapahtuma/yhteison-aamiainen-malmilla/2026-04-21/
LOCATION:Malmin päivätoimintakeskus\, Vanha Helsingintie 9\, Helsinki\, 00700\, Finland
CATEGORIES:Malmin päivätoimintakeskus
END:VEVENT
BEGIN:VEVENT
DTSTART;TZID=Europe/Helsinki:20260421T090000
DTEND;TZID=Europe/Helsinki:20260421T120000
DTSTAMP:20260421T165854
CREATED:20260413T122238Z
LAST-MODIFIED:20260413T122238Z
UID:10037351-1776762000-1776772800@kalenteri.niemikoti.fi
SUMMARY:Tutustu 3D-tulostamiseen
DESCRIPTION:Näe 3D mallien tulostaminen livenä ja inspiroidu uusista mahdollisuuksista!
URL:https://kalenteri.niemikoti.fi/tapahtuma/tutustu-3d-tulostamiseen/
LOCATION:Mieli Töihin -valmennus\, Maistraatinkatu 6\, Helsinki\, 00240\, Finland
ATTACH;FMTTYPE=image/jpeg:https://kalenteri.niemikoti.fi/wp-content/uploads/2026/04/3d.jpg
END:VEVENT
BEGIN:VEVENT
DTSTART;TZID=Europe/Helsinki:20260421T100000
DTEND;TZID=Europe/Helsinki:20260421T103000
DTSTAMP:20260421T165854
CREATED:20260112T105633Z
LAST-MODIFIED:20260303T072458Z
UID:10028692-1776765600-1776767400@kalenteri.niemikoti.fi
SUMMARY:Aamukokous Malmilla
DESCRIPTION:Kokoonnutaan yhteen vaihtamaan kuulumisia ja keskustellaan päivän ohjelmasta.
URL:https://kalenteri.niemikoti.fi/tapahtuma/aamukokous-malmilla/2026-04-21/
LOCATION:Malmin päivätoimintakeskus\, Vanha Helsingintie 9\, Helsinki\, 00700\, Finland
CATEGORIES:Malmin päivätoimintakeskus
END:VEVENT
BEGIN:VEVENT
DTSTART;TZID=Europe/Helsinki:20260421T103000
DTEND;TZID=Europe/Helsinki:20260421T110000
DTSTAMP:20260421T165854
CREATED:20260112T111935Z
LAST-MODIFIED:20260410T061604Z
UID:10031014-1776767400-1776769200@kalenteri.niemikoti.fi
SUMMARY:Talon töitä Malmilla
DESCRIPTION:Pidetään yhdessä huolta yhteisistä tiloista ja tiluksista. Osallistua voi omien voimavarojen mukaan.
URL:https://kalenteri.niemikoti.fi/tapahtuma/talon-toita-7/2026-04-21/
LOCATION:Malmin päivätoimintakeskus\, Vanha Helsingintie 9\, Helsinki\, 00700\, Finland
CATEGORIES:Malmin päivätoimintakeskus
END:VEVENT
BEGIN:VEVENT
DTSTART;TZID=Europe/Helsinki:20260421T110000
DTEND;TZID=Europe/Helsinki:20260421T120000
DTSTAMP:20260421T165854
CREATED:20260126T114459Z
LAST-MODIFIED:20260126T114459Z
UID:10032138-1776769200-1776772800@kalenteri.niemikoti.fi
SUMMARY:Luonto & liikunta -kävelyryhmä Malmilla
DESCRIPTION:Uusille tilaa\, ilmoittaudu mukaan! Kaksi ryhmää tarpeen mukaan\, tehdään sekä pidempi että lyhyempi kävelylenkki.
URL:https://kalenteri.niemikoti.fi/tapahtuma/luonto-liikunta-kavelyryhma-malmilla-3/2026-04-21/
LOCATION:Malmin päivätoimintakeskus\, Vanha Helsingintie 9\, Helsinki\, 00700\, Finland
CATEGORIES:Malmin päivätoimintakeskus
END:VEVENT
BEGIN:VEVENT
DTSTART;TZID=Europe/Helsinki:20260421T120000
DTEND;TZID=Europe/Helsinki:20260421T130000
DTSTAMP:20260421T165854
CREATED:20260302T135525Z
LAST-MODIFIED:20260303T072113Z
UID:10035039-1776772800-1776776400@kalenteri.niemikoti.fi
SUMMARY:Yhteisön lounas Malmilla
DESCRIPTION:Lounas ja lounaskahvit. Ruokalista vaihtelee kuukausittain ja on nähtävillä Malmin päivätoimintakeskuksessa. Hinta 3\,5 euroa.
URL:https://kalenteri.niemikoti.fi/tapahtuma/yhteison-lounas-malmilla/2026-04-21/
LOCATION:Malmin päivätoimintakeskus\, Vanha Helsingintie 9\, Helsinki\, 00700\, Finland
CATEGORIES:Malmin päivätoimintakeskus
END:VEVENT
BEGIN:VEVENT
DTSTART;TZID=Europe/Helsinki:20260421T120000
DTEND;TZID=Europe/Helsinki:20260421T150000
DTSTAMP:20260421T165854
CREATED:20260330T095533Z
LAST-MODIFIED:20260330T095533Z
UID:10036932-1776772800-1776783600@kalenteri.niemikoti.fi
SUMMARY:Lauta- ja korttipelit
DESCRIPTION:Porukalla päätetään mitä pelejä pelataan.
URL:https://kalenteri.niemikoti.fi/tapahtuma/lauta-ja-korttipelit/2026-04-21/
CATEGORIES:Kulttuuripaja ELVIS
END:VEVENT
BEGIN:VEVENT
DTSTART;TZID=Europe/Helsinki:20260421T130000
DTEND;TZID=Europe/Helsinki:20260421T143000
DTSTAMP:20260421T165854
CREATED:20260112T114328Z
LAST-MODIFIED:20260303T072740Z
UID:10027046-1776776400-1776781800@kalenteri.niemikoti.fi
SUMMARY:DJ-paja Malmilla
DESCRIPTION:Niemikotisäätiöläisille avoin yhteisoppimiseen perustuva DJ-paja. Omaa musiikkia saa tuoda mukaan muistitikuilla. Enintään 6 osallistujaa/kerta. Ilmoittaudu mukaan! \nHuom! Ei ryhmää 3.2.
URL:https://kalenteri.niemikoti.fi/tapahtuma/dj-paja-malmilla/2026-04-21/
LOCATION:Malmin päivätoimintakeskus\, Vanha Helsingintie 9\, Helsinki\, 00700\, Finland
CATEGORIES:Malmin päivätoimintakeskus
END:VEVENT
BEGIN:VEVENT
DTSTART;TZID=Europe/Helsinki:20260421T130000
DTEND;TZID=Europe/Helsinki:20260421T153000
DTSTAMP:20260421T165854
CREATED:20260112T134809Z
LAST-MODIFIED:20260410T070218Z
UID:10037091-1776776400-1776785400@kalenteri.niemikoti.fi
SUMMARY:JV:n bändi Malmilla
DESCRIPTION:Bändi harjoittelee oman ohjaajan kanssa.
URL:https://kalenteri.niemikoti.fi/tapahtuma/jvn-bandi-malmilla/2026-04-21/
LOCATION:Malmin päivätoimintakeskus\, Vanha Helsingintie 9\, Helsinki\, 00700\, Finland
CATEGORIES:Malmin päivätoimintakeskus
END:VEVENT
BEGIN:VEVENT
DTSTART;TZID=Europe/Helsinki:20260421T150000
DTEND;TZID=Europe/Helsinki:20260421T163000
DTSTAMP:20260421T165854
CREATED:20260330T102301Z
LAST-MODIFIED:20260330T102301Z
UID:10036948-1776783600-1776789000@kalenteri.niemikoti.fi
SUMMARY:"Median metkut" -mediapaja
DESCRIPTION:Tehdään ja opitaan yhdessä; medialukutaito\, videokuvaus\, ääniefektointi\, visuaalinen tarinankerronta\, ideat näkyväksi…
URL:https://kalenteri.niemikoti.fi/tapahtuma/median-metkut-mediapaja/2026-04-21/
CATEGORIES:Kulttuuripaja ELVIS
END:VEVENT
BEGIN:VEVENT
DTSTART;TZID=Europe/Helsinki:20260422T090000
DTEND;TZID=Europe/Helsinki:20260422T100000
DTSTAMP:20260421T165854
CREATED:20260302T134800Z
LAST-MODIFIED:20260302T134800Z
UID:10033996-1776848400-1776852000@kalenteri.niemikoti.fi
SUMMARY:Yhteisön aamiainen Malmilla
DESCRIPTION:Aamiaisella puuroa\, muroja tai jogurttia vaihtelevasti sekä leipää päällisineen. Juomaksi tuoremehua sekä kahvia tai teetä. Hinta 1\,5 e.
URL:https://kalenteri.niemikoti.fi/tapahtuma/yhteison-aamiainen-malmilla/2026-04-22/
LOCATION:Malmin päivätoimintakeskus\, Vanha Helsingintie 9\, Helsinki\, 00700\, Finland
CATEGORIES:Malmin päivätoimintakeskus
END:VEVENT
BEGIN:VEVENT
DTSTART;TZID=Europe/Helsinki:20260422T100000
DTEND;TZID=Europe/Helsinki:20260422T103000
DTSTAMP:20260421T165854
CREATED:20260112T105633Z
LAST-MODIFIED:20260303T072458Z
UID:10028693-1776852000-1776853800@kalenteri.niemikoti.fi
SUMMARY:Aamukokous Malmilla
DESCRIPTION:Kokoonnutaan yhteen vaihtamaan kuulumisia ja keskustellaan päivän ohjelmasta.
URL:https://kalenteri.niemikoti.fi/tapahtuma/aamukokous-malmilla/2026-04-22/
LOCATION:Malmin päivätoimintakeskus\, Vanha Helsingintie 9\, Helsinki\, 00700\, Finland
CATEGORIES:Malmin päivätoimintakeskus
END:VEVENT
BEGIN:VEVENT
DTSTART;TZID=Europe/Helsinki:20260422T103000
DTEND;TZID=Europe/Helsinki:20260422T110000
DTSTAMP:20260421T165854
CREATED:20260112T111935Z
LAST-MODIFIED:20260410T061604Z
UID:10031015-1776853800-1776855600@kalenteri.niemikoti.fi
SUMMARY:Talon töitä Malmilla
DESCRIPTION:Pidetään yhdessä huolta yhteisistä tiloista ja tiluksista. Osallistua voi omien voimavarojen mukaan.
URL:https://kalenteri.niemikoti.fi/tapahtuma/talon-toita-7/2026-04-22/
LOCATION:Malmin päivätoimintakeskus\, Vanha Helsingintie 9\, Helsinki\, 00700\, Finland
CATEGORIES:Malmin päivätoimintakeskus
END:VEVENT
BEGIN:VEVENT
DTSTART;TZID=Europe/Helsinki:20260422T110000
DTEND;TZID=Europe/Helsinki:20260422T120000
DTSTAMP:20260421T165854
CREATED:20260126T120107Z
LAST-MODIFIED:20260410T062215Z
UID:10032400-1776855600-1776859200@kalenteri.niemikoti.fi
SUMMARY:Siemenestä syötäväksi -hyötypuutarharyhmä
DESCRIPTION:Taimien kasvatusta\, hyötykasvitietoutta ja Malmin lavakauluspuutarhan hoitoa kokemusasiantuntijan kanssa. Täydentyvä ryhmä\, ilmoittaudu mukaan!
URL:https://kalenteri.niemikoti.fi/tapahtuma/caffetteria-italiana-malmilla/2026-04-22/
LOCATION:Malmin päivätoimintakeskus\, Vanha Helsingintie 9\, Helsinki\, 00700\, Finland
CATEGORIES:Malmin päivätoimintakeskus
ATTACH;FMTTYPE=image/jpeg:https://kalenteri.niemikoti.fi/wp-content/uploads/2026/01/Siemenesta-syotavaksi-hyotypuutarharyhma-1.jpg
END:VEVENT
BEGIN:VEVENT
DTSTART;TZID=Europe/Helsinki:20260422T110000
DTEND;TZID=Europe/Helsinki:20260422T130000
DTSTAMP:20260421T165854
CREATED:20260330T084413Z
LAST-MODIFIED:20260330T084413Z
UID:10036895-1776855600-1776862800@kalenteri.niemikoti.fi
SUMMARY:Pleikkapelit
DESCRIPTION:Playstation 4 -peliryhmä ELVIKSEN kävijöille.
URL:https://kalenteri.niemikoti.fi/tapahtuma/pleikkapelit-4/2026-04-22/
LOCATION:Kulttuuripaja ELVIS\, Lautatarhankatu 4\, Helsinki\, 00580\, Finland
CATEGORIES:Kulttuuripaja ELVIS
END:VEVENT
BEGIN:VEVENT
DTSTART;TZID=Europe/Helsinki:20260422T120000
DTEND;TZID=Europe/Helsinki:20260422T130000
DTSTAMP:20260421T165854
CREATED:20260302T135525Z
LAST-MODIFIED:20260303T072113Z
UID:10035040-1776859200-1776862800@kalenteri.niemikoti.fi
SUMMARY:Yhteisön lounas Malmilla
DESCRIPTION:Lounas ja lounaskahvit. Ruokalista vaihtelee kuukausittain ja on nähtävillä Malmin päivätoimintakeskuksessa. Hinta 3\,5 euroa.
URL:https://kalenteri.niemikoti.fi/tapahtuma/yhteison-lounas-malmilla/2026-04-22/
LOCATION:Malmin päivätoimintakeskus\, Vanha Helsingintie 9\, Helsinki\, 00700\, Finland
CATEGORIES:Malmin päivätoimintakeskus
END:VEVENT
BEGIN:VEVENT
DTSTART;TZID=Europe/Helsinki:20260422T130000
DTEND;TZID=Europe/Helsinki:20260422T143000
DTSTAMP:20260421T165854
CREATED:20260112T131042Z
LAST-MODIFIED:20260303T072919Z
UID:10029918-1776862800-1776868200@kalenteri.niemikoti.fi
SUMMARY:Väriä elämään Malmilla
DESCRIPTION:Visuaalista taidetta vaihtuvin teemoin ja tekniikoin. Enintään 8 osallistujaa kerralla. Ilmoittaudu mukaan!
URL:https://kalenteri.niemikoti.fi/tapahtuma/varia-elamaan-malmilla/2026-04-22/
LOCATION:Malmin päivätoimintakeskus\, Vanha Helsingintie 9\, Helsinki\, 00700\, Finland
CATEGORIES:Malmin päivätoimintakeskus
END:VEVENT
BEGIN:VEVENT
DTSTART;TZID=Europe/Helsinki:20260422T143000
DTEND;TZID=Europe/Helsinki:20260422T170000
DTSTAMP:20260421T165854
CREATED:20260330T093917Z
LAST-MODIFIED:20260330T093917Z
UID:10036908-1776868200-1776877200@kalenteri.niemikoti.fi
SUMMARY:Kässä&kuvis
DESCRIPTION:Kässää ja kuvista vaihtuvin teemoin.
URL:https://kalenteri.niemikoti.fi/tapahtuma/kassakuvis/2026-04-22/
CATEGORIES:Kulttuuripaja ELVIS
END:VEVENT
BEGIN:VEVENT
DTSTART;TZID=Europe/Helsinki:20260423T120000
DTEND;TZID=Europe/Helsinki:20260423T130000
DTSTAMP:20260421T165854
CREATED:20260126T130159Z
LAST-MODIFIED:20260410T063159Z
UID:10037038-1776945600-1776949200@kalenteri.niemikoti.fi
SUMMARY:Kitaran alkeet
DESCRIPTION:Harjoitellaan yhdessä akustisen kitaransoiton alkeita. Ryhmään mahtuu enintään 5 osallistujaa kerralla. Ilmoittaudu mukaan!
URL:https://kalenteri.niemikoti.fi/tapahtuma/peliryhma-malmilla-2/2026-04-23/
LOCATION:Malmin päivätoimintakeskus\, Vanha Helsingintie 9\, Helsinki\, 00700\, Finland
CATEGORIES:Malmin päivätoimintakeskus
ATTACH;FMTTYPE=image/jpeg:https://kalenteri.niemikoti.fi/wp-content/uploads/2026/01/Kitaran-alkeet-klo12.jpg
END:VEVENT
END:VCALENDAR