BEGIN:VCALENDAR
VERSION:2.0
PRODID:-//Tapahtumakalenteri - ECPv6.15.18//NONSGML v1.0//EN
CALSCALE:GREGORIAN
METHOD:PUBLISH
X-ORIGINAL-URL:https://kalenteri.niemikoti.fi
X-WR-CALDESC:Tapahtumat Tapahtumakalenteri
REFRESH-INTERVAL;VALUE=DURATION:PT1H
X-Robots-Tag:noindex
X-PUBLISHED-TTL:PT1H
BEGIN:VTIMEZONE
TZID:Europe/Helsinki
BEGIN:DAYLIGHT
TZOFFSETFROM:+0200
TZOFFSETTO:+0300
TZNAME:EEST
DTSTART:20250330T010000
END:DAYLIGHT
BEGIN:STANDARD
TZOFFSETFROM:+0300
TZOFFSETTO:+0200
TZNAME:EET
DTSTART:20251026T010000
END:STANDARD
BEGIN:DAYLIGHT
TZOFFSETFROM:+0200
TZOFFSETTO:+0300
TZNAME:EEST
DTSTART:20260329T010000
END:DAYLIGHT
BEGIN:STANDARD
TZOFFSETFROM:+0300
TZOFFSETTO:+0200
TZNAME:EET
DTSTART:20261025T010000
END:STANDARD
BEGIN:DAYLIGHT
TZOFFSETFROM:+0200
TZOFFSETTO:+0300
TZNAME:EEST
DTSTART:20270328T010000
END:DAYLIGHT
BEGIN:STANDARD
TZOFFSETFROM:+0300
TZOFFSETTO:+0200
TZNAME:EET
DTSTART:20271031T010000
END:STANDARD
END:VTIMEZONE
BEGIN:VEVENT
DTSTART;TZID=Europe/Helsinki:20260507T140000
DTEND;TZID=Europe/Helsinki:20260625T160000
DTSTAMP:20260423T143536
CREATED:20260421T101538Z
LAST-MODIFIED:20260422T174148Z
UID:10037531-1778162400-1782403200@kalenteri.niemikoti.fi
SUMMARY:Kaupunkiviljely Malmilla
DESCRIPTION:Kaupunkiviljelyryhmä Malmilla. Ilmoittaudu.
URL:https://kalenteri.niemikoti.fi/tapahtuma/kaupunkiviljely-malmilla-8/2026-05-07/
LOCATION:Green City Farm c/o Perho Liiketalousopisto\, Vanha Helsingintie 13\, Helsinki\, 00700
CATEGORIES:Toimintakeskus Villa Borgis
END:VEVENT
BEGIN:VEVENT
DTSTART;TZID=Europe/Helsinki:20260508T100000
DTEND;TZID=Europe/Helsinki:20260731T110000
DTSTAMP:20260423T143536
CREATED:20250522T084825Z
LAST-MODIFIED:20260422T165922Z
UID:10025573-1778234400-1785495600@kalenteri.niemikoti.fi
SUMMARY:Aamujooga
DESCRIPTION:Kaikille sopivaa\, lempeää ja rauhallista joogaa. Max. 10 osallistujaa. Ilmoittaudu.
URL:https://kalenteri.niemikoti.fi/tapahtuma/aamujooga-3/2026-05-08/
LOCATION:Toimintakeskus Villa Borgis\, Linnavuorentie 13\, Helsinki\, 00950\, Finland
CATEGORIES:Toimintakeskus Villa Borgis
ATTACH;FMTTYPE=image/jpeg:https://kalenteri.niemikoti.fi/wp-content/uploads/2025/05/VillaBorgiksen-Aamujooga.jpg
END:VEVENT
BEGIN:VEVENT
DTSTART;TZID=Europe/Helsinki:20260511T130000
DTEND;TZID=Europe/Helsinki:20260525T140000
DTSTAMP:20260423T143536
CREATED:20260421T065648Z
LAST-MODIFIED:20260422T174426Z
UID:10037354-1778504400-1779717600@kalenteri.niemikoti.fi
SUMMARY:Akvarelli-unelmia
DESCRIPTION:Maalataan vesiväreillä.
URL:https://kalenteri.niemikoti.fi/tapahtuma/akvarelli-unelmia/2026-05-11/
LOCATION:Toimintakeskus Villa Borgis\, Linnavuorentie 13\, Helsinki\, 00950\, Finland
CATEGORIES:Toimintakeskus Villa Borgis
END:VEVENT
BEGIN:VEVENT
DTSTART;TZID=Europe/Helsinki:20260515T100000
DTEND;TZID=Europe/Helsinki:20260807T110000
DTSTAMP:20260423T143536
CREATED:20250522T084825Z
LAST-MODIFIED:20260422T165922Z
UID:10025574-1778839200-1786100400@kalenteri.niemikoti.fi
SUMMARY:Aamujooga
DESCRIPTION:Kaikille sopivaa\, lempeää ja rauhallista joogaa. Max. 10 osallistujaa. Ilmoittaudu.
URL:https://kalenteri.niemikoti.fi/tapahtuma/aamujooga-3/2026-05-15/
LOCATION:Toimintakeskus Villa Borgis\, Linnavuorentie 13\, Helsinki\, 00950\, Finland
CATEGORIES:Toimintakeskus Villa Borgis
ATTACH;FMTTYPE=image/jpeg:https://kalenteri.niemikoti.fi/wp-content/uploads/2025/05/VillaBorgiksen-Aamujooga.jpg
END:VEVENT
BEGIN:VEVENT
DTSTART;TZID=Europe/Helsinki:20260518T130000
DTEND;TZID=Europe/Helsinki:20260601T140000
DTSTAMP:20260423T143536
CREATED:20260421T065648Z
LAST-MODIFIED:20260422T174426Z
UID:10037355-1779109200-1780322400@kalenteri.niemikoti.fi
SUMMARY:Akvarelli-unelmia
DESCRIPTION:Maalataan vesiväreillä.
URL:https://kalenteri.niemikoti.fi/tapahtuma/akvarelli-unelmia/2026-05-18/
LOCATION:Toimintakeskus Villa Borgis\, Linnavuorentie 13\, Helsinki\, 00950\, Finland
CATEGORIES:Toimintakeskus Villa Borgis
END:VEVENT
BEGIN:VEVENT
DTSTART;TZID=Europe/Helsinki:20260519T090000
DTEND;TZID=Europe/Helsinki:20260519T094500
DTSTAMP:20260423T143536
CREATED:20250820T065259Z
LAST-MODIFIED:20260331T081723Z
UID:10025732-1779181200-1779183900@kalenteri.niemikoti.fi
SUMMARY:Yhteisön aamiainen
DESCRIPTION:Aamiainen yhteisöpäivän kävijöille. Sisältää puuron\, talon omenahilloa\, leipää\, leivänpäällisiä\, jugurttia\, hedelmiä\, kahvia\, teetä ja mehua. Hinta aamiaiselle 3 e\, sisältää myös iltapäiväkahvin.
URL:https://kalenteri.niemikoti.fi/tapahtuma/yhteison-aamiainen-3/2026-05-19/
LOCATION:Toimintakeskus Villa Borgis\, Linnavuorentie 13\, Helsinki\, 00950\, Finland
CATEGORIES:Toimintakeskus Villa Borgis
END:VEVENT
BEGIN:VEVENT
DTSTART;TZID=Europe/Helsinki:20260519T090000
DTEND;TZID=Europe/Helsinki:20260519T100000
DTSTAMP:20260423T143536
CREATED:20260302T134800Z
LAST-MODIFIED:20260302T134800Z
UID:10034011-1779181200-1779184800@kalenteri.niemikoti.fi
SUMMARY:Yhteisön aamiainen Malmilla
DESCRIPTION:Aamiaisella puuroa\, muroja tai jogurttia vaihtelevasti sekä leipää päällisineen. Juomaksi tuoremehua sekä kahvia tai teetä. Hinta 1\,5 e.
URL:https://kalenteri.niemikoti.fi/tapahtuma/yhteison-aamiainen-malmilla/2026-05-19/
LOCATION:Malmin päivätoimintakeskus\, Vanha Helsingintie 9\, Helsinki\, 00700\, Finland
CATEGORIES:Malmin päivätoimintakeskus
END:VEVENT
BEGIN:VEVENT
DTSTART;TZID=Europe/Helsinki:20260519T100000
DTEND;TZID=Europe/Helsinki:20260519T103000
DTSTAMP:20260423T143536
CREATED:20250818T063824Z
LAST-MODIFIED:20260331T081921Z
UID:10025949-1779184800-1779186600@kalenteri.niemikoti.fi
SUMMARY:Yhteisöpäivän aamukokous
DESCRIPTION:Yhteisöpäivän aamukokouksessa tutustutaan päivän ohjelmaan ja tuleviin tapahtumiin sekä käydään kuulumiskierros.
URL:https://kalenteri.niemikoti.fi/tapahtuma/yhteisopaivan-aamukokous-6/2026-05-19/
LOCATION:Toimintakeskus Villa Borgis\, Linnavuorentie 13\, Helsinki\, 00950\, Finland
CATEGORIES:Toimintakeskus Villa Borgis
END:VEVENT
BEGIN:VEVENT
DTSTART;TZID=Europe/Helsinki:20260519T100000
DTEND;TZID=Europe/Helsinki:20260519T103000
DTSTAMP:20260423T143537
CREATED:20260112T105633Z
LAST-MODIFIED:20260303T072458Z
UID:10026138-1779184800-1779186600@kalenteri.niemikoti.fi
SUMMARY:Aamukokous Malmilla
DESCRIPTION:Kokoonnutaan yhteen vaihtamaan kuulumisia ja keskustellaan päivän ohjelmasta.
URL:https://kalenteri.niemikoti.fi/tapahtuma/aamukokous-malmilla/2026-05-19/
LOCATION:Malmin päivätoimintakeskus\, Vanha Helsingintie 9\, Helsinki\, 00700\, Finland
CATEGORIES:Malmin päivätoimintakeskus
END:VEVENT
BEGIN:VEVENT
DTSTART;TZID=Europe/Helsinki:20260519T103000
DTEND;TZID=Europe/Helsinki:20260519T110000
DTSTAMP:20260423T143537
CREATED:20260112T111935Z
LAST-MODIFIED:20260410T061604Z
UID:10031026-1779186600-1779188400@kalenteri.niemikoti.fi
SUMMARY:Talon töitä Malmilla
DESCRIPTION:Pidetään yhdessä huolta yhteisistä tiloista ja tiluksista. Osallistua voi omien voimavarojen mukaan.
URL:https://kalenteri.niemikoti.fi/tapahtuma/talon-toita-7/2026-05-19/
LOCATION:Malmin päivätoimintakeskus\, Vanha Helsingintie 9\, Helsinki\, 00700\, Finland
CATEGORIES:Malmin päivätoimintakeskus
END:VEVENT
BEGIN:VEVENT
DTSTART;TZID=Europe/Helsinki:20260519T103000
DTEND;TZID=Europe/Helsinki:20260519T120000
DTSTAMP:20260423T143537
CREATED:20240814T065248Z
LAST-MODIFIED:20260421T091527Z
UID:10025537-1779186600-1779192000@kalenteri.niemikoti.fi
SUMMARY:Borgiksen Picassot
DESCRIPTION:Kuvataideryhmä. Kaikille sopivaa kuvallista työskentelyä\, ei vaadi erityisosaamista.
URL:https://kalenteri.niemikoti.fi/tapahtuma/borgiksen-picassot-2/2026-05-19/
LOCATION:Toimintakeskus Villa Borgis\, Linnavuorentie 13\, Helsinki\, 00950\, Finland
CATEGORIES:Toimintakeskus Villa Borgis
ATTACH;FMTTYPE=image/jpeg:https://kalenteri.niemikoti.fi/wp-content/uploads/2024/08/Borgiksen-Picassot-1.jpg
END:VEVENT
BEGIN:VEVENT
DTSTART;TZID=Europe/Helsinki:20260519T110000
DTEND;TZID=Europe/Helsinki:20260519T114500
DTSTAMP:20260423T143537
CREATED:20260330T094929Z
LAST-MODIFIED:20260330T094943Z
UID:10036920-1779188400-1779191100@kalenteri.niemikoti.fi
SUMMARY:Asahi&Chi Kung
DESCRIPTION:Rauhallista terveysliikuntaa. Liikkeet tehdään seisten.
URL:https://kalenteri.niemikoti.fi/tapahtuma/asahichi-kung/2026-05-19/
CATEGORIES:Kulttuuripaja ELVIS
END:VEVENT
BEGIN:VEVENT
DTSTART;TZID=Europe/Helsinki:20260519T110000
DTEND;TZID=Europe/Helsinki:20260519T120000
DTSTAMP:20260423T143537
CREATED:20260126T114459Z
LAST-MODIFIED:20260126T114459Z
UID:10032142-1779188400-1779192000@kalenteri.niemikoti.fi
SUMMARY:Luonto & liikunta -kävelyryhmä Malmilla
DESCRIPTION:Uusille tilaa\, ilmoittaudu mukaan! Kaksi ryhmää tarpeen mukaan\, tehdään sekä pidempi että lyhyempi kävelylenkki.
URL:https://kalenteri.niemikoti.fi/tapahtuma/luonto-liikunta-kavelyryhma-malmilla-3/2026-05-19/
LOCATION:Malmin päivätoimintakeskus\, Vanha Helsingintie 9\, Helsinki\, 00700\, Finland
CATEGORIES:Malmin päivätoimintakeskus
END:VEVENT
BEGIN:VEVENT
DTSTART;TZID=Europe/Helsinki:20260519T120000
DTEND;TZID=Europe/Helsinki:20260519T130000
DTSTAMP:20260423T143537
CREATED:20260302T135525Z
LAST-MODIFIED:20260303T072113Z
UID:10035055-1779192000-1779195600@kalenteri.niemikoti.fi
SUMMARY:Yhteisön lounas Malmilla
DESCRIPTION:Lounas ja lounaskahvit. Ruokalista vaihtelee kuukausittain ja on nähtävillä Malmin päivätoimintakeskuksessa. Hinta 3\,5 euroa.
URL:https://kalenteri.niemikoti.fi/tapahtuma/yhteison-lounas-malmilla/2026-05-19/
LOCATION:Malmin päivätoimintakeskus\, Vanha Helsingintie 9\, Helsinki\, 00700\, Finland
CATEGORIES:Malmin päivätoimintakeskus
END:VEVENT
BEGIN:VEVENT
DTSTART;TZID=Europe/Helsinki:20260519T120000
DTEND;TZID=Europe/Helsinki:20260519T150000
DTSTAMP:20260423T143537
CREATED:20260330T095533Z
LAST-MODIFIED:20260330T095533Z
UID:10036936-1779192000-1779202800@kalenteri.niemikoti.fi
SUMMARY:Lauta- ja korttipelit
DESCRIPTION:Porukalla päätetään mitä pelejä pelataan.
URL:https://kalenteri.niemikoti.fi/tapahtuma/lauta-ja-korttipelit/2026-05-19/
CATEGORIES:Kulttuuripaja ELVIS
END:VEVENT
BEGIN:VEVENT
DTSTART;TZID=Europe/Helsinki:20260519T130000
DTEND;TZID=Europe/Helsinki:20260519T140000
DTSTAMP:20260423T143537
CREATED:20260421T092211Z
LAST-MODIFIED:20260421T092445Z
UID:10037410-1779195600-1779199200@kalenteri.niemikoti.fi
SUMMARY:Yhteisön ohjelmaa
DESCRIPTION:Yhteisön ohjelmaa; musiikkia\, lautapelejä\, ulkoilua yms.
URL:https://kalenteri.niemikoti.fi/tapahtuma/yhteislaulut-2/2026-05-19/
LOCATION:Toimintakeskus Villa Borgis\, Linnavuorentie 13\, Helsinki\, 00950\, Finland
CATEGORIES:Toimintakeskus Villa Borgis
END:VEVENT
BEGIN:VEVENT
DTSTART;TZID=Europe/Helsinki:20260519T130000
DTEND;TZID=Europe/Helsinki:20260519T143000
DTSTAMP:20260423T143537
CREATED:20260112T114328Z
LAST-MODIFIED:20260303T072740Z
UID:10027050-1779195600-1779201000@kalenteri.niemikoti.fi
SUMMARY:DJ-paja Malmilla
DESCRIPTION:Niemikotisäätiöläisille avoin yhteisoppimiseen perustuva DJ-paja. Omaa musiikkia saa tuoda mukaan muistitikuilla. Enintään 6 osallistujaa/kerta. Ilmoittaudu mukaan! \nHuom! Ei ryhmää 3.2.
URL:https://kalenteri.niemikoti.fi/tapahtuma/dj-paja-malmilla/2026-05-19/
LOCATION:Malmin päivätoimintakeskus\, Vanha Helsingintie 9\, Helsinki\, 00700\, Finland
CATEGORIES:Malmin päivätoimintakeskus
END:VEVENT
BEGIN:VEVENT
DTSTART;TZID=Europe/Helsinki:20260519T130000
DTEND;TZID=Europe/Helsinki:20260519T153000
DTSTAMP:20260423T143537
CREATED:20260112T134809Z
LAST-MODIFIED:20260410T070218Z
UID:10037095-1779195600-1779204600@kalenteri.niemikoti.fi
SUMMARY:JV:n bändi Malmilla
DESCRIPTION:Bändi harjoittelee oman ohjaajan kanssa.
URL:https://kalenteri.niemikoti.fi/tapahtuma/jvn-bandi-malmilla/2026-05-19/
LOCATION:Malmin päivätoimintakeskus\, Vanha Helsingintie 9\, Helsinki\, 00700\, Finland
CATEGORIES:Malmin päivätoimintakeskus
END:VEVENT
BEGIN:VEVENT
DTSTART;TZID=Europe/Helsinki:20260519T150000
DTEND;TZID=Europe/Helsinki:20260519T163000
DTSTAMP:20260423T143537
CREATED:20260330T102301Z
LAST-MODIFIED:20260330T102301Z
UID:10036952-1779202800-1779208200@kalenteri.niemikoti.fi
SUMMARY:"Median metkut" -mediapaja
DESCRIPTION:Tehdään ja opitaan yhdessä; medialukutaito\, videokuvaus\, ääniefektointi\, visuaalinen tarinankerronta\, ideat näkyväksi…
URL:https://kalenteri.niemikoti.fi/tapahtuma/median-metkut-mediapaja/2026-05-19/
CATEGORIES:Kulttuuripaja ELVIS
END:VEVENT
BEGIN:VEVENT
DTSTART;TZID=Europe/Helsinki:20260520T090000
DTEND;TZID=Europe/Helsinki:20260520T094500
DTSTAMP:20260423T143537
CREATED:20250820T065259Z
LAST-MODIFIED:20260331T081723Z
UID:10025733-1779267600-1779270300@kalenteri.niemikoti.fi
SUMMARY:Yhteisön aamiainen
DESCRIPTION:Aamiainen yhteisöpäivän kävijöille. Sisältää puuron\, talon omenahilloa\, leipää\, leivänpäällisiä\, jugurttia\, hedelmiä\, kahvia\, teetä ja mehua. Hinta aamiaiselle 3 e\, sisältää myös iltapäiväkahvin.
URL:https://kalenteri.niemikoti.fi/tapahtuma/yhteison-aamiainen-3/2026-05-20/
LOCATION:Toimintakeskus Villa Borgis\, Linnavuorentie 13\, Helsinki\, 00950\, Finland
CATEGORIES:Toimintakeskus Villa Borgis
END:VEVENT
BEGIN:VEVENT
DTSTART;TZID=Europe/Helsinki:20260520T090000
DTEND;TZID=Europe/Helsinki:20260520T100000
DTSTAMP:20260423T143537
CREATED:20260302T134800Z
LAST-MODIFIED:20260302T134800Z
UID:10034012-1779267600-1779271200@kalenteri.niemikoti.fi
SUMMARY:Yhteisön aamiainen Malmilla
DESCRIPTION:Aamiaisella puuroa\, muroja tai jogurttia vaihtelevasti sekä leipää päällisineen. Juomaksi tuoremehua sekä kahvia tai teetä. Hinta 1\,5 e.
URL:https://kalenteri.niemikoti.fi/tapahtuma/yhteison-aamiainen-malmilla/2026-05-20/
LOCATION:Malmin päivätoimintakeskus\, Vanha Helsingintie 9\, Helsinki\, 00700\, Finland
CATEGORIES:Malmin päivätoimintakeskus
END:VEVENT
BEGIN:VEVENT
DTSTART;TZID=Europe/Helsinki:20260520T100000
DTEND;TZID=Europe/Helsinki:20260520T103000
DTSTAMP:20260423T143537
CREATED:20250818T063824Z
LAST-MODIFIED:20260331T081921Z
UID:10025950-1779271200-1779273000@kalenteri.niemikoti.fi
SUMMARY:Yhteisöpäivän aamukokous
DESCRIPTION:Yhteisöpäivän aamukokouksessa tutustutaan päivän ohjelmaan ja tuleviin tapahtumiin sekä käydään kuulumiskierros.
URL:https://kalenteri.niemikoti.fi/tapahtuma/yhteisopaivan-aamukokous-6/2026-05-20/
LOCATION:Toimintakeskus Villa Borgis\, Linnavuorentie 13\, Helsinki\, 00950\, Finland
CATEGORIES:Toimintakeskus Villa Borgis
END:VEVENT
BEGIN:VEVENT
DTSTART;TZID=Europe/Helsinki:20260520T100000
DTEND;TZID=Europe/Helsinki:20260520T103000
DTSTAMP:20260423T143537
CREATED:20260112T105633Z
LAST-MODIFIED:20260303T072458Z
UID:10026139-1779271200-1779273000@kalenteri.niemikoti.fi
SUMMARY:Aamukokous Malmilla
DESCRIPTION:Kokoonnutaan yhteen vaihtamaan kuulumisia ja keskustellaan päivän ohjelmasta.
URL:https://kalenteri.niemikoti.fi/tapahtuma/aamukokous-malmilla/2026-05-20/
LOCATION:Malmin päivätoimintakeskus\, Vanha Helsingintie 9\, Helsinki\, 00700\, Finland
CATEGORIES:Malmin päivätoimintakeskus
END:VEVENT
BEGIN:VEVENT
DTSTART;TZID=Europe/Helsinki:20260520T103000
DTEND;TZID=Europe/Helsinki:20260520T110000
DTSTAMP:20260423T143537
CREATED:20260112T111935Z
LAST-MODIFIED:20260410T061604Z
UID:10031027-1779273000-1779274800@kalenteri.niemikoti.fi
SUMMARY:Talon töitä Malmilla
DESCRIPTION:Pidetään yhdessä huolta yhteisistä tiloista ja tiluksista. Osallistua voi omien voimavarojen mukaan.
URL:https://kalenteri.niemikoti.fi/tapahtuma/talon-toita-7/2026-05-20/
LOCATION:Malmin päivätoimintakeskus\, Vanha Helsingintie 9\, Helsinki\, 00700\, Finland
CATEGORIES:Malmin päivätoimintakeskus
END:VEVENT
BEGIN:VEVENT
DTSTART;TZID=Europe/Helsinki:20260520T103000
DTEND;TZID=Europe/Helsinki:20260520T120000
DTSTAMP:20260423T143537
CREATED:20260421T093010Z
LAST-MODIFIED:20260421T134255Z
UID:10037592-1779273000-1779278400@kalenteri.niemikoti.fi
SUMMARY:Soppakokit
DESCRIPTION:Tehdään yhdessä ruokaa. Ruoan hinta osallistujille 2 €.
URL:https://kalenteri.niemikoti.fi/tapahtuma/soppakokit-13/2026-05-20/
LOCATION:Toimintakeskus Villa Borgis\, Linnavuorentie 13\, Helsinki\, 00950\, Finland
CATEGORIES:Toimintakeskus Villa Borgis
END:VEVENT
BEGIN:VEVENT
DTSTART;TZID=Europe/Helsinki:20260520T110000
DTEND;TZID=Europe/Helsinki:20260520T120000
DTSTAMP:20260423T143537
CREATED:20260126T120107Z
LAST-MODIFIED:20260410T062215Z
UID:10032404-1779274800-1779278400@kalenteri.niemikoti.fi
SUMMARY:Siemenestä syötäväksi -hyötypuutarharyhmä
DESCRIPTION:Taimien kasvatusta\, hyötykasvitietoutta ja Malmin lavakauluspuutarhan hoitoa kokemusasiantuntijan kanssa. Täydentyvä ryhmä\, ilmoittaudu mukaan!
URL:https://kalenteri.niemikoti.fi/tapahtuma/caffetteria-italiana-malmilla/2026-05-20/
LOCATION:Malmin päivätoimintakeskus\, Vanha Helsingintie 9\, Helsinki\, 00700\, Finland
CATEGORIES:Malmin päivätoimintakeskus
ATTACH;FMTTYPE=image/jpeg:https://kalenteri.niemikoti.fi/wp-content/uploads/2026/01/Siemenesta-syotavaksi-hyotypuutarharyhma-1.jpg
END:VEVENT
BEGIN:VEVENT
DTSTART;TZID=Europe/Helsinki:20260520T110000
DTEND;TZID=Europe/Helsinki:20260520T130000
DTSTAMP:20260423T143537
CREATED:20260330T084413Z
LAST-MODIFIED:20260330T084413Z
UID:10036899-1779274800-1779282000@kalenteri.niemikoti.fi
SUMMARY:Pleikkapelit
DESCRIPTION:Playstation 4 -peliryhmä ELVIKSEN kävijöille.
URL:https://kalenteri.niemikoti.fi/tapahtuma/pleikkapelit-4/2026-05-20/
LOCATION:Kulttuuripaja ELVIS\, Lautatarhankatu 4\, Helsinki\, 00580\, Finland
CATEGORIES:Kulttuuripaja ELVIS
END:VEVENT
BEGIN:VEVENT
DTSTART;TZID=Europe/Helsinki:20260520T120000
DTEND;TZID=Europe/Helsinki:20260520T130000
DTSTAMP:20260423T143537
CREATED:20260302T135525Z
LAST-MODIFIED:20260303T072113Z
UID:10035056-1779278400-1779282000@kalenteri.niemikoti.fi
SUMMARY:Yhteisön lounas Malmilla
DESCRIPTION:Lounas ja lounaskahvit. Ruokalista vaihtelee kuukausittain ja on nähtävillä Malmin päivätoimintakeskuksessa. Hinta 3\,5 euroa.
URL:https://kalenteri.niemikoti.fi/tapahtuma/yhteison-lounas-malmilla/2026-05-20/
LOCATION:Malmin päivätoimintakeskus\, Vanha Helsingintie 9\, Helsinki\, 00700\, Finland
CATEGORIES:Malmin päivätoimintakeskus
END:VEVENT
BEGIN:VEVENT
DTSTART;TZID=Europe/Helsinki:20260520T130000
DTEND;TZID=Europe/Helsinki:20260520T143000
DTSTAMP:20260423T143537
CREATED:20260112T131042Z
LAST-MODIFIED:20260303T072919Z
UID:10027618-1779282000-1779287400@kalenteri.niemikoti.fi
SUMMARY:Väriä elämään Malmilla
DESCRIPTION:Visuaalista taidetta vaihtuvin teemoin ja tekniikoin. Enintään 8 osallistujaa kerralla. Ilmoittaudu mukaan!
URL:https://kalenteri.niemikoti.fi/tapahtuma/varia-elamaan-malmilla/2026-05-20/
LOCATION:Malmin päivätoimintakeskus\, Vanha Helsingintie 9\, Helsinki\, 00700\, Finland
CATEGORIES:Malmin päivätoimintakeskus
END:VEVENT
BEGIN:VEVENT
DTSTART;TZID=Europe/Helsinki:20260520T130000
DTEND;TZID=Europe/Helsinki:20260520T143000
DTSTAMP:20260423T143537
CREATED:20260213T085235Z
LAST-MODIFIED:20260327T090224Z
UID:10033866-1779282000-1779287400@kalenteri.niemikoti.fi
SUMMARY:Voimaa luonnosta
DESCRIPTION:Luontolähtöistä toimintaa sisällä ja ulkona; seuraamme vuodenaikojen etenemistä\, hoidamme huonekasveja ja puutarhaa\, teemme retkiä lähiluontoon ja altistumme yhdessä luonnon hyvää tekeville vaikutuksille. Pukeuduthan säänmukaisesti. \n15.4. Retki Alkumaisema -näyttelyyn Stoaan.
URL:https://kalenteri.niemikoti.fi/tapahtuma/voimaa-luonnosta/2026-05-20/
LOCATION:Toimintakeskus Villa Borgis\, Linnavuorentie 13\, Helsinki\, 00950\, Finland
CATEGORIES:Toimintakeskus Villa Borgis
END:VEVENT
END:VCALENDAR