BEGIN:VCALENDAR
VERSION:2.0
PRODID:-//Tapahtumakalenteri - ECPv6.15.18//NONSGML v1.0//EN
CALSCALE:GREGORIAN
METHOD:PUBLISH
X-WR-CALNAME:Tapahtumakalenteri
X-ORIGINAL-URL:https://kalenteri.niemikoti.fi
X-WR-CALDESC:Tapahtumat Tapahtumakalenteri
REFRESH-INTERVAL;VALUE=DURATION:PT1H
X-Robots-Tag:noindex
X-PUBLISHED-TTL:PT1H
BEGIN:VTIMEZONE
TZID:Europe/Helsinki
BEGIN:DAYLIGHT
TZOFFSETFROM:+0200
TZOFFSETTO:+0300
TZNAME:EEST
DTSTART:20250330T010000
END:DAYLIGHT
BEGIN:STANDARD
TZOFFSETFROM:+0300
TZOFFSETTO:+0200
TZNAME:EET
DTSTART:20251026T010000
END:STANDARD
BEGIN:DAYLIGHT
TZOFFSETFROM:+0200
TZOFFSETTO:+0300
TZNAME:EEST
DTSTART:20260329T010000
END:DAYLIGHT
BEGIN:STANDARD
TZOFFSETFROM:+0300
TZOFFSETTO:+0200
TZNAME:EET
DTSTART:20261025T010000
END:STANDARD
BEGIN:DAYLIGHT
TZOFFSETFROM:+0200
TZOFFSETTO:+0300
TZNAME:EEST
DTSTART:20270328T010000
END:DAYLIGHT
BEGIN:STANDARD
TZOFFSETFROM:+0300
TZOFFSETTO:+0200
TZNAME:EET
DTSTART:20271031T010000
END:STANDARD
END:VTIMEZONE
BEGIN:VEVENT
DTSTART;TZID=Europe/Helsinki:20260402T111500
DTEND;TZID=Europe/Helsinki:20260625T110000
DTSTAMP:20260422T191941
CREATED:20260213T090216Z
LAST-MODIFIED:20260421T143854Z
UID:10033797-1775128500-1782385200@kalenteri.niemikoti.fi
SUMMARY:Lempeä liikunta
DESCRIPTION:Kaikille sopivaa rauhallista liikuskelua; tuolijumppaa\, keppijumppaa\, kävelylenkkejä ym.
URL:https://kalenteri.niemikoti.fi/tapahtuma/lempea-liikunta-5/2026-04-02/
LOCATION:Toimintakeskus Villa Borgis\, Linnavuorentie 13\, Helsinki\, 00950\, Finland
CATEGORIES:Toimintakeskus Villa Borgis
END:VEVENT
BEGIN:VEVENT
DTSTART;TZID=Europe/Helsinki:20260409T111500
DTEND;TZID=Europe/Helsinki:20260702T110000
DTSTAMP:20260422T191941
CREATED:20260213T090216Z
LAST-MODIFIED:20260421T143854Z
UID:10033798-1775733300-1782990000@kalenteri.niemikoti.fi
SUMMARY:Lempeä liikunta
DESCRIPTION:Kaikille sopivaa rauhallista liikuskelua; tuolijumppaa\, keppijumppaa\, kävelylenkkejä ym.
URL:https://kalenteri.niemikoti.fi/tapahtuma/lempea-liikunta-5/2026-04-09/
LOCATION:Toimintakeskus Villa Borgis\, Linnavuorentie 13\, Helsinki\, 00950\, Finland
CATEGORIES:Toimintakeskus Villa Borgis
END:VEVENT
BEGIN:VEVENT
DTSTART;TZID=Europe/Helsinki:20260410T100000
DTEND;TZID=Europe/Helsinki:20260703T110000
DTSTAMP:20260422T191941
CREATED:20250522T084825Z
LAST-MODIFIED:20260421T134929Z
UID:10025569-1775815200-1783076400@kalenteri.niemikoti.fi
SUMMARY:Aamujooga
DESCRIPTION:Kaikille sopivaa\, lempeää ja rauhallista joogaa. Max. 10 osallistujaa. Ilmoittaudu.
URL:https://kalenteri.niemikoti.fi/tapahtuma/aamujooga-3/2026-04-10/
LOCATION:Toimintakeskus Villa Borgis\, Linnavuorentie 13\, Helsinki\, 00950\, Finland
CATEGORIES:Toimintakeskus Villa Borgis
ATTACH;FMTTYPE=image/jpeg:https://kalenteri.niemikoti.fi/wp-content/uploads/2025/05/VillaBorgiksen-Aamujooga.jpg
END:VEVENT
BEGIN:VEVENT
DTSTART;TZID=Europe/Helsinki:20260416T111500
DTEND;TZID=Europe/Helsinki:20260709T110000
DTSTAMP:20260422T191941
CREATED:20260213T090216Z
LAST-MODIFIED:20260421T143854Z
UID:10033799-1776338100-1783594800@kalenteri.niemikoti.fi
SUMMARY:Lempeä liikunta
DESCRIPTION:Kaikille sopivaa rauhallista liikuskelua; tuolijumppaa\, keppijumppaa\, kävelylenkkejä ym.
URL:https://kalenteri.niemikoti.fi/tapahtuma/lempea-liikunta-5/2026-04-16/
LOCATION:Toimintakeskus Villa Borgis\, Linnavuorentie 13\, Helsinki\, 00950\, Finland
CATEGORIES:Toimintakeskus Villa Borgis
END:VEVENT
BEGIN:VEVENT
DTSTART;TZID=Europe/Helsinki:20260417T100000
DTEND;TZID=Europe/Helsinki:20260710T110000
DTSTAMP:20260422T191941
CREATED:20250522T084825Z
LAST-MODIFIED:20260421T134929Z
UID:10025570-1776420000-1783681200@kalenteri.niemikoti.fi
SUMMARY:Aamujooga
DESCRIPTION:Kaikille sopivaa\, lempeää ja rauhallista joogaa. Max. 10 osallistujaa. Ilmoittaudu.
URL:https://kalenteri.niemikoti.fi/tapahtuma/aamujooga-3/2026-04-17/
LOCATION:Toimintakeskus Villa Borgis\, Linnavuorentie 13\, Helsinki\, 00950\, Finland
CATEGORIES:Toimintakeskus Villa Borgis
ATTACH;FMTTYPE=image/jpeg:https://kalenteri.niemikoti.fi/wp-content/uploads/2025/05/VillaBorgiksen-Aamujooga.jpg
END:VEVENT
BEGIN:VEVENT
DTSTART;TZID=Europe/Helsinki:20260430T111500
DTEND;TZID=Europe/Helsinki:20260723T110000
DTSTAMP:20260422T191941
CREATED:20260213T090216Z
LAST-MODIFIED:20260421T143854Z
UID:10033800-1777547700-1784804400@kalenteri.niemikoti.fi
SUMMARY:Lempeä liikunta
DESCRIPTION:Kaikille sopivaa rauhallista liikuskelua; tuolijumppaa\, keppijumppaa\, kävelylenkkejä ym.
URL:https://kalenteri.niemikoti.fi/tapahtuma/lempea-liikunta-5/2026-04-30/
LOCATION:Toimintakeskus Villa Borgis\, Linnavuorentie 13\, Helsinki\, 00950\, Finland
CATEGORIES:Toimintakeskus Villa Borgis
END:VEVENT
BEGIN:VEVENT
DTSTART;TZID=Europe/Helsinki:20260508T100000
DTEND;TZID=Europe/Helsinki:20260731T110000
DTSTAMP:20260422T191941
CREATED:20250522T084825Z
LAST-MODIFIED:20260421T134929Z
UID:10025573-1778234400-1785495600@kalenteri.niemikoti.fi
SUMMARY:Aamujooga
DESCRIPTION:Kaikille sopivaa\, lempeää ja rauhallista joogaa. Max. 10 osallistujaa. Ilmoittaudu.
URL:https://kalenteri.niemikoti.fi/tapahtuma/aamujooga-3/2026-05-08/
LOCATION:Toimintakeskus Villa Borgis\, Linnavuorentie 13\, Helsinki\, 00950\, Finland
CATEGORIES:Toimintakeskus Villa Borgis
ATTACH;FMTTYPE=image/jpeg:https://kalenteri.niemikoti.fi/wp-content/uploads/2025/05/VillaBorgiksen-Aamujooga.jpg
END:VEVENT
BEGIN:VEVENT
DTSTART;TZID=Europe/Helsinki:20260515T100000
DTEND;TZID=Europe/Helsinki:20260807T110000
DTSTAMP:20260422T191941
CREATED:20250522T084825Z
LAST-MODIFIED:20260421T134929Z
UID:10025574-1778839200-1786100400@kalenteri.niemikoti.fi
SUMMARY:Aamujooga
DESCRIPTION:Kaikille sopivaa\, lempeää ja rauhallista joogaa. Max. 10 osallistujaa. Ilmoittaudu.
URL:https://kalenteri.niemikoti.fi/tapahtuma/aamujooga-3/2026-05-15/
LOCATION:Toimintakeskus Villa Borgis\, Linnavuorentie 13\, Helsinki\, 00950\, Finland
CATEGORIES:Toimintakeskus Villa Borgis
ATTACH;FMTTYPE=image/jpeg:https://kalenteri.niemikoti.fi/wp-content/uploads/2025/05/VillaBorgiksen-Aamujooga.jpg
END:VEVENT
BEGIN:VEVENT
DTSTART;TZID=Europe/Helsinki:20260521T111500
DTEND;TZID=Europe/Helsinki:20260813T110000
DTSTAMP:20260422T191941
CREATED:20260213T090216Z
LAST-MODIFIED:20260421T143854Z
UID:10033802-1779362100-1786618800@kalenteri.niemikoti.fi
SUMMARY:Lempeä liikunta
DESCRIPTION:Kaikille sopivaa rauhallista liikuskelua; tuolijumppaa\, keppijumppaa\, kävelylenkkejä ym.
URL:https://kalenteri.niemikoti.fi/tapahtuma/lempea-liikunta-5/2026-05-21/
LOCATION:Toimintakeskus Villa Borgis\, Linnavuorentie 13\, Helsinki\, 00950\, Finland
CATEGORIES:Toimintakeskus Villa Borgis
END:VEVENT
BEGIN:VEVENT
DTSTART;TZID=Europe/Helsinki:20260528T111500
DTEND;TZID=Europe/Helsinki:20260820T110000
DTSTAMP:20260422T191941
CREATED:20260213T090216Z
LAST-MODIFIED:20260421T143854Z
UID:10033803-1779966900-1787223600@kalenteri.niemikoti.fi
SUMMARY:Lempeä liikunta
DESCRIPTION:Kaikille sopivaa rauhallista liikuskelua; tuolijumppaa\, keppijumppaa\, kävelylenkkejä ym.
URL:https://kalenteri.niemikoti.fi/tapahtuma/lempea-liikunta-5/2026-05-28/
LOCATION:Toimintakeskus Villa Borgis\, Linnavuorentie 13\, Helsinki\, 00950\, Finland
CATEGORIES:Toimintakeskus Villa Borgis
END:VEVENT
BEGIN:VEVENT
DTSTART;TZID=Europe/Helsinki:20260529T100000
DTEND;TZID=Europe/Helsinki:20260821T110000
DTSTAMP:20260422T191941
CREATED:20250522T084825Z
LAST-MODIFIED:20260421T134929Z
UID:10025576-1780048800-1787310000@kalenteri.niemikoti.fi
SUMMARY:Aamujooga
DESCRIPTION:Kaikille sopivaa\, lempeää ja rauhallista joogaa. Max. 10 osallistujaa. Ilmoittaudu.
URL:https://kalenteri.niemikoti.fi/tapahtuma/aamujooga-3/2026-05-29/
LOCATION:Toimintakeskus Villa Borgis\, Linnavuorentie 13\, Helsinki\, 00950\, Finland
CATEGORIES:Toimintakeskus Villa Borgis
ATTACH;FMTTYPE=image/jpeg:https://kalenteri.niemikoti.fi/wp-content/uploads/2025/05/VillaBorgiksen-Aamujooga.jpg
END:VEVENT
BEGIN:VEVENT
DTSTART;TZID=Europe/Helsinki:20260604T111500
DTEND;TZID=Europe/Helsinki:20260827T110000
DTSTAMP:20260422T191941
CREATED:20260213T090216Z
LAST-MODIFIED:20260421T143854Z
UID:10033804-1780571700-1787828400@kalenteri.niemikoti.fi
SUMMARY:Lempeä liikunta
DESCRIPTION:Kaikille sopivaa rauhallista liikuskelua; tuolijumppaa\, keppijumppaa\, kävelylenkkejä ym.
URL:https://kalenteri.niemikoti.fi/tapahtuma/lempea-liikunta-5/2026-06-04/
LOCATION:Toimintakeskus Villa Borgis\, Linnavuorentie 13\, Helsinki\, 00950\, Finland
CATEGORIES:Toimintakeskus Villa Borgis
END:VEVENT
BEGIN:VEVENT
DTSTART;TZID=Europe/Helsinki:20260611T111500
DTEND;TZID=Europe/Helsinki:20260903T110000
DTSTAMP:20260422T191941
CREATED:20260213T090216Z
LAST-MODIFIED:20260421T143854Z
UID:10033805-1781176500-1788433200@kalenteri.niemikoti.fi
SUMMARY:Lempeä liikunta
DESCRIPTION:Kaikille sopivaa rauhallista liikuskelua; tuolijumppaa\, keppijumppaa\, kävelylenkkejä ym.
URL:https://kalenteri.niemikoti.fi/tapahtuma/lempea-liikunta-5/2026-06-11/
LOCATION:Toimintakeskus Villa Borgis\, Linnavuorentie 13\, Helsinki\, 00950\, Finland
CATEGORIES:Toimintakeskus Villa Borgis
END:VEVENT
BEGIN:VEVENT
DTSTART;TZID=Europe/Helsinki:20260618T111500
DTEND;TZID=Europe/Helsinki:20260910T110000
DTSTAMP:20260422T191941
CREATED:20260213T090216Z
LAST-MODIFIED:20260421T143854Z
UID:10033806-1781781300-1789038000@kalenteri.niemikoti.fi
SUMMARY:Lempeä liikunta
DESCRIPTION:Kaikille sopivaa rauhallista liikuskelua; tuolijumppaa\, keppijumppaa\, kävelylenkkejä ym.
URL:https://kalenteri.niemikoti.fi/tapahtuma/lempea-liikunta-5/2026-06-18/
LOCATION:Toimintakeskus Villa Borgis\, Linnavuorentie 13\, Helsinki\, 00950\, Finland
CATEGORIES:Toimintakeskus Villa Borgis
END:VEVENT
BEGIN:VEVENT
DTSTART;TZID=Europe/Helsinki:20260625T111500
DTEND;TZID=Europe/Helsinki:20260917T110000
DTSTAMP:20260422T191941
CREATED:20260213T090216Z
LAST-MODIFIED:20260421T143854Z
UID:10033807-1782386100-1789642800@kalenteri.niemikoti.fi
SUMMARY:Lempeä liikunta
DESCRIPTION:Kaikille sopivaa rauhallista liikuskelua; tuolijumppaa\, keppijumppaa\, kävelylenkkejä ym.
URL:https://kalenteri.niemikoti.fi/tapahtuma/lempea-liikunta-5/2026-06-25/
LOCATION:Toimintakeskus Villa Borgis\, Linnavuorentie 13\, Helsinki\, 00950\, Finland
CATEGORIES:Toimintakeskus Villa Borgis
END:VEVENT
BEGIN:VEVENT
DTSTART;TZID=Europe/Helsinki:20260625T120000
DTEND;TZID=Europe/Helsinki:20260625T130000
DTSTAMP:20260422T191941
CREATED:20260126T130159Z
LAST-MODIFIED:20260410T063159Z
UID:10037047-1782388800-1782392400@kalenteri.niemikoti.fi
SUMMARY:Kitaran alkeet
DESCRIPTION:Harjoitellaan yhdessä akustisen kitaransoiton alkeita. Ryhmään mahtuu enintään 5 osallistujaa kerralla. Ilmoittaudu mukaan!
URL:https://kalenteri.niemikoti.fi/tapahtuma/peliryhma-malmilla-2/2026-06-25/
LOCATION:Malmin päivätoimintakeskus\, Vanha Helsingintie 9\, Helsinki\, 00700\, Finland
CATEGORIES:Malmin päivätoimintakeskus
ATTACH;FMTTYPE=image/jpeg:https://kalenteri.niemikoti.fi/wp-content/uploads/2026/01/Kitaran-alkeet-klo12.jpg
END:VEVENT
BEGIN:VEVENT
DTSTART;TZID=Europe/Helsinki:20260625T120000
DTEND;TZID=Europe/Helsinki:20260625T133000
DTSTAMP:20260422T191941
CREATED:20260126T125733Z
LAST-MODIFIED:20260126T125733Z
UID:10032465-1782388800-1782394200@kalenteri.niemikoti.fi
SUMMARY:Malmin bändi
DESCRIPTION:Vakiintunut kokoonpano\, voit kysyä lisää tietoa ohjaajilta. Ei ryhmää 26.2.
URL:https://kalenteri.niemikoti.fi/tapahtuma/malmin-bandi-2/2026-06-25/
LOCATION:Malmin päivätoimintakeskus\, Vanha Helsingintie 9\, Helsinki\, 00700\, Finland
CATEGORIES:Malmin päivätoimintakeskus
END:VEVENT
BEGIN:VEVENT
DTSTART;TZID=Europe/Helsinki:20260625T140000
DTEND;TZID=Europe/Helsinki:20260625T153000
DTSTAMP:20260422T191941
CREATED:20260126T130916Z
LAST-MODIFIED:20260126T130916Z
UID:10032983-1782396000-1782401400@kalenteri.niemikoti.fi
SUMMARY:Jamibändi Malmilla
DESCRIPTION:Kaikille avoin\, ei ilmoittautumista. \nVapaata bändisoittoa. Bänditilassa rummut\, kitara\, basso ja koskettimet. \nHuom! Ei ryhmää 26.2.
URL:https://kalenteri.niemikoti.fi/tapahtuma/jamibandi-malmilla-2/2026-06-25/
LOCATION:Malmin päivätoimintakeskus\, Vanha Helsingintie 9\, Helsinki\, 00700\, Finland
CATEGORIES:Malmin päivätoimintakeskus
END:VEVENT
BEGIN:VEVENT
DTSTART;TZID=Europe/Helsinki:20260625T140000
DTEND;TZID=Europe/Helsinki:20260625T160000
DTSTAMP:20260422T191941
CREATED:20260421T101538Z
LAST-MODIFIED:20260421T140609Z
UID:10037536-1782396000-1782403200@kalenteri.niemikoti.fi
SUMMARY:Kaupunkiviljely Malmilla
DESCRIPTION:Kaupunkiviljelyryhmä Malmilla. Ilmoittaudu.
URL:https://kalenteri.niemikoti.fi/tapahtuma/kaupunkiviljely-malmilla-8/2026-06-25/
LOCATION:Green City Farm c/o Perho Liiketalousopisto\, Vanha Helsingintie 13\, Helsinki\, 00700
CATEGORIES:Toimintakeskus Villa Borgis
END:VEVENT
BEGIN:VEVENT
DTSTART;TZID=Europe/Helsinki:20260625T153000
DTEND;TZID=Europe/Helsinki:20260625T170000
DTSTAMP:20260422T191941
CREATED:20260112T135251Z
LAST-MODIFIED:20260303T072957Z
UID:10030731-1782401400-1782406800@kalenteri.niemikoti.fi
SUMMARY:Rhythm Machine Malmilla
DESCRIPTION:Bändi harjoittelee oman ohjaajan kanssa.
URL:https://kalenteri.niemikoti.fi/tapahtuma/rhythm-machine-malmilla/2026-06-25/
LOCATION:Malmin päivätoimintakeskus\, Vanha Helsingintie 9\, Helsinki\, 00700\, Finland
CATEGORIES:Malmin päivätoimintakeskus
END:VEVENT
BEGIN:VEVENT
DTSTART;TZID=Europe/Helsinki:20260626T090000
DTEND;TZID=Europe/Helsinki:20260626T100000
DTSTAMP:20260422T191941
CREATED:20260302T134800Z
LAST-MODIFIED:20260302T134800Z
UID:10034033-1782464400-1782468000@kalenteri.niemikoti.fi
SUMMARY:Yhteisön aamiainen Malmilla
DESCRIPTION:Aamiaisella puuroa\, muroja tai jogurttia vaihtelevasti sekä leipää päällisineen. Juomaksi tuoremehua sekä kahvia tai teetä. Hinta 1\,5 e.
URL:https://kalenteri.niemikoti.fi/tapahtuma/yhteison-aamiainen-malmilla/2026-06-26/
LOCATION:Malmin päivätoimintakeskus\, Vanha Helsingintie 9\, Helsinki\, 00700\, Finland
CATEGORIES:Malmin päivätoimintakeskus
END:VEVENT
BEGIN:VEVENT
DTSTART;TZID=Europe/Helsinki:20260626T110000
DTEND;TZID=Europe/Helsinki:20260626T120000
DTSTAMP:20260422T191941
CREATED:20260303T072331Z
LAST-MODIFIED:20260303T072331Z
UID:10036631-1782471600-1782475200@kalenteri.niemikoti.fi
SUMMARY:Yhteisön lounas Malmilla
DESCRIPTION:Lounas ja lounaskahvit. Ruokalista vaihtelee kuukausittain ja on nähtävillä Malmin päivätoimintakeskuksessa. Hinta 3\,5 euroa.
URL:https://kalenteri.niemikoti.fi/tapahtuma/yhteison-lounas-malmilla-2/2026-06-26/
LOCATION:Malmin päivätoimintakeskus\, Vanha Helsingintie 9\, Helsinki\, 00700\, Finland
CATEGORIES:Malmin päivätoimintakeskus
END:VEVENT
BEGIN:VEVENT
DTSTART;TZID=Europe/Helsinki:20260626T120000
DTEND;TZID=Europe/Helsinki:20260626T130000
DTSTAMP:20260422T191941
CREATED:20260112T134429Z
LAST-MODIFIED:20260303T073209Z
UID:10036369-1782475200-1782478800@kalenteri.niemikoti.fi
SUMMARY:Soittoryhmä Malmilla
DESCRIPTION:Tutustaan yhdessä pianon\, ukulelen ja kitaran soiton alkeisiin. Ryhmään mahtuu enintään 6 osallistujaa kerralla. Täydentyvä ryhmä\, ilmoittaudu mukaan!
URL:https://kalenteri.niemikoti.fi/tapahtuma/soittoryhma-malmilla/2026-06-26/
LOCATION:Malmin päivätoimintakeskus\, Vanha Helsingintie 9\, Helsinki\, 00700\, Finland
CATEGORIES:Malmin päivätoimintakeskus
END:VEVENT
BEGIN:VEVENT
DTSTART;TZID=Europe/Helsinki:20260629T090000
DTEND;TZID=Europe/Helsinki:20260629T100000
DTSTAMP:20260422T191941
CREATED:20260302T134800Z
LAST-MODIFIED:20260302T134800Z
UID:10034034-1782723600-1782727200@kalenteri.niemikoti.fi
SUMMARY:Yhteisön aamiainen Malmilla
DESCRIPTION:Aamiaisella puuroa\, muroja tai jogurttia vaihtelevasti sekä leipää päällisineen. Juomaksi tuoremehua sekä kahvia tai teetä. Hinta 1\,5 e.
URL:https://kalenteri.niemikoti.fi/tapahtuma/yhteison-aamiainen-malmilla/2026-06-29/
LOCATION:Malmin päivätoimintakeskus\, Vanha Helsingintie 9\, Helsinki\, 00700\, Finland
CATEGORIES:Malmin päivätoimintakeskus
END:VEVENT
BEGIN:VEVENT
DTSTART;TZID=Europe/Helsinki:20260629T100000
DTEND;TZID=Europe/Helsinki:20260629T103000
DTSTAMP:20260422T191941
CREATED:20260112T105633Z
LAST-MODIFIED:20260303T072458Z
UID:10026141-1782727200-1782729000@kalenteri.niemikoti.fi
SUMMARY:Aamukokous Malmilla
DESCRIPTION:Kokoonnutaan yhteen vaihtamaan kuulumisia ja keskustellaan päivän ohjelmasta.
URL:https://kalenteri.niemikoti.fi/tapahtuma/aamukokous-malmilla/2026-06-29/
LOCATION:Malmin päivätoimintakeskus\, Vanha Helsingintie 9\, Helsinki\, 00700\, Finland
CATEGORIES:Malmin päivätoimintakeskus
END:VEVENT
BEGIN:VEVENT
DTSTART;TZID=Europe/Helsinki:20260629T103000
DTEND;TZID=Europe/Helsinki:20260629T110000
DTSTAMP:20260422T191941
CREATED:20260112T111935Z
LAST-MODIFIED:20260410T061604Z
UID:10031041-1782729000-1782730800@kalenteri.niemikoti.fi
SUMMARY:Talon töitä Malmilla
DESCRIPTION:Pidetään yhdessä huolta yhteisistä tiloista ja tiluksista. Osallistua voi omien voimavarojen mukaan.
URL:https://kalenteri.niemikoti.fi/tapahtuma/talon-toita-7/2026-06-29/
LOCATION:Malmin päivätoimintakeskus\, Vanha Helsingintie 9\, Helsinki\, 00700\, Finland
CATEGORIES:Malmin päivätoimintakeskus
END:VEVENT
BEGIN:VEVENT
DTSTART;TZID=Europe/Helsinki:20260629T120000
DTEND;TZID=Europe/Helsinki:20260629T130000
DTSTAMP:20260422T191941
CREATED:20260302T135525Z
LAST-MODIFIED:20260303T072113Z
UID:10035078-1782734400-1782738000@kalenteri.niemikoti.fi
SUMMARY:Yhteisön lounas Malmilla
DESCRIPTION:Lounas ja lounaskahvit. Ruokalista vaihtelee kuukausittain ja on nähtävillä Malmin päivätoimintakeskuksessa. Hinta 3\,5 euroa.
URL:https://kalenteri.niemikoti.fi/tapahtuma/yhteison-lounas-malmilla/2026-06-29/
LOCATION:Malmin päivätoimintakeskus\, Vanha Helsingintie 9\, Helsinki\, 00700\, Finland
CATEGORIES:Malmin päivätoimintakeskus
END:VEVENT
BEGIN:VEVENT
DTSTART;TZID=Europe/Helsinki:20260629T130000
DTEND;TZID=Europe/Helsinki:20260629T140000
DTSTAMP:20260422T191941
CREATED:20260421T065648Z
LAST-MODIFIED:20260421T065648Z
UID:10037361-1782738000-1782741600@kalenteri.niemikoti.fi
SUMMARY:Akvarelli-unelmia
DESCRIPTION:Maalataan vesiväreillä.
URL:https://kalenteri.niemikoti.fi/tapahtuma/akvarelli-unelmia/2026-06-29/
LOCATION:Toimintakeskus Villa Borgis\, Linnavuorentie 13\, Helsinki\, 00950\, Finland
CATEGORIES:Toimintakeskus Villa Borgis
END:VEVENT
BEGIN:VEVENT
DTSTART;TZID=Europe/Helsinki:20260630T090000
DTEND;TZID=Europe/Helsinki:20260630T100000
DTSTAMP:20260422T191941
CREATED:20260302T134800Z
LAST-MODIFIED:20260302T134800Z
UID:10034035-1782810000-1782813600@kalenteri.niemikoti.fi
SUMMARY:Yhteisön aamiainen Malmilla
DESCRIPTION:Aamiaisella puuroa\, muroja tai jogurttia vaihtelevasti sekä leipää päällisineen. Juomaksi tuoremehua sekä kahvia tai teetä. Hinta 1\,5 e.
URL:https://kalenteri.niemikoti.fi/tapahtuma/yhteison-aamiainen-malmilla/2026-06-30/
LOCATION:Malmin päivätoimintakeskus\, Vanha Helsingintie 9\, Helsinki\, 00700\, Finland
CATEGORIES:Malmin päivätoimintakeskus
END:VEVENT
BEGIN:VEVENT
DTSTART;TZID=Europe/Helsinki:20260630T100000
DTEND;TZID=Europe/Helsinki:20260630T103000
DTSTAMP:20260422T191941
CREATED:20260112T105633Z
LAST-MODIFIED:20260303T072458Z
UID:10026142-1782813600-1782815400@kalenteri.niemikoti.fi
SUMMARY:Aamukokous Malmilla
DESCRIPTION:Kokoonnutaan yhteen vaihtamaan kuulumisia ja keskustellaan päivän ohjelmasta.
URL:https://kalenteri.niemikoti.fi/tapahtuma/aamukokous-malmilla/2026-06-30/
LOCATION:Malmin päivätoimintakeskus\, Vanha Helsingintie 9\, Helsinki\, 00700\, Finland
CATEGORIES:Malmin päivätoimintakeskus
END:VEVENT
END:VCALENDAR