BEGIN:VCALENDAR
VERSION:2.0
PRODID:-//Tapahtumakalenteri - ECPv6.15.18//NONSGML v1.0//EN
CALSCALE:GREGORIAN
METHOD:PUBLISH
X-WR-CALNAME:Tapahtumakalenteri
X-ORIGINAL-URL:https://kalenteri.niemikoti.fi
X-WR-CALDESC:Tapahtumat Tapahtumakalenteri
REFRESH-INTERVAL;VALUE=DURATION:PT1H
X-Robots-Tag:noindex
X-PUBLISHED-TTL:PT1H
BEGIN:VTIMEZONE
TZID:Europe/Helsinki
BEGIN:DAYLIGHT
TZOFFSETFROM:+0200
TZOFFSETTO:+0300
TZNAME:EEST
DTSTART:20260329T010000
END:DAYLIGHT
BEGIN:STANDARD
TZOFFSETFROM:+0300
TZOFFSETTO:+0200
TZNAME:EET
DTSTART:20261025T010000
END:STANDARD
BEGIN:DAYLIGHT
TZOFFSETFROM:+0200
TZOFFSETTO:+0300
TZNAME:EEST
DTSTART:20270328T010000
END:DAYLIGHT
BEGIN:STANDARD
TZOFFSETFROM:+0300
TZOFFSETTO:+0200
TZNAME:EET
DTSTART:20271031T010000
END:STANDARD
BEGIN:DAYLIGHT
TZOFFSETFROM:+0200
TZOFFSETTO:+0300
TZNAME:EEST
DTSTART:20280326T010000
END:DAYLIGHT
BEGIN:STANDARD
TZOFFSETFROM:+0300
TZOFFSETTO:+0200
TZNAME:EET
DTSTART:20281029T010000
END:STANDARD
END:VTIMEZONE
BEGIN:VEVENT
DTSTART;TZID=Europe/Helsinki:20270107T111500
DTEND;TZID=Europe/Helsinki:20270401T120000
DTSTAMP:20260421T193303
CREATED:20260213T090216Z
LAST-MODIFIED:20260421T143854Z
UID:10033835-1799320500-1806580800@kalenteri.niemikoti.fi
SUMMARY:Lempeä liikunta
DESCRIPTION:Kaikille sopivaa rauhallista liikuskelua; tuolijumppaa\, keppijumppaa\, kävelylenkkejä ym.
URL:https://kalenteri.niemikoti.fi/tapahtuma/lempea-liikunta-5/2027-01-07/
LOCATION:Toimintakeskus Villa Borgis\, Linnavuorentie 13\, Helsinki\, 00950\, Finland
CATEGORIES:Toimintakeskus Villa Borgis
END:VEVENT
BEGIN:VEVENT
DTSTART;TZID=Europe/Helsinki:20270114T111500
DTEND;TZID=Europe/Helsinki:20270408T120000
DTSTAMP:20260421T193303
CREATED:20260213T090216Z
LAST-MODIFIED:20260421T143854Z
UID:10033836-1799925300-1807185600@kalenteri.niemikoti.fi
SUMMARY:Lempeä liikunta
DESCRIPTION:Kaikille sopivaa rauhallista liikuskelua; tuolijumppaa\, keppijumppaa\, kävelylenkkejä ym.
URL:https://kalenteri.niemikoti.fi/tapahtuma/lempea-liikunta-5/2027-01-14/
LOCATION:Toimintakeskus Villa Borgis\, Linnavuorentie 13\, Helsinki\, 00950\, Finland
CATEGORIES:Toimintakeskus Villa Borgis
END:VEVENT
BEGIN:VEVENT
DTSTART;TZID=Europe/Helsinki:20270121T111500
DTEND;TZID=Europe/Helsinki:20270415T120000
DTSTAMP:20260421T193303
CREATED:20260213T090216Z
LAST-MODIFIED:20260421T143854Z
UID:10033837-1800530100-1807790400@kalenteri.niemikoti.fi
SUMMARY:Lempeä liikunta
DESCRIPTION:Kaikille sopivaa rauhallista liikuskelua; tuolijumppaa\, keppijumppaa\, kävelylenkkejä ym.
URL:https://kalenteri.niemikoti.fi/tapahtuma/lempea-liikunta-5/2027-01-21/
LOCATION:Toimintakeskus Villa Borgis\, Linnavuorentie 13\, Helsinki\, 00950\, Finland
CATEGORIES:Toimintakeskus Villa Borgis
END:VEVENT
BEGIN:VEVENT
DTSTART;TZID=Europe/Helsinki:20270128T111500
DTEND;TZID=Europe/Helsinki:20270422T120000
DTSTAMP:20260421T193303
CREATED:20260213T090216Z
LAST-MODIFIED:20260421T143854Z
UID:10033838-1801134900-1808395200@kalenteri.niemikoti.fi
SUMMARY:Lempeä liikunta
DESCRIPTION:Kaikille sopivaa rauhallista liikuskelua; tuolijumppaa\, keppijumppaa\, kävelylenkkejä ym.
URL:https://kalenteri.niemikoti.fi/tapahtuma/lempea-liikunta-5/2027-01-28/
LOCATION:Toimintakeskus Villa Borgis\, Linnavuorentie 13\, Helsinki\, 00950\, Finland
CATEGORIES:Toimintakeskus Villa Borgis
END:VEVENT
BEGIN:VEVENT
DTSTART;TZID=Europe/Helsinki:20270204T111500
DTEND;TZID=Europe/Helsinki:20270429T120000
DTSTAMP:20260421T193303
CREATED:20260213T090216Z
LAST-MODIFIED:20260421T143854Z
UID:10033839-1801739700-1809000000@kalenteri.niemikoti.fi
SUMMARY:Lempeä liikunta
DESCRIPTION:Kaikille sopivaa rauhallista liikuskelua; tuolijumppaa\, keppijumppaa\, kävelylenkkejä ym.
URL:https://kalenteri.niemikoti.fi/tapahtuma/lempea-liikunta-5/2027-02-04/
LOCATION:Toimintakeskus Villa Borgis\, Linnavuorentie 13\, Helsinki\, 00950\, Finland
CATEGORIES:Toimintakeskus Villa Borgis
END:VEVENT
BEGIN:VEVENT
DTSTART;TZID=Europe/Helsinki:20270211T111500
DTEND;TZID=Europe/Helsinki:20270506T120000
DTSTAMP:20260421T193303
CREATED:20260213T090216Z
LAST-MODIFIED:20260421T143854Z
UID:10033840-1802344500-1809604800@kalenteri.niemikoti.fi
SUMMARY:Lempeä liikunta
DESCRIPTION:Kaikille sopivaa rauhallista liikuskelua; tuolijumppaa\, keppijumppaa\, kävelylenkkejä ym.
URL:https://kalenteri.niemikoti.fi/tapahtuma/lempea-liikunta-5/2027-02-11/
LOCATION:Toimintakeskus Villa Borgis\, Linnavuorentie 13\, Helsinki\, 00950\, Finland
CATEGORIES:Toimintakeskus Villa Borgis
END:VEVENT
BEGIN:VEVENT
DTSTART;TZID=Europe/Helsinki:20270218T111500
DTEND;TZID=Europe/Helsinki:20270513T120000
DTSTAMP:20260421T193303
CREATED:20260213T090216Z
LAST-MODIFIED:20260421T143854Z
UID:10033841-1802949300-1810209600@kalenteri.niemikoti.fi
SUMMARY:Lempeä liikunta
DESCRIPTION:Kaikille sopivaa rauhallista liikuskelua; tuolijumppaa\, keppijumppaa\, kävelylenkkejä ym.
URL:https://kalenteri.niemikoti.fi/tapahtuma/lempea-liikunta-5/2027-02-18/
LOCATION:Toimintakeskus Villa Borgis\, Linnavuorentie 13\, Helsinki\, 00950\, Finland
CATEGORIES:Toimintakeskus Villa Borgis
END:VEVENT
BEGIN:VEVENT
DTSTART;TZID=Europe/Helsinki:20270225T111500
DTEND;TZID=Europe/Helsinki:20270520T120000
DTSTAMP:20260421T193303
CREATED:20260213T090216Z
LAST-MODIFIED:20260421T143854Z
UID:10033842-1803554100-1810814400@kalenteri.niemikoti.fi
SUMMARY:Lempeä liikunta
DESCRIPTION:Kaikille sopivaa rauhallista liikuskelua; tuolijumppaa\, keppijumppaa\, kävelylenkkejä ym.
URL:https://kalenteri.niemikoti.fi/tapahtuma/lempea-liikunta-5/2027-02-25/
LOCATION:Toimintakeskus Villa Borgis\, Linnavuorentie 13\, Helsinki\, 00950\, Finland
CATEGORIES:Toimintakeskus Villa Borgis
END:VEVENT
BEGIN:VEVENT
DTSTART;TZID=Europe/Helsinki:20270304T111500
DTEND;TZID=Europe/Helsinki:20270527T120000
DTSTAMP:20260421T193303
CREATED:20260213T090216Z
LAST-MODIFIED:20260421T143854Z
UID:10033843-1804158900-1811419200@kalenteri.niemikoti.fi
SUMMARY:Lempeä liikunta
DESCRIPTION:Kaikille sopivaa rauhallista liikuskelua; tuolijumppaa\, keppijumppaa\, kävelylenkkejä ym.
URL:https://kalenteri.niemikoti.fi/tapahtuma/lempea-liikunta-5/2027-03-04/
LOCATION:Toimintakeskus Villa Borgis\, Linnavuorentie 13\, Helsinki\, 00950\, Finland
CATEGORIES:Toimintakeskus Villa Borgis
END:VEVENT
BEGIN:VEVENT
DTSTART;TZID=Europe/Helsinki:20270311T111500
DTEND;TZID=Europe/Helsinki:20270603T120000
DTSTAMP:20260421T193303
CREATED:20260213T090216Z
LAST-MODIFIED:20260421T143854Z
UID:10033844-1804763700-1812024000@kalenteri.niemikoti.fi
SUMMARY:Lempeä liikunta
DESCRIPTION:Kaikille sopivaa rauhallista liikuskelua; tuolijumppaa\, keppijumppaa\, kävelylenkkejä ym.
URL:https://kalenteri.niemikoti.fi/tapahtuma/lempea-liikunta-5/2027-03-11/
LOCATION:Toimintakeskus Villa Borgis\, Linnavuorentie 13\, Helsinki\, 00950\, Finland
CATEGORIES:Toimintakeskus Villa Borgis
END:VEVENT
BEGIN:VEVENT
DTSTART;TZID=Europe/Helsinki:20270318T111500
DTEND;TZID=Europe/Helsinki:20270610T120000
DTSTAMP:20260421T193303
CREATED:20260213T090216Z
LAST-MODIFIED:20260421T143854Z
UID:10033845-1805368500-1812628800@kalenteri.niemikoti.fi
SUMMARY:Lempeä liikunta
DESCRIPTION:Kaikille sopivaa rauhallista liikuskelua; tuolijumppaa\, keppijumppaa\, kävelylenkkejä ym.
URL:https://kalenteri.niemikoti.fi/tapahtuma/lempea-liikunta-5/2027-03-18/
LOCATION:Toimintakeskus Villa Borgis\, Linnavuorentie 13\, Helsinki\, 00950\, Finland
CATEGORIES:Toimintakeskus Villa Borgis
END:VEVENT
BEGIN:VEVENT
DTSTART;TZID=Europe/Helsinki:20270325T111500
DTEND;TZID=Europe/Helsinki:20270617T120000
DTSTAMP:20260421T193303
CREATED:20260213T090216Z
LAST-MODIFIED:20260421T143854Z
UID:10033846-1805973300-1813233600@kalenteri.niemikoti.fi
SUMMARY:Lempeä liikunta
DESCRIPTION:Kaikille sopivaa rauhallista liikuskelua; tuolijumppaa\, keppijumppaa\, kävelylenkkejä ym.
URL:https://kalenteri.niemikoti.fi/tapahtuma/lempea-liikunta-5/2027-03-25/
LOCATION:Toimintakeskus Villa Borgis\, Linnavuorentie 13\, Helsinki\, 00950\, Finland
CATEGORIES:Toimintakeskus Villa Borgis
END:VEVENT
BEGIN:VEVENT
DTSTART;TZID=Europe/Helsinki:20270401T111500
DTEND;TZID=Europe/Helsinki:20270624T110000
DTSTAMP:20260421T193303
CREATED:20260213T090216Z
LAST-MODIFIED:20260421T143854Z
UID:10033847-1806578100-1813834800@kalenteri.niemikoti.fi
SUMMARY:Lempeä liikunta
DESCRIPTION:Kaikille sopivaa rauhallista liikuskelua; tuolijumppaa\, keppijumppaa\, kävelylenkkejä ym.
URL:https://kalenteri.niemikoti.fi/tapahtuma/lempea-liikunta-5/2027-04-01/
LOCATION:Toimintakeskus Villa Borgis\, Linnavuorentie 13\, Helsinki\, 00950\, Finland
CATEGORIES:Toimintakeskus Villa Borgis
END:VEVENT
BEGIN:VEVENT
DTSTART;TZID=Europe/Helsinki:20270401T120000
DTEND;TZID=Europe/Helsinki:20270401T133000
DTSTAMP:20260421T193303
CREATED:20260126T125733Z
LAST-MODIFIED:20260126T125733Z
UID:10032505-1806580800-1806586200@kalenteri.niemikoti.fi
SUMMARY:Malmin bändi
DESCRIPTION:Vakiintunut kokoonpano\, voit kysyä lisää tietoa ohjaajilta. Ei ryhmää 26.2.
URL:https://kalenteri.niemikoti.fi/tapahtuma/malmin-bandi-2/2027-04-01/
LOCATION:Malmin päivätoimintakeskus\, Vanha Helsingintie 9\, Helsinki\, 00700\, Finland
CATEGORIES:Malmin päivätoimintakeskus
END:VEVENT
BEGIN:VEVENT
DTSTART;TZID=Europe/Helsinki:20270401T140000
DTEND;TZID=Europe/Helsinki:20270401T153000
DTSTAMP:20260421T193303
CREATED:20260126T130916Z
LAST-MODIFIED:20260126T130916Z
UID:10033023-1806588000-1806593400@kalenteri.niemikoti.fi
SUMMARY:Jamibändi Malmilla
DESCRIPTION:Kaikille avoin\, ei ilmoittautumista. \nVapaata bändisoittoa. Bänditilassa rummut\, kitara\, basso ja koskettimet. \nHuom! Ei ryhmää 26.2.
URL:https://kalenteri.niemikoti.fi/tapahtuma/jamibandi-malmilla-2/2027-04-01/
LOCATION:Malmin päivätoimintakeskus\, Vanha Helsingintie 9\, Helsinki\, 00700\, Finland
CATEGORIES:Malmin päivätoimintakeskus
END:VEVENT
BEGIN:VEVENT
DTSTART;TZID=Europe/Helsinki:20270401T140000
DTEND;TZID=Europe/Helsinki:20270401T160000
DTSTAMP:20260421T193303
CREATED:20260421T101538Z
LAST-MODIFIED:20260421T140609Z
UID:10037576-1806588000-1806595200@kalenteri.niemikoti.fi
SUMMARY:Kaupunkiviljely Malmilla
DESCRIPTION:Kaupunkiviljelyryhmä Malmilla. Ilmoittaudu.
URL:https://kalenteri.niemikoti.fi/tapahtuma/kaupunkiviljely-malmilla-8/2027-04-01/
LOCATION:Green City Farm c/o Perho Liiketalousopisto\, Vanha Helsingintie 13\, Helsinki\, 00700
CATEGORIES:Toimintakeskus Villa Borgis
END:VEVENT
BEGIN:VEVENT
DTSTART;TZID=Europe/Helsinki:20270401T153000
DTEND;TZID=Europe/Helsinki:20270401T170000
DTSTAMP:20260421T193303
CREATED:20260112T135251Z
LAST-MODIFIED:20260303T072957Z
UID:10030771-1806593400-1806598800@kalenteri.niemikoti.fi
SUMMARY:Rhythm Machine Malmilla
DESCRIPTION:Bändi harjoittelee oman ohjaajan kanssa.
URL:https://kalenteri.niemikoti.fi/tapahtuma/rhythm-machine-malmilla/2027-04-01/
LOCATION:Malmin päivätoimintakeskus\, Vanha Helsingintie 9\, Helsinki\, 00700\, Finland
CATEGORIES:Malmin päivätoimintakeskus
END:VEVENT
BEGIN:VEVENT
DTSTART;TZID=Europe/Helsinki:20270402T090000
DTEND;TZID=Europe/Helsinki:20270402T100000
DTSTAMP:20260421T193303
CREATED:20260302T134800Z
LAST-MODIFIED:20260302T134800Z
UID:10034193-1806656400-1806660000@kalenteri.niemikoti.fi
SUMMARY:Yhteisön aamiainen Malmilla
DESCRIPTION:Aamiaisella puuroa\, muroja tai jogurttia vaihtelevasti sekä leipää päällisineen. Juomaksi tuoremehua sekä kahvia tai teetä. Hinta 1\,5 e.
URL:https://kalenteri.niemikoti.fi/tapahtuma/yhteison-aamiainen-malmilla/2027-04-02/
LOCATION:Malmin päivätoimintakeskus\, Vanha Helsingintie 9\, Helsinki\, 00700\, Finland
CATEGORIES:Malmin päivätoimintakeskus
END:VEVENT
BEGIN:VEVENT
DTSTART;TZID=Europe/Helsinki:20270402T110000
DTEND;TZID=Europe/Helsinki:20270402T120000
DTSTAMP:20260421T193303
CREATED:20260303T072331Z
LAST-MODIFIED:20260303T072331Z
UID:10036671-1806663600-1806667200@kalenteri.niemikoti.fi
SUMMARY:Yhteisön lounas Malmilla
DESCRIPTION:Lounas ja lounaskahvit. Ruokalista vaihtelee kuukausittain ja on nähtävillä Malmin päivätoimintakeskuksessa. Hinta 3\,5 euroa.
URL:https://kalenteri.niemikoti.fi/tapahtuma/yhteison-lounas-malmilla-2/2027-04-02/
LOCATION:Malmin päivätoimintakeskus\, Vanha Helsingintie 9\, Helsinki\, 00700\, Finland
CATEGORIES:Malmin päivätoimintakeskus
END:VEVENT
BEGIN:VEVENT
DTSTART;TZID=Europe/Helsinki:20270402T120000
DTEND;TZID=Europe/Helsinki:20270402T130000
DTSTAMP:20260421T193303
CREATED:20260112T134429Z
LAST-MODIFIED:20260303T073209Z
UID:10036409-1806667200-1806670800@kalenteri.niemikoti.fi
SUMMARY:Soittoryhmä Malmilla
DESCRIPTION:Tutustaan yhdessä pianon\, ukulelen ja kitaran soiton alkeisiin. Ryhmään mahtuu enintään 6 osallistujaa kerralla. Täydentyvä ryhmä\, ilmoittaudu mukaan!
URL:https://kalenteri.niemikoti.fi/tapahtuma/soittoryhma-malmilla/2027-04-02/
LOCATION:Malmin päivätoimintakeskus\, Vanha Helsingintie 9\, Helsinki\, 00700\, Finland
CATEGORIES:Malmin päivätoimintakeskus
END:VEVENT
BEGIN:VEVENT
DTSTART;TZID=Europe/Helsinki:20270405T090000
DTEND;TZID=Europe/Helsinki:20270405T100000
DTSTAMP:20260421T193303
CREATED:20260302T134800Z
LAST-MODIFIED:20260302T134800Z
UID:10034194-1806915600-1806919200@kalenteri.niemikoti.fi
SUMMARY:Yhteisön aamiainen Malmilla
DESCRIPTION:Aamiaisella puuroa\, muroja tai jogurttia vaihtelevasti sekä leipää päällisineen. Juomaksi tuoremehua sekä kahvia tai teetä. Hinta 1\,5 e.
URL:https://kalenteri.niemikoti.fi/tapahtuma/yhteison-aamiainen-malmilla/2027-04-05/
LOCATION:Malmin päivätoimintakeskus\, Vanha Helsingintie 9\, Helsinki\, 00700\, Finland
CATEGORIES:Malmin päivätoimintakeskus
END:VEVENT
BEGIN:VEVENT
DTSTART;TZID=Europe/Helsinki:20270405T100000
DTEND;TZID=Europe/Helsinki:20270405T103000
DTSTAMP:20260421T193303
CREATED:20260112T105633Z
LAST-MODIFIED:20260303T072458Z
UID:10028859-1806919200-1806921000@kalenteri.niemikoti.fi
SUMMARY:Aamukokous Malmilla
DESCRIPTION:Kokoonnutaan yhteen vaihtamaan kuulumisia ja keskustellaan päivän ohjelmasta.
URL:https://kalenteri.niemikoti.fi/tapahtuma/aamukokous-malmilla/2027-04-05/
LOCATION:Malmin päivätoimintakeskus\, Vanha Helsingintie 9\, Helsinki\, 00700\, Finland
CATEGORIES:Malmin päivätoimintakeskus
END:VEVENT
BEGIN:VEVENT
DTSTART;TZID=Europe/Helsinki:20270405T103000
DTEND;TZID=Europe/Helsinki:20270405T110000
DTSTAMP:20260421T193303
CREATED:20260112T111935Z
LAST-MODIFIED:20260410T061604Z
UID:10031161-1806921000-1806922800@kalenteri.niemikoti.fi
SUMMARY:Talon töitä Malmilla
DESCRIPTION:Pidetään yhdessä huolta yhteisistä tiloista ja tiluksista. Osallistua voi omien voimavarojen mukaan.
URL:https://kalenteri.niemikoti.fi/tapahtuma/talon-toita-7/2027-04-05/
LOCATION:Malmin päivätoimintakeskus\, Vanha Helsingintie 9\, Helsinki\, 00700\, Finland
CATEGORIES:Malmin päivätoimintakeskus
END:VEVENT
BEGIN:VEVENT
DTSTART;TZID=Europe/Helsinki:20270405T120000
DTEND;TZID=Europe/Helsinki:20270405T130000
DTSTAMP:20260421T193303
CREATED:20260302T135525Z
LAST-MODIFIED:20260303T072113Z
UID:10035238-1806926400-1806930000@kalenteri.niemikoti.fi
SUMMARY:Yhteisön lounas Malmilla
DESCRIPTION:Lounas ja lounaskahvit. Ruokalista vaihtelee kuukausittain ja on nähtävillä Malmin päivätoimintakeskuksessa. Hinta 3\,5 euroa.
URL:https://kalenteri.niemikoti.fi/tapahtuma/yhteison-lounas-malmilla/2027-04-05/
LOCATION:Malmin päivätoimintakeskus\, Vanha Helsingintie 9\, Helsinki\, 00700\, Finland
CATEGORIES:Malmin päivätoimintakeskus
END:VEVENT
BEGIN:VEVENT
DTSTART;TZID=Europe/Helsinki:20270405T130000
DTEND;TZID=Europe/Helsinki:20270405T140000
DTSTAMP:20260421T193303
CREATED:20260421T065648Z
LAST-MODIFIED:20260421T065648Z
UID:10037401-1806930000-1806933600@kalenteri.niemikoti.fi
SUMMARY:Akvarelli-unelmia
DESCRIPTION:Maalataan vesiväreillä.
URL:https://kalenteri.niemikoti.fi/tapahtuma/akvarelli-unelmia/2027-04-05/
LOCATION:Toimintakeskus Villa Borgis\, Linnavuorentie 13\, Helsinki\, 00950\, Finland
CATEGORIES:Toimintakeskus Villa Borgis
END:VEVENT
BEGIN:VEVENT
DTSTART;TZID=Europe/Helsinki:20270406T090000
DTEND;TZID=Europe/Helsinki:20270406T100000
DTSTAMP:20260421T193303
CREATED:20260302T134800Z
LAST-MODIFIED:20260302T134800Z
UID:10034195-1807002000-1807005600@kalenteri.niemikoti.fi
SUMMARY:Yhteisön aamiainen Malmilla
DESCRIPTION:Aamiaisella puuroa\, muroja tai jogurttia vaihtelevasti sekä leipää päällisineen. Juomaksi tuoremehua sekä kahvia tai teetä. Hinta 1\,5 e.
URL:https://kalenteri.niemikoti.fi/tapahtuma/yhteison-aamiainen-malmilla/2027-04-06/
LOCATION:Malmin päivätoimintakeskus\, Vanha Helsingintie 9\, Helsinki\, 00700\, Finland
CATEGORIES:Malmin päivätoimintakeskus
END:VEVENT
BEGIN:VEVENT
DTSTART;TZID=Europe/Helsinki:20270406T100000
DTEND;TZID=Europe/Helsinki:20270406T103000
DTSTAMP:20260421T193303
CREATED:20260112T105633Z
LAST-MODIFIED:20260303T072458Z
UID:10028860-1807005600-1807007400@kalenteri.niemikoti.fi
SUMMARY:Aamukokous Malmilla
DESCRIPTION:Kokoonnutaan yhteen vaihtamaan kuulumisia ja keskustellaan päivän ohjelmasta.
URL:https://kalenteri.niemikoti.fi/tapahtuma/aamukokous-malmilla/2027-04-06/
LOCATION:Malmin päivätoimintakeskus\, Vanha Helsingintie 9\, Helsinki\, 00700\, Finland
CATEGORIES:Malmin päivätoimintakeskus
END:VEVENT
BEGIN:VEVENT
DTSTART;TZID=Europe/Helsinki:20270406T103000
DTEND;TZID=Europe/Helsinki:20270406T110000
DTSTAMP:20260421T193303
CREATED:20260112T111935Z
LAST-MODIFIED:20260410T061604Z
UID:10031162-1807007400-1807009200@kalenteri.niemikoti.fi
SUMMARY:Talon töitä Malmilla
DESCRIPTION:Pidetään yhdessä huolta yhteisistä tiloista ja tiluksista. Osallistua voi omien voimavarojen mukaan.
URL:https://kalenteri.niemikoti.fi/tapahtuma/talon-toita-7/2027-04-06/
LOCATION:Malmin päivätoimintakeskus\, Vanha Helsingintie 9\, Helsinki\, 00700\, Finland
CATEGORIES:Malmin päivätoimintakeskus
END:VEVENT
BEGIN:VEVENT
DTSTART;TZID=Europe/Helsinki:20270406T110000
DTEND;TZID=Europe/Helsinki:20270406T120000
DTSTAMP:20260421T193303
CREATED:20260126T114459Z
LAST-MODIFIED:20260126T114459Z
UID:10032188-1807009200-1807012800@kalenteri.niemikoti.fi
SUMMARY:Luonto & liikunta -kävelyryhmä Malmilla
DESCRIPTION:Uusille tilaa\, ilmoittaudu mukaan! Kaksi ryhmää tarpeen mukaan\, tehdään sekä pidempi että lyhyempi kävelylenkki.
URL:https://kalenteri.niemikoti.fi/tapahtuma/luonto-liikunta-kavelyryhma-malmilla-3/2027-04-06/
LOCATION:Malmin päivätoimintakeskus\, Vanha Helsingintie 9\, Helsinki\, 00700\, Finland
CATEGORIES:Malmin päivätoimintakeskus
END:VEVENT
BEGIN:VEVENT
DTSTART;TZID=Europe/Helsinki:20270406T120000
DTEND;TZID=Europe/Helsinki:20270406T130000
DTSTAMP:20260421T193303
CREATED:20260302T135525Z
LAST-MODIFIED:20260303T072113Z
UID:10035239-1807012800-1807016400@kalenteri.niemikoti.fi
SUMMARY:Yhteisön lounas Malmilla
DESCRIPTION:Lounas ja lounaskahvit. Ruokalista vaihtelee kuukausittain ja on nähtävillä Malmin päivätoimintakeskuksessa. Hinta 3\,5 euroa.
URL:https://kalenteri.niemikoti.fi/tapahtuma/yhteison-lounas-malmilla/2027-04-06/
LOCATION:Malmin päivätoimintakeskus\, Vanha Helsingintie 9\, Helsinki\, 00700\, Finland
CATEGORIES:Malmin päivätoimintakeskus
END:VEVENT
END:VCALENDAR