BEGIN:VCALENDAR
VERSION:2.0
PRODID:-//Tapahtumakalenteri - ECPv6.15.18//NONSGML v1.0//EN
CALSCALE:GREGORIAN
METHOD:PUBLISH
X-WR-CALNAME:Tapahtumakalenteri
X-ORIGINAL-URL:https://kalenteri.niemikoti.fi
X-WR-CALDESC:Tapahtumat Tapahtumakalenteri
REFRESH-INTERVAL;VALUE=DURATION:PT1H
X-Robots-Tag:noindex
X-PUBLISHED-TTL:PT1H
BEGIN:VTIMEZONE
TZID:Europe/Helsinki
BEGIN:DAYLIGHT
TZOFFSETFROM:+0200
TZOFFSETTO:+0300
TZNAME:EEST
DTSTART:20260329T010000
END:DAYLIGHT
BEGIN:STANDARD
TZOFFSETFROM:+0300
TZOFFSETTO:+0200
TZNAME:EET
DTSTART:20261025T010000
END:STANDARD
BEGIN:DAYLIGHT
TZOFFSETFROM:+0200
TZOFFSETTO:+0300
TZNAME:EEST
DTSTART:20270328T010000
END:DAYLIGHT
BEGIN:STANDARD
TZOFFSETFROM:+0300
TZOFFSETTO:+0200
TZNAME:EET
DTSTART:20271031T010000
END:STANDARD
BEGIN:DAYLIGHT
TZOFFSETFROM:+0200
TZOFFSETTO:+0300
TZNAME:EEST
DTSTART:20280326T010000
END:DAYLIGHT
BEGIN:STANDARD
TZOFFSETFROM:+0300
TZOFFSETTO:+0200
TZNAME:EET
DTSTART:20281029T010000
END:STANDARD
END:VTIMEZONE
BEGIN:VEVENT
DTSTART;TZID=Europe/Helsinki:20270304T111500
DTEND;TZID=Europe/Helsinki:20270527T120000
DTSTAMP:20260421T180824
CREATED:20260213T090216Z
LAST-MODIFIED:20260421T143854Z
UID:10033843-1804158900-1811419200@kalenteri.niemikoti.fi
SUMMARY:Lempeä liikunta
DESCRIPTION:Kaikille sopivaa rauhallista liikuskelua; tuolijumppaa\, keppijumppaa\, kävelylenkkejä ym.
URL:https://kalenteri.niemikoti.fi/tapahtuma/lempea-liikunta-5/2027-03-04/
LOCATION:Toimintakeskus Villa Borgis\, Linnavuorentie 13\, Helsinki\, 00950\, Finland
CATEGORIES:Toimintakeskus Villa Borgis
END:VEVENT
BEGIN:VEVENT
DTSTART;TZID=Europe/Helsinki:20270311T111500
DTEND;TZID=Europe/Helsinki:20270603T120000
DTSTAMP:20260421T180824
CREATED:20260213T090216Z
LAST-MODIFIED:20260421T143854Z
UID:10033844-1804763700-1812024000@kalenteri.niemikoti.fi
SUMMARY:Lempeä liikunta
DESCRIPTION:Kaikille sopivaa rauhallista liikuskelua; tuolijumppaa\, keppijumppaa\, kävelylenkkejä ym.
URL:https://kalenteri.niemikoti.fi/tapahtuma/lempea-liikunta-5/2027-03-11/
LOCATION:Toimintakeskus Villa Borgis\, Linnavuorentie 13\, Helsinki\, 00950\, Finland
CATEGORIES:Toimintakeskus Villa Borgis
END:VEVENT
BEGIN:VEVENT
DTSTART;TZID=Europe/Helsinki:20270318T111500
DTEND;TZID=Europe/Helsinki:20270610T120000
DTSTAMP:20260421T180824
CREATED:20260213T090216Z
LAST-MODIFIED:20260421T143854Z
UID:10033845-1805368500-1812628800@kalenteri.niemikoti.fi
SUMMARY:Lempeä liikunta
DESCRIPTION:Kaikille sopivaa rauhallista liikuskelua; tuolijumppaa\, keppijumppaa\, kävelylenkkejä ym.
URL:https://kalenteri.niemikoti.fi/tapahtuma/lempea-liikunta-5/2027-03-18/
LOCATION:Toimintakeskus Villa Borgis\, Linnavuorentie 13\, Helsinki\, 00950\, Finland
CATEGORIES:Toimintakeskus Villa Borgis
END:VEVENT
BEGIN:VEVENT
DTSTART;TZID=Europe/Helsinki:20270325T111500
DTEND;TZID=Europe/Helsinki:20270617T120000
DTSTAMP:20260421T180825
CREATED:20260213T090216Z
LAST-MODIFIED:20260421T143854Z
UID:10033846-1805973300-1813233600@kalenteri.niemikoti.fi
SUMMARY:Lempeä liikunta
DESCRIPTION:Kaikille sopivaa rauhallista liikuskelua; tuolijumppaa\, keppijumppaa\, kävelylenkkejä ym.
URL:https://kalenteri.niemikoti.fi/tapahtuma/lempea-liikunta-5/2027-03-25/
LOCATION:Toimintakeskus Villa Borgis\, Linnavuorentie 13\, Helsinki\, 00950\, Finland
CATEGORIES:Toimintakeskus Villa Borgis
END:VEVENT
BEGIN:VEVENT
DTSTART;TZID=Europe/Helsinki:20270401T111500
DTEND;TZID=Europe/Helsinki:20270624T110000
DTSTAMP:20260421T180825
CREATED:20260213T090216Z
LAST-MODIFIED:20260421T143854Z
UID:10033847-1806578100-1813834800@kalenteri.niemikoti.fi
SUMMARY:Lempeä liikunta
DESCRIPTION:Kaikille sopivaa rauhallista liikuskelua; tuolijumppaa\, keppijumppaa\, kävelylenkkejä ym.
URL:https://kalenteri.niemikoti.fi/tapahtuma/lempea-liikunta-5/2027-04-01/
LOCATION:Toimintakeskus Villa Borgis\, Linnavuorentie 13\, Helsinki\, 00950\, Finland
CATEGORIES:Toimintakeskus Villa Borgis
END:VEVENT
BEGIN:VEVENT
DTSTART;TZID=Europe/Helsinki:20270408T111500
DTEND;TZID=Europe/Helsinki:20270701T110000
DTSTAMP:20260421T180825
CREATED:20260213T090216Z
LAST-MODIFIED:20260421T143854Z
UID:10033848-1807182900-1814439600@kalenteri.niemikoti.fi
SUMMARY:Lempeä liikunta
DESCRIPTION:Kaikille sopivaa rauhallista liikuskelua; tuolijumppaa\, keppijumppaa\, kävelylenkkejä ym.
URL:https://kalenteri.niemikoti.fi/tapahtuma/lempea-liikunta-5/2027-04-08/
LOCATION:Toimintakeskus Villa Borgis\, Linnavuorentie 13\, Helsinki\, 00950\, Finland
CATEGORIES:Toimintakeskus Villa Borgis
END:VEVENT
BEGIN:VEVENT
DTSTART;TZID=Europe/Helsinki:20270415T111500
DTEND;TZID=Europe/Helsinki:20270708T110000
DTSTAMP:20260421T180825
CREATED:20260213T090216Z
LAST-MODIFIED:20260421T143854Z
UID:10033849-1807787700-1815044400@kalenteri.niemikoti.fi
SUMMARY:Lempeä liikunta
DESCRIPTION:Kaikille sopivaa rauhallista liikuskelua; tuolijumppaa\, keppijumppaa\, kävelylenkkejä ym.
URL:https://kalenteri.niemikoti.fi/tapahtuma/lempea-liikunta-5/2027-04-15/
LOCATION:Toimintakeskus Villa Borgis\, Linnavuorentie 13\, Helsinki\, 00950\, Finland
CATEGORIES:Toimintakeskus Villa Borgis
END:VEVENT
BEGIN:VEVENT
DTSTART;TZID=Europe/Helsinki:20270422T111500
DTEND;TZID=Europe/Helsinki:20270715T110000
DTSTAMP:20260421T180825
CREATED:20260213T090216Z
LAST-MODIFIED:20260421T143854Z
UID:10033850-1808392500-1815649200@kalenteri.niemikoti.fi
SUMMARY:Lempeä liikunta
DESCRIPTION:Kaikille sopivaa rauhallista liikuskelua; tuolijumppaa\, keppijumppaa\, kävelylenkkejä ym.
URL:https://kalenteri.niemikoti.fi/tapahtuma/lempea-liikunta-5/2027-04-22/
LOCATION:Toimintakeskus Villa Borgis\, Linnavuorentie 13\, Helsinki\, 00950\, Finland
CATEGORIES:Toimintakeskus Villa Borgis
END:VEVENT
BEGIN:VEVENT
DTSTART;TZID=Europe/Helsinki:20270429T111500
DTEND;TZID=Europe/Helsinki:20270722T110000
DTSTAMP:20260421T180825
CREATED:20260213T090216Z
LAST-MODIFIED:20260421T143854Z
UID:10033851-1808997300-1816254000@kalenteri.niemikoti.fi
SUMMARY:Lempeä liikunta
DESCRIPTION:Kaikille sopivaa rauhallista liikuskelua; tuolijumppaa\, keppijumppaa\, kävelylenkkejä ym.
URL:https://kalenteri.niemikoti.fi/tapahtuma/lempea-liikunta-5/2027-04-29/
LOCATION:Toimintakeskus Villa Borgis\, Linnavuorentie 13\, Helsinki\, 00950\, Finland
CATEGORIES:Toimintakeskus Villa Borgis
END:VEVENT
BEGIN:VEVENT
DTSTART;TZID=Europe/Helsinki:20270506T111500
DTEND;TZID=Europe/Helsinki:20270729T110000
DTSTAMP:20260421T180825
CREATED:20260213T090216Z
LAST-MODIFIED:20260421T143854Z
UID:10033852-1809602100-1816858800@kalenteri.niemikoti.fi
SUMMARY:Lempeä liikunta
DESCRIPTION:Kaikille sopivaa rauhallista liikuskelua; tuolijumppaa\, keppijumppaa\, kävelylenkkejä ym.
URL:https://kalenteri.niemikoti.fi/tapahtuma/lempea-liikunta-5/2027-05-06/
LOCATION:Toimintakeskus Villa Borgis\, Linnavuorentie 13\, Helsinki\, 00950\, Finland
CATEGORIES:Toimintakeskus Villa Borgis
END:VEVENT
BEGIN:VEVENT
DTSTART;TZID=Europe/Helsinki:20270513T111500
DTEND;TZID=Europe/Helsinki:20270805T110000
DTSTAMP:20260421T180825
CREATED:20260213T090216Z
LAST-MODIFIED:20260421T143854Z
UID:10033853-1810206900-1817463600@kalenteri.niemikoti.fi
SUMMARY:Lempeä liikunta
DESCRIPTION:Kaikille sopivaa rauhallista liikuskelua; tuolijumppaa\, keppijumppaa\, kävelylenkkejä ym.
URL:https://kalenteri.niemikoti.fi/tapahtuma/lempea-liikunta-5/2027-05-13/
LOCATION:Toimintakeskus Villa Borgis\, Linnavuorentie 13\, Helsinki\, 00950\, Finland
CATEGORIES:Toimintakeskus Villa Borgis
END:VEVENT
BEGIN:VEVENT
DTSTART;TZID=Europe/Helsinki:20270520T111500
DTEND;TZID=Europe/Helsinki:20270812T110000
DTSTAMP:20260421T180825
CREATED:20260213T090216Z
LAST-MODIFIED:20260421T143854Z
UID:10033854-1810811700-1818068400@kalenteri.niemikoti.fi
SUMMARY:Lempeä liikunta
DESCRIPTION:Kaikille sopivaa rauhallista liikuskelua; tuolijumppaa\, keppijumppaa\, kävelylenkkejä ym.
URL:https://kalenteri.niemikoti.fi/tapahtuma/lempea-liikunta-5/2027-05-20/
LOCATION:Toimintakeskus Villa Borgis\, Linnavuorentie 13\, Helsinki\, 00950\, Finland
CATEGORIES:Toimintakeskus Villa Borgis
END:VEVENT
BEGIN:VEVENT
DTSTART;TZID=Europe/Helsinki:20270526T090000
DTEND;TZID=Europe/Helsinki:20270526T100000
DTSTAMP:20260421T180825
CREATED:20260302T134800Z
LAST-MODIFIED:20260302T134800Z
UID:10034224-1811322000-1811325600@kalenteri.niemikoti.fi
SUMMARY:Yhteisön aamiainen Malmilla
DESCRIPTION:Aamiaisella puuroa\, muroja tai jogurttia vaihtelevasti sekä leipää päällisineen. Juomaksi tuoremehua sekä kahvia tai teetä. Hinta 1\,5 e.
URL:https://kalenteri.niemikoti.fi/tapahtuma/yhteison-aamiainen-malmilla/2027-05-26/
LOCATION:Malmin päivätoimintakeskus\, Vanha Helsingintie 9\, Helsinki\, 00700\, Finland
CATEGORIES:Malmin päivätoimintakeskus
END:VEVENT
BEGIN:VEVENT
DTSTART;TZID=Europe/Helsinki:20270526T100000
DTEND;TZID=Europe/Helsinki:20270526T103000
DTSTAMP:20260421T180825
CREATED:20260112T105633Z
LAST-MODIFIED:20260303T072458Z
UID:10028885-1811325600-1811327400@kalenteri.niemikoti.fi
SUMMARY:Aamukokous Malmilla
DESCRIPTION:Kokoonnutaan yhteen vaihtamaan kuulumisia ja keskustellaan päivän ohjelmasta.
URL:https://kalenteri.niemikoti.fi/tapahtuma/aamukokous-malmilla/2027-05-26/
LOCATION:Malmin päivätoimintakeskus\, Vanha Helsingintie 9\, Helsinki\, 00700\, Finland
CATEGORIES:Malmin päivätoimintakeskus
END:VEVENT
BEGIN:VEVENT
DTSTART;TZID=Europe/Helsinki:20270526T103000
DTEND;TZID=Europe/Helsinki:20270526T110000
DTSTAMP:20260421T180825
CREATED:20260112T111935Z
LAST-MODIFIED:20260410T061604Z
UID:10026381-1811327400-1811329200@kalenteri.niemikoti.fi
SUMMARY:Talon töitä Malmilla
DESCRIPTION:Pidetään yhdessä huolta yhteisistä tiloista ja tiluksista. Osallistua voi omien voimavarojen mukaan.
URL:https://kalenteri.niemikoti.fi/tapahtuma/talon-toita-7/2027-05-26/
LOCATION:Malmin päivätoimintakeskus\, Vanha Helsingintie 9\, Helsinki\, 00700\, Finland
CATEGORIES:Malmin päivätoimintakeskus
END:VEVENT
BEGIN:VEVENT
DTSTART;TZID=Europe/Helsinki:20270526T103000
DTEND;TZID=Europe/Helsinki:20270526T120000
DTSTAMP:20260421T180825
CREATED:20260421T093010Z
LAST-MODIFIED:20260421T134255Z
UID:10037645-1811327400-1811332800@kalenteri.niemikoti.fi
SUMMARY:Soppakokit
DESCRIPTION:Tehdään yhdessä ruokaa. Ruoan hinta osallistujille 2 €.
URL:https://kalenteri.niemikoti.fi/tapahtuma/soppakokit-13/2027-05-26/
LOCATION:Toimintakeskus Villa Borgis\, Linnavuorentie 13\, Helsinki\, 00950\, Finland
CATEGORIES:Toimintakeskus Villa Borgis
END:VEVENT
BEGIN:VEVENT
DTSTART;TZID=Europe/Helsinki:20270526T120000
DTEND;TZID=Europe/Helsinki:20270526T130000
DTSTAMP:20260421T180825
CREATED:20260302T135525Z
LAST-MODIFIED:20260303T072113Z
UID:10035268-1811332800-1811336400@kalenteri.niemikoti.fi
SUMMARY:Yhteisön lounas Malmilla
DESCRIPTION:Lounas ja lounaskahvit. Ruokalista vaihtelee kuukausittain ja on nähtävillä Malmin päivätoimintakeskuksessa. Hinta 3\,5 euroa.
URL:https://kalenteri.niemikoti.fi/tapahtuma/yhteison-lounas-malmilla/2027-05-26/
LOCATION:Malmin päivätoimintakeskus\, Vanha Helsingintie 9\, Helsinki\, 00700\, Finland
CATEGORIES:Malmin päivätoimintakeskus
END:VEVENT
BEGIN:VEVENT
DTSTART;TZID=Europe/Helsinki:20270526T130000
DTEND;TZID=Europe/Helsinki:20270526T143000
DTSTAMP:20260421T180825
CREATED:20260112T131042Z
LAST-MODIFIED:20260303T072919Z
UID:10029966-1811336400-1811341800@kalenteri.niemikoti.fi
SUMMARY:Väriä elämään Malmilla
DESCRIPTION:Visuaalista taidetta vaihtuvin teemoin ja tekniikoin. Enintään 8 osallistujaa kerralla. Ilmoittaudu mukaan!
URL:https://kalenteri.niemikoti.fi/tapahtuma/varia-elamaan-malmilla/2027-05-26/
LOCATION:Malmin päivätoimintakeskus\, Vanha Helsingintie 9\, Helsinki\, 00700\, Finland
CATEGORIES:Malmin päivätoimintakeskus
END:VEVENT
BEGIN:VEVENT
DTSTART;TZID=Europe/Helsinki:20270526T130000
DTEND;TZID=Europe/Helsinki:20270526T143000
DTSTAMP:20260421T180825
CREATED:20260213T085235Z
LAST-MODIFIED:20260327T090224Z
UID:10033918-1811336400-1811341800@kalenteri.niemikoti.fi
SUMMARY:Voimaa luonnosta
DESCRIPTION:Luontolähtöistä toimintaa sisällä ja ulkona; seuraamme vuodenaikojen etenemistä\, hoidamme huonekasveja ja puutarhaa\, teemme retkiä lähiluontoon ja altistumme yhdessä luonnon hyvää tekeville vaikutuksille. Pukeuduthan säänmukaisesti. \n15.4. Retki Alkumaisema -näyttelyyn Stoaan.
URL:https://kalenteri.niemikoti.fi/tapahtuma/voimaa-luonnosta/2027-05-26/
LOCATION:Toimintakeskus Villa Borgis\, Linnavuorentie 13\, Helsinki\, 00950\, Finland
CATEGORIES:Toimintakeskus Villa Borgis
END:VEVENT
BEGIN:VEVENT
DTSTART;TZID=Europe/Helsinki:20270527T111500
DTEND;TZID=Europe/Helsinki:20270819T110000
DTSTAMP:20260421T180825
CREATED:20260213T090216Z
LAST-MODIFIED:20260421T143854Z
UID:10033855-1811416500-1818673200@kalenteri.niemikoti.fi
SUMMARY:Lempeä liikunta
DESCRIPTION:Kaikille sopivaa rauhallista liikuskelua; tuolijumppaa\, keppijumppaa\, kävelylenkkejä ym.
URL:https://kalenteri.niemikoti.fi/tapahtuma/lempea-liikunta-5/2027-05-27/
LOCATION:Toimintakeskus Villa Borgis\, Linnavuorentie 13\, Helsinki\, 00950\, Finland
CATEGORIES:Toimintakeskus Villa Borgis
END:VEVENT
BEGIN:VEVENT
DTSTART;TZID=Europe/Helsinki:20270527T120000
DTEND;TZID=Europe/Helsinki:20270527T133000
DTSTAMP:20260421T180825
CREATED:20260126T125733Z
LAST-MODIFIED:20260126T125733Z
UID:10032513-1811419200-1811424600@kalenteri.niemikoti.fi
SUMMARY:Malmin bändi
DESCRIPTION:Vakiintunut kokoonpano\, voit kysyä lisää tietoa ohjaajilta. Ei ryhmää 26.2.
URL:https://kalenteri.niemikoti.fi/tapahtuma/malmin-bandi-2/2027-05-27/
LOCATION:Malmin päivätoimintakeskus\, Vanha Helsingintie 9\, Helsinki\, 00700\, Finland
CATEGORIES:Malmin päivätoimintakeskus
END:VEVENT
BEGIN:VEVENT
DTSTART;TZID=Europe/Helsinki:20270527T140000
DTEND;TZID=Europe/Helsinki:20270527T153000
DTSTAMP:20260421T180825
CREATED:20260126T130916Z
LAST-MODIFIED:20260126T130916Z
UID:10033031-1811426400-1811431800@kalenteri.niemikoti.fi
SUMMARY:Jamibändi Malmilla
DESCRIPTION:Kaikille avoin\, ei ilmoittautumista. \nVapaata bändisoittoa. Bänditilassa rummut\, kitara\, basso ja koskettimet. \nHuom! Ei ryhmää 26.2.
URL:https://kalenteri.niemikoti.fi/tapahtuma/jamibandi-malmilla-2/2027-05-27/
LOCATION:Malmin päivätoimintakeskus\, Vanha Helsingintie 9\, Helsinki\, 00700\, Finland
CATEGORIES:Malmin päivätoimintakeskus
END:VEVENT
BEGIN:VEVENT
DTSTART;TZID=Europe/Helsinki:20270527T140000
DTEND;TZID=Europe/Helsinki:20270527T160000
DTSTAMP:20260421T180825
CREATED:20260421T101538Z
LAST-MODIFIED:20260421T140609Z
UID:10037584-1811426400-1811433600@kalenteri.niemikoti.fi
SUMMARY:Kaupunkiviljely Malmilla
DESCRIPTION:Kaupunkiviljelyryhmä Malmilla. Ilmoittaudu.
URL:https://kalenteri.niemikoti.fi/tapahtuma/kaupunkiviljely-malmilla-8/2027-05-27/
LOCATION:Green City Farm c/o Perho Liiketalousopisto\, Vanha Helsingintie 13\, Helsinki\, 00700
CATEGORIES:Toimintakeskus Villa Borgis
END:VEVENT
BEGIN:VEVENT
DTSTART;TZID=Europe/Helsinki:20270527T153000
DTEND;TZID=Europe/Helsinki:20270527T170000
DTSTAMP:20260421T180825
CREATED:20260112T135251Z
LAST-MODIFIED:20260303T072957Z
UID:10030779-1811431800-1811437200@kalenteri.niemikoti.fi
SUMMARY:Rhythm Machine Malmilla
DESCRIPTION:Bändi harjoittelee oman ohjaajan kanssa.
URL:https://kalenteri.niemikoti.fi/tapahtuma/rhythm-machine-malmilla/2027-05-27/
LOCATION:Malmin päivätoimintakeskus\, Vanha Helsingintie 9\, Helsinki\, 00700\, Finland
CATEGORIES:Malmin päivätoimintakeskus
END:VEVENT
BEGIN:VEVENT
DTSTART;TZID=Europe/Helsinki:20270528T090000
DTEND;TZID=Europe/Helsinki:20270528T100000
DTSTAMP:20260421T180825
CREATED:20260302T134800Z
LAST-MODIFIED:20260302T134800Z
UID:10034225-1811494800-1811498400@kalenteri.niemikoti.fi
SUMMARY:Yhteisön aamiainen Malmilla
DESCRIPTION:Aamiaisella puuroa\, muroja tai jogurttia vaihtelevasti sekä leipää päällisineen. Juomaksi tuoremehua sekä kahvia tai teetä. Hinta 1\,5 e.
URL:https://kalenteri.niemikoti.fi/tapahtuma/yhteison-aamiainen-malmilla/2027-05-28/
LOCATION:Malmin päivätoimintakeskus\, Vanha Helsingintie 9\, Helsinki\, 00700\, Finland
CATEGORIES:Malmin päivätoimintakeskus
END:VEVENT
BEGIN:VEVENT
DTSTART;TZID=Europe/Helsinki:20270528T110000
DTEND;TZID=Europe/Helsinki:20270528T120000
DTSTAMP:20260421T180825
CREATED:20260303T072331Z
LAST-MODIFIED:20260303T072331Z
UID:10036679-1811502000-1811505600@kalenteri.niemikoti.fi
SUMMARY:Yhteisön lounas Malmilla
DESCRIPTION:Lounas ja lounaskahvit. Ruokalista vaihtelee kuukausittain ja on nähtävillä Malmin päivätoimintakeskuksessa. Hinta 3\,5 euroa.
URL:https://kalenteri.niemikoti.fi/tapahtuma/yhteison-lounas-malmilla-2/2027-05-28/
LOCATION:Malmin päivätoimintakeskus\, Vanha Helsingintie 9\, Helsinki\, 00700\, Finland
CATEGORIES:Malmin päivätoimintakeskus
END:VEVENT
BEGIN:VEVENT
DTSTART;TZID=Europe/Helsinki:20270528T120000
DTEND;TZID=Europe/Helsinki:20270528T130000
DTSTAMP:20260421T180825
CREATED:20260112T134429Z
LAST-MODIFIED:20260303T073209Z
UID:10036417-1811505600-1811509200@kalenteri.niemikoti.fi
SUMMARY:Soittoryhmä Malmilla
DESCRIPTION:Tutustaan yhdessä pianon\, ukulelen ja kitaran soiton alkeisiin. Ryhmään mahtuu enintään 6 osallistujaa kerralla. Täydentyvä ryhmä\, ilmoittaudu mukaan!
URL:https://kalenteri.niemikoti.fi/tapahtuma/soittoryhma-malmilla/2027-05-28/
LOCATION:Malmin päivätoimintakeskus\, Vanha Helsingintie 9\, Helsinki\, 00700\, Finland
CATEGORIES:Malmin päivätoimintakeskus
END:VEVENT
BEGIN:VEVENT
DTSTART;TZID=Europe/Helsinki:20270531T090000
DTEND;TZID=Europe/Helsinki:20270531T100000
DTSTAMP:20260421T180825
CREATED:20260302T134800Z
LAST-MODIFIED:20260302T134800Z
UID:10034226-1811754000-1811757600@kalenteri.niemikoti.fi
SUMMARY:Yhteisön aamiainen Malmilla
DESCRIPTION:Aamiaisella puuroa\, muroja tai jogurttia vaihtelevasti sekä leipää päällisineen. Juomaksi tuoremehua sekä kahvia tai teetä. Hinta 1\,5 e.
URL:https://kalenteri.niemikoti.fi/tapahtuma/yhteison-aamiainen-malmilla/2027-05-31/
LOCATION:Malmin päivätoimintakeskus\, Vanha Helsingintie 9\, Helsinki\, 00700\, Finland
CATEGORIES:Malmin päivätoimintakeskus
END:VEVENT
BEGIN:VEVENT
DTSTART;TZID=Europe/Helsinki:20270531T100000
DTEND;TZID=Europe/Helsinki:20270531T103000
DTSTAMP:20260421T180825
CREATED:20260112T105633Z
LAST-MODIFIED:20260303T072458Z
UID:10026173-1811757600-1811759400@kalenteri.niemikoti.fi
SUMMARY:Aamukokous Malmilla
DESCRIPTION:Kokoonnutaan yhteen vaihtamaan kuulumisia ja keskustellaan päivän ohjelmasta.
URL:https://kalenteri.niemikoti.fi/tapahtuma/aamukokous-malmilla/2027-05-31/
LOCATION:Malmin päivätoimintakeskus\, Vanha Helsingintie 9\, Helsinki\, 00700\, Finland
CATEGORIES:Malmin päivätoimintakeskus
END:VEVENT
BEGIN:VEVENT
DTSTART;TZID=Europe/Helsinki:20270531T103000
DTEND;TZID=Europe/Helsinki:20270531T110000
DTSTAMP:20260421T180825
CREATED:20260112T111935Z
LAST-MODIFIED:20260410T061604Z
UID:10031185-1811759400-1811761200@kalenteri.niemikoti.fi
SUMMARY:Talon töitä Malmilla
DESCRIPTION:Pidetään yhdessä huolta yhteisistä tiloista ja tiluksista. Osallistua voi omien voimavarojen mukaan.
URL:https://kalenteri.niemikoti.fi/tapahtuma/talon-toita-7/2027-05-31/
LOCATION:Malmin päivätoimintakeskus\, Vanha Helsingintie 9\, Helsinki\, 00700\, Finland
CATEGORIES:Malmin päivätoimintakeskus
END:VEVENT
END:VCALENDAR