BEGIN:VCALENDAR
VERSION:2.0
PRODID:-//Tapahtumakalenteri - ECPv6.15.18//NONSGML v1.0//EN
CALSCALE:GREGORIAN
METHOD:PUBLISH
X-ORIGINAL-URL:https://kalenteri.niemikoti.fi
X-WR-CALDESC:Tapahtumat Tapahtumakalenteri
REFRESH-INTERVAL;VALUE=DURATION:PT1H
X-Robots-Tag:noindex
X-PUBLISHED-TTL:PT1H
BEGIN:VTIMEZONE
TZID:Europe/Helsinki
BEGIN:DAYLIGHT
TZOFFSETFROM:+0200
TZOFFSETTO:+0300
TZNAME:EEST
DTSTART:20230326T010000
END:DAYLIGHT
BEGIN:STANDARD
TZOFFSETFROM:+0300
TZOFFSETTO:+0200
TZNAME:EET
DTSTART:20231029T010000
END:STANDARD
BEGIN:DAYLIGHT
TZOFFSETFROM:+0200
TZOFFSETTO:+0300
TZNAME:EEST
DTSTART:20240331T010000
END:DAYLIGHT
BEGIN:STANDARD
TZOFFSETFROM:+0300
TZOFFSETTO:+0200
TZNAME:EET
DTSTART:20241027T010000
END:STANDARD
BEGIN:DAYLIGHT
TZOFFSETFROM:+0200
TZOFFSETTO:+0300
TZNAME:EEST
DTSTART:20250330T010000
END:DAYLIGHT
BEGIN:STANDARD
TZOFFSETFROM:+0300
TZOFFSETTO:+0200
TZNAME:EET
DTSTART:20251026T010000
END:STANDARD
END:VTIMEZONE
BEGIN:VEVENT
DTSTART;TZID=Europe/Helsinki:20240408T090000
DTEND;TZID=Europe/Helsinki:20240408T094500
DTSTAMP:20260423T142237
CREATED:20230531T083840Z
LAST-MODIFIED:20240205T125147Z
UID:10003875-1712566800-1712569500@kalenteri.niemikoti.fi
SUMMARY:Yhteisöpäivän aamiainen
DESCRIPTION:Aamupala yhteisöpäivään osallistuville (maksullinen).
URL:https://kalenteri.niemikoti.fi/tapahtuma/yhteisopaivan-aamiainen-2/2024-04-08/
LOCATION:Toimintakeskus Villa Borgis\, Linnavuorentie 13\, Helsinki\, 00950\, Finland
CATEGORIES:Toimintakeskus Villa Borgis
END:VEVENT
BEGIN:VEVENT
DTSTART;TZID=Europe/Helsinki:20240408T090000
DTEND;TZID=Europe/Helsinki:20240408T130000
DTSTAMP:20260423T142237
CREATED:20230815T052225Z
LAST-MODIFIED:20240109T140543Z
UID:10004723-1712566800-1712581200@kalenteri.niemikoti.fi
SUMMARY:Yhteisöpäivä Malmilla klo 9-13
DESCRIPTION:Yhteisöpäivä\, Malmin päivätoimintakeskus auki klo 9-13. Ilmoittaudu mukaan!
URL:https://kalenteri.niemikoti.fi/tapahtuma/yhteisopaiva-malmilla-klo-9-13/2024-04-08/
LOCATION:Malmin päivätoimintakeskus\, Vanha Helsingintie 9\, Helsinki\, 00700\, Finland
CATEGORIES:Malmin päivätoimintakeskus
END:VEVENT
BEGIN:VEVENT
DTSTART;TZID=Europe/Helsinki:20240408T100000
DTEND;TZID=Europe/Helsinki:20240408T103000
DTSTAMP:20260423T142237
CREATED:20230531T081915Z
LAST-MODIFIED:20240205T125027Z
UID:10004000-1712570400-1712572200@kalenteri.niemikoti.fi
SUMMARY:Yhteisöpäivän aamukokous
DESCRIPTION:Yhteisöpäivän aamukokouksessa käydään läpi päivän ohjelmaa\, tapahtumia\, yhteisötehtäviä ja muita ajankohtaisia asioita.
URL:https://kalenteri.niemikoti.fi/tapahtuma/yhteisopaivan-aamukokous/2024-04-08/
LOCATION:Toimintakeskus Villa Borgis\, Linnavuorentie 13\, Helsinki\, 00950\, Finland
CATEGORIES:Toimintakeskus Villa Borgis
END:VEVENT
BEGIN:VEVENT
DTSTART;TZID=Europe/Helsinki:20240408T100000
DTEND;TZID=Europe/Helsinki:20240408T103000
DTSTAMP:20260423T142237
CREATED:20230815T052928Z
LAST-MODIFIED:20240109T140543Z
UID:10004697-1712570400-1712572200@kalenteri.niemikoti.fi
SUMMARY:Yhteisöpäivän aamukokous Malmilla
DESCRIPTION:Yhteisöpäivän aamukokouksessa käydään läpi päivän ohjelma\, tulevat tapahtumat ja kuulumiskierros.
URL:https://kalenteri.niemikoti.fi/tapahtuma/yhteisopaivan-aamukokous-malmilla/2024-04-08/
LOCATION:Malmin päivätoimintakeskus\, Vanha Helsingintie 9\, Helsinki\, 00700\, Finland
CATEGORIES:Malmin päivätoimintakeskus
END:VEVENT
BEGIN:VEVENT
DTSTART;TZID=Europe/Helsinki:20240408T103000
DTEND;TZID=Europe/Helsinki:20240408T120000
DTSTAMP:20260423T142237
CREATED:20230531T084700Z
LAST-MODIFIED:20240205T125100Z
UID:10004041-1712572200-1712577600@kalenteri.niemikoti.fi
SUMMARY:Talon töitä
DESCRIPTION:Yhteisöpäivän tehtäviä\, esim. piha-/puutarhatyöt\, sisustus\, siivous\, yhteisökokous.
URL:https://kalenteri.niemikoti.fi/tapahtuma/talon-toita/2024-04-08/
LOCATION:Toimintakeskus Villa Borgis\, Linnavuorentie 13\, Helsinki\, 00950\, Finland
CATEGORIES:Toimintakeskus Villa Borgis
END:VEVENT
BEGIN:VEVENT
DTSTART;TZID=Europe/Helsinki:20240408T120000
DTEND;TZID=Europe/Helsinki:20240408T123000
DTSTAMP:20260423T142237
CREATED:20230531T112750Z
LAST-MODIFIED:20250321T104552Z
UID:10004066-1712577600-1712579400@kalenteri.niemikoti.fi
SUMMARY:Yhteisöpäivän lounas
DESCRIPTION:Lounas yhteisöpäivään osallistuville\, maksullinen.
URL:https://kalenteri.niemikoti.fi/tapahtuma/yhteisopaivan-lounas/2024-04-08/
LOCATION:Toimintakeskus Villa Borgis\, Linnavuorentie 13\, Helsinki\, 00950\, Finland
CATEGORIES:Toimintakeskus Villa Borgis
END:VEVENT
BEGIN:VEVENT
DTSTART;TZID=Europe/Helsinki:20240408T120000
DTEND;TZID=Europe/Helsinki:20240408T150000
DTSTAMP:20260423T142237
CREATED:20240404T121828Z
LAST-MODIFIED:20240409T042343Z
UID:10010242-1712577600-1712588400@kalenteri.niemikoti.fi
SUMMARY:Kässäkerho
DESCRIPTION:Löytyykö kaapistasi keskeneräinen kudin\, ompelus\, kirjontatyö tai mikä tahansa muu käsityö? Maanantaisin ompelimoon kokoontuu kässäkerho\, missä esimerkiksi näitä keskeneräisiä töitä voi tehdä valmiiksi. Ohjaajat ovat apuna tarpeen tullen. Ei ennakkoilmoittautumista!
URL:https://kalenteri.niemikoti.fi/tapahtuma/kassakerho/2024-04-08/
LOCATION:Ompelimo & Olohuone\, Kalevankatu 30\, Helsinki\, 00100\, Finland
CATEGORIES:Ompelimo & Olohuone
ATTACH;FMTTYPE=image/jpeg:https://kalenteri.niemikoti.fi/wp-content/uploads/2024/04/DSCN8419-scaled.jpg
END:VEVENT
BEGIN:VEVENT
DTSTART;TZID=Europe/Helsinki:20240408T123000
DTEND;TZID=Europe/Helsinki:20240408T160000
DTSTAMP:20260423T142237
CREATED:20240129T121752Z
LAST-MODIFIED:20240403T070846Z
UID:10006088-1712579400-1712592000@kalenteri.niemikoti.fi
SUMMARY:Iloa ulkoilusta -liikuntaryhmä
DESCRIPTION:Iloa ulkoilusta -liikuntaryhmä klo 12.30-16.00. Lähtö Malmin päivätoimintakeskukselta klo 12.30. \n8.4. Geokätköily \n15.4. Kävely Seurasaaressa \n22.4. Malmin ulkokuntosali (paluu klo 15 mennessä) \n29.4. Kivinokan esteetön luontopolku ja lintulava \nIlmoittaudu mukaan!
URL:https://kalenteri.niemikoti.fi/tapahtuma/liiku-ja-innostu-liikuntaryhma/2024-04-08/
LOCATION:Malmin päivätoimintakeskus\, Vanha Helsingintie 9\, Helsinki\, 00700\, Finland
CATEGORIES:Malmin päivätoimintakeskus
ATTACH;FMTTYPE=image/jpeg:https://kalenteri.niemikoti.fi/wp-content/uploads/2024/01/Iloa_liikunnasta.jpg
END:VEVENT
BEGIN:VEVENT
DTSTART;TZID=Europe/Helsinki:20240408T130000
DTEND;TZID=Europe/Helsinki:20240408T140000
DTSTAMP:20260423T142237
CREATED:20230822T084516Z
LAST-MODIFIED:20250520T082214Z
UID:10001992-1712581200-1712584800@kalenteri.niemikoti.fi
SUMMARY:Mahdollisuuksien maanantai
DESCRIPTION:Yhteisön ohjelmaa (toiveryhmiä ja vaihtuvia teemoja)
URL:https://kalenteri.niemikoti.fi/tapahtuma/mahdollisuuksien-maanantai-2/2024-04-08/
LOCATION:Toimintakeskus Villa Borgis\, Linnavuorentie 13\, Helsinki\, 00950\, Finland
CATEGORIES:Toimintakeskus Villa Borgis
END:VEVENT
BEGIN:VEVENT
DTSTART;TZID=Europe/Helsinki:20240408T140000
DTEND;TZID=Europe/Helsinki:20240408T143000
DTSTAMP:20260423T142237
CREATED:20230607T051246Z
LAST-MODIFIED:20250107T131756Z
UID:10013958-1712584800-1712586600@kalenteri.niemikoti.fi
SUMMARY:Yhteisöpäivän päiväkahvit
DESCRIPTION:Päiväkahvit kuuluvat aamiaisen ja/tai lounaan hintaan\, muuten 1 €.
URL:https://kalenteri.niemikoti.fi/tapahtuma/yhteisopaivan-paivakahvit/2024-04-08/
LOCATION:Toimintakeskus Villa Borgis\, Linnavuorentie 13\, Helsinki\, 00950\, Finland
CATEGORIES:Toimintakeskus Villa Borgis
END:VEVENT
BEGIN:VEVENT
DTSTART;TZID=Europe/Helsinki:20240409T090000
DTEND;TZID=Europe/Helsinki:20240409T094500
DTSTAMP:20260423T142237
CREATED:20230531T083840Z
LAST-MODIFIED:20240205T125147Z
UID:10003876-1712653200-1712655900@kalenteri.niemikoti.fi
SUMMARY:Yhteisöpäivän aamiainen
DESCRIPTION:Aamupala yhteisöpäivään osallistuville (maksullinen).
URL:https://kalenteri.niemikoti.fi/tapahtuma/yhteisopaivan-aamiainen-2/2024-04-09/
LOCATION:Toimintakeskus Villa Borgis\, Linnavuorentie 13\, Helsinki\, 00950\, Finland
CATEGORIES:Toimintakeskus Villa Borgis
END:VEVENT
BEGIN:VEVENT
DTSTART;TZID=Europe/Helsinki:20240409T090000
DTEND;TZID=Europe/Helsinki:20240409T130000
DTSTAMP:20260423T142238
CREATED:20230821T054354Z
LAST-MODIFIED:20240528T091101Z
UID:10004645-1712653200-1712667600@kalenteri.niemikoti.fi
SUMMARY:Yhteisöpäivä Malmilla klo 9-13
DESCRIPTION:Yhteisöpäivä\, Malmin päivätoimintakeskus auki klo 9-13. Ilmoittaudu mukaan!
URL:https://kalenteri.niemikoti.fi/tapahtuma/yhteisopaiva-malmilla-klo-9-13-3/2024-04-09/
LOCATION:Malmin päivätoimintakeskus\, Vanha Helsingintie 9\, Helsinki\, 00700\, Finland
CATEGORIES:Malmin päivätoimintakeskus
END:VEVENT
BEGIN:VEVENT
DTSTART;TZID=Europe/Helsinki:20240409T100000
DTEND;TZID=Europe/Helsinki:20240409T103000
DTSTAMP:20260423T142238
CREATED:20230531T081915Z
LAST-MODIFIED:20240205T125027Z
UID:10004001-1712656800-1712658600@kalenteri.niemikoti.fi
SUMMARY:Yhteisöpäivän aamukokous
DESCRIPTION:Yhteisöpäivän aamukokouksessa käydään läpi päivän ohjelmaa\, tapahtumia\, yhteisötehtäviä ja muita ajankohtaisia asioita.
URL:https://kalenteri.niemikoti.fi/tapahtuma/yhteisopaivan-aamukokous/2024-04-09/
LOCATION:Toimintakeskus Villa Borgis\, Linnavuorentie 13\, Helsinki\, 00950\, Finland
CATEGORIES:Toimintakeskus Villa Borgis
END:VEVENT
BEGIN:VEVENT
DTSTART;TZID=Europe/Helsinki:20240409T100000
DTEND;TZID=Europe/Helsinki:20240409T103000
DTSTAMP:20260423T142238
CREATED:20230821T054731Z
LAST-MODIFIED:20240528T091332Z
UID:10004619-1712656800-1712658600@kalenteri.niemikoti.fi
SUMMARY:Yhteisöpäivän aamukokous Malmilla
DESCRIPTION:Yhteisöpäivän aamukokouksessa käydään läpi päivän ohjelma\, tulevat tapahtumat ja kuulumiskierros.
URL:https://kalenteri.niemikoti.fi/tapahtuma/yhteisopaivan-aamukokous-malmilla-2/2024-04-09/
LOCATION:Malmin päivätoimintakeskus\, Vanha Helsingintie 9\, Helsinki\, 00700\, Finland
CATEGORIES:Malmin päivätoimintakeskus
END:VEVENT
BEGIN:VEVENT
DTSTART;TZID=Europe/Helsinki:20240409T103000
DTEND;TZID=Europe/Helsinki:20240409T111500
DTSTAMP:20260423T142238
CREATED:20230821T055336Z
LAST-MODIFIED:20240528T091429Z
UID:10004593-1712658600-1712661300@kalenteri.niemikoti.fi
SUMMARY:Luonto & liikunta -kävelyryhmä Malmilla
DESCRIPTION:Päätetään yhdessä päivän kävelyreitti ja kävelläänkö reippaasti vai rauhallisesti. Uusille on tilaa\, ilmoittaudu mukaan!
URL:https://kalenteri.niemikoti.fi/tapahtuma/luonto-liikunta-kavelyryhma-malmilla/2024-04-09/
LOCATION:Malmin päivätoimintakeskus\, Vanha Helsingintie 9\, Helsinki\, 00700\, Finland
CATEGORIES:Malmin päivätoimintakeskus
END:VEVENT
BEGIN:VEVENT
DTSTART;TZID=Europe/Helsinki:20240409T103000
DTEND;TZID=Europe/Helsinki:20240409T120000
DTSTAMP:20260423T142238
CREATED:20230531T124423Z
LAST-MODIFIED:20240123T084001Z
UID:10005070-1712658600-1712664000@kalenteri.niemikoti.fi
SUMMARY:Borgiksen Picassot
DESCRIPTION:Kuvataideryhmä\, ilmoittaudu.
URL:https://kalenteri.niemikoti.fi/tapahtuma/borgiksen-picassot/2024-04-09/
LOCATION:Toimintakeskus Villa Borgis\, Linnavuorentie 13\, Helsinki\, 00950\, Finland
CATEGORIES:Toimintakeskus Villa Borgis
END:VEVENT
BEGIN:VEVENT
DTSTART;TZID=Europe/Helsinki:20240409T123000
DTEND;TZID=Europe/Helsinki:20240409T131500
DTSTAMP:20260423T142238
CREATED:20240129T121244Z
LAST-MODIFIED:20240912T102135Z
UID:10005184-1712665800-1712668500@kalenteri.niemikoti.fi
SUMMARY:Soittoryhmä Malmilla
DESCRIPTION:Tutustutaan yhdessä pianon\, kitaran ja ukulelen soiton alkeisiin ja soitetaan yhdessä helppoja kappaleita. Max. 8 osallistujaa\, ilmoittaudu mukaan!
URL:https://kalenteri.niemikoti.fi/tapahtuma/soittoryhma/2024-04-09/
LOCATION:Malmin päivätoimintakeskus\, Vanha Helsingintie 9\, Helsinki\, 00700\, Finland
CATEGORIES:Malmin päivätoimintakeskus
END:VEVENT
BEGIN:VEVENT
DTSTART;TZID=Europe/Helsinki:20240409T130000
DTEND;TZID=Europe/Helsinki:20240409T140000
DTSTAMP:20260423T142238
CREATED:20231108T090753Z
LAST-MODIFIED:20240513T053528Z
UID:10004183-1712667600-1712671200@kalenteri.niemikoti.fi
SUMMARY:Yhteisön ohjelmaa
DESCRIPTION:Yhteisön ohjelmaa\, esim. rentoutusta\, ulkoilua\, musiikin kuuntelua\, kädentaitoja.
URL:https://kalenteri.niemikoti.fi/tapahtuma/yhteison-ohjelmaa-2/2024-04-09/
LOCATION:Toimintakeskus Villa Borgis\, Linnavuorentie 13\, Helsinki\, 00950\, Finland
CATEGORIES:Toimintakeskus Villa Borgis
END:VEVENT
BEGIN:VEVENT
DTSTART;TZID=Europe/Helsinki:20240409T130000
DTEND;TZID=Europe/Helsinki:20240409T150000
DTSTAMP:20260423T142238
CREATED:20231016T065556Z
LAST-MODIFIED:20240912T102328Z
UID:10005913-1712667600-1712674800@kalenteri.niemikoti.fi
SUMMARY:Jälleenvuokrauksen bändi Malmilla
DESCRIPTION:Bändissä on vakiintunut kokoonpano. Lisätietoja bändistä voi kysyä ohjaajilta.
URL:https://kalenteri.niemikoti.fi/tapahtuma/jalleenvuokrauksen-bandi/2024-04-09/
LOCATION:Malmin päivätoimintakeskus\, Vanha Helsingintie 9\, Helsinki\, 00700\, Finland
CATEGORIES:Malmin päivätoimintakeskus
END:VEVENT
BEGIN:VEVENT
DTSTART;TZID=Europe/Helsinki:20240409T140000
DTEND;TZID=Europe/Helsinki:20240409T143000
DTSTAMP:20260423T142238
CREATED:20230607T051246Z
LAST-MODIFIED:20250107T131756Z
UID:10013959-1712671200-1712673000@kalenteri.niemikoti.fi
SUMMARY:Yhteisöpäivän päiväkahvit
DESCRIPTION:Päiväkahvit kuuluvat aamiaisen ja/tai lounaan hintaan\, muuten 1 €.
URL:https://kalenteri.niemikoti.fi/tapahtuma/yhteisopaivan-paivakahvit/2024-04-09/
LOCATION:Toimintakeskus Villa Borgis\, Linnavuorentie 13\, Helsinki\, 00950\, Finland
CATEGORIES:Toimintakeskus Villa Borgis
END:VEVENT
BEGIN:VEVENT
DTSTART;TZID=Europe/Helsinki:20240409T153000
DTEND;TZID=Europe/Helsinki:20240409T170000
DTSTAMP:20260423T142238
CREATED:20231016T065925Z
LAST-MODIFIED:20240912T102346Z
UID:10005950-1712676600-1712682000@kalenteri.niemikoti.fi
SUMMARY:Malmin bändi
DESCRIPTION:Bändissä on vakiintunut kokoonpano. Lisätietoja Malmin bändistä voi kysyä ohjaaja Tapio Kojolta.
URL:https://kalenteri.niemikoti.fi/tapahtuma/malmin-bandi/2024-04-09/
LOCATION:Malmin päivätoimintakeskus\, Vanha Helsingintie 9\, Helsinki\, 00700\, Finland
CATEGORIES:Malmin päivätoimintakeskus
END:VEVENT
BEGIN:VEVENT
DTSTART;TZID=Europe/Helsinki:20240410T090000
DTEND;TZID=Europe/Helsinki:20240410T094500
DTSTAMP:20260423T142238
CREATED:20230531T083840Z
LAST-MODIFIED:20240205T125147Z
UID:10003877-1712739600-1712742300@kalenteri.niemikoti.fi
SUMMARY:Yhteisöpäivän aamiainen
DESCRIPTION:Aamupala yhteisöpäivään osallistuville (maksullinen).
URL:https://kalenteri.niemikoti.fi/tapahtuma/yhteisopaivan-aamiainen-2/2024-04-10/
LOCATION:Toimintakeskus Villa Borgis\, Linnavuorentie 13\, Helsinki\, 00950\, Finland
CATEGORIES:Toimintakeskus Villa Borgis
END:VEVENT
BEGIN:VEVENT
DTSTART;TZID=Europe/Helsinki:20240410T090000
DTEND;TZID=Europe/Helsinki:20240410T130000
DTSTAMP:20260423T142238
CREATED:20230822T114010Z
LAST-MODIFIED:20240528T090051Z
UID:10004411-1712739600-1712754000@kalenteri.niemikoti.fi
SUMMARY:Yhteisöpäivä Malmilla klo 9-13
DESCRIPTION:Yhteisöpäivä\, Malmin päivätoimintakeskus auki klo 9-13. Ilmoittaudu mukaan!
URL:https://kalenteri.niemikoti.fi/tapahtuma/yhteisopaiva-malmilla-klo-9-13-4/2024-04-10/
LOCATION:Malmin päivätoimintakeskus\, Vanha Helsingintie 9\, Helsinki\, 00700\, Finland
CATEGORIES:Malmin päivätoimintakeskus
END:VEVENT
BEGIN:VEVENT
DTSTART;TZID=Europe/Helsinki:20240410T100000
DTEND;TZID=Europe/Helsinki:20240410T103000
DTSTAMP:20260423T142238
CREATED:20230531T081915Z
LAST-MODIFIED:20240205T125027Z
UID:10004002-1712743200-1712745000@kalenteri.niemikoti.fi
SUMMARY:Yhteisöpäivän aamukokous
DESCRIPTION:Yhteisöpäivän aamukokouksessa käydään läpi päivän ohjelmaa\, tapahtumia\, yhteisötehtäviä ja muita ajankohtaisia asioita.
URL:https://kalenteri.niemikoti.fi/tapahtuma/yhteisopaivan-aamukokous/2024-04-10/
LOCATION:Toimintakeskus Villa Borgis\, Linnavuorentie 13\, Helsinki\, 00950\, Finland
CATEGORIES:Toimintakeskus Villa Borgis
END:VEVENT
BEGIN:VEVENT
DTSTART;TZID=Europe/Helsinki:20240410T100000
DTEND;TZID=Europe/Helsinki:20240410T103000
DTSTAMP:20260423T142238
CREATED:20230822T114233Z
LAST-MODIFIED:20240528T091641Z
UID:10004437-1712743200-1712745000@kalenteri.niemikoti.fi
SUMMARY:Yhteisöpäivän aamukokous Malmilla
DESCRIPTION:Yhteisöpäivän aamukokouksessa käydään läpi päivän ohjelma\, tulevat tapahtumat ja kuulumiskierros.
URL:https://kalenteri.niemikoti.fi/tapahtuma/yhteisopaivan-aamukokous-malmilla-3/2024-04-10/
LOCATION:Malmin päivätoimintakeskus\, Vanha Helsingintie 9\, Helsinki\, 00700\, Finland
CATEGORIES:Malmin päivätoimintakeskus
END:VEVENT
BEGIN:VEVENT
DTSTART;TZID=Europe/Helsinki:20240410T103000
DTEND;TZID=Europe/Helsinki:20240410T111500
DTSTAMP:20260423T142238
CREATED:20240223T073950Z
LAST-MODIFIED:20240403T063622Z
UID:10006417-1712745000-1712747700@kalenteri.niemikoti.fi
SUMMARY:Sanapaja Malmilla
DESCRIPTION:Luovia kirjoitusharjoituksia ja sanataidetta ryhmässä. Täydentyvä ryhmä\, ilmoittaudu mukaan.
URL:https://kalenteri.niemikoti.fi/tapahtuma/sanapaja-malmilla/2024-04-10/
LOCATION:Malmin päivätoimintakeskus\, Vanha Helsingintie 9\, Helsinki\, 00700\, Finland
CATEGORIES:Malmin päivätoimintakeskus
END:VEVENT
BEGIN:VEVENT
DTSTART;TZID=Europe/Helsinki:20240410T103000
DTEND;TZID=Europe/Helsinki:20240410T120000
DTSTAMP:20260423T142238
CREATED:20240123T093625Z
LAST-MODIFIED:20240123T094801Z
UID:10005090-1712745000-1712750400@kalenteri.niemikoti.fi
SUMMARY:Pelit ja leikit
DESCRIPTION:Uusia ja vanhoja pelejä ja leikkejä sisällä ja ulkona.
URL:https://kalenteri.niemikoti.fi/tapahtuma/pelit-ja-leikit-2/2024-04-10/
LOCATION:Toimintakeskus Villa Borgis\, Linnavuorentie 13\, Helsinki\, 00950\, Finland
CATEGORIES:Toimintakeskus Villa Borgis
END:VEVENT
BEGIN:VEVENT
DTSTART;TZID=Europe/Helsinki:20240410T110000
DTEND;TZID=Europe/Helsinki:20240410T123000
DTSTAMP:20260423T142238
CREATED:20240325T104030Z
LAST-MODIFIED:20240408T090826Z
UID:10006775-1712746800-1712752200@kalenteri.niemikoti.fi
SUMMARY:TYÖELÄMÄ-ryhmä
DESCRIPTION:Aiheena Helsingin Työllisyyspalvelut ja työnteko eläkkeensaajana. Tule kuulemaan\, millaisia mahdollisuuksia työllistymisen edistämiseksi avautuu Työllisyyspalvelujen asiakkaana. Jutellaan myös siitä\, miten sovittaa tulonsa etuuksiin.
URL:https://kalenteri.niemikoti.fi/tapahtuma/tyoelama-ryhma-3/2024-04-10/
LOCATION:Valtti Valmennus\, Elimäenkatu 26\, Helsinki\, 00510\, Finland
CATEGORIES:Valtti Valmennus
END:VEVENT
BEGIN:VEVENT
DTSTART;TZID=Europe/Helsinki:20240410T130000
DTEND;TZID=Europe/Helsinki:20240410T143000
DTSTAMP:20260423T142238
CREATED:20240103T134956Z
LAST-MODIFIED:20240912T102443Z
UID:10004840-1712754000-1712759400@kalenteri.niemikoti.fi
SUMMARY:Taide & käsityö -ryhmä Malmilla
DESCRIPTION:Kuvataidetta ja käsitöitä vaihtuvin teemoin ja tekniikoin. Max. 8 osallistujaa\, ilmoittaudu mukaan!
URL:https://kalenteri.niemikoti.fi/tapahtuma/kuvis-ja-kasityo-ryhma-malmilla/2024-04-10/
LOCATION:Malmin päivätoimintakeskus\, Vanha Helsingintie 9\, Helsinki\, 00700\, Finland
CATEGORIES:Malmin päivätoimintakeskus
END:VEVENT
BEGIN:VEVENT
DTSTART;TZID=Europe/Helsinki:20240410T130000
DTEND;TZID=Europe/Helsinki:20240410T150000
DTSTAMP:20260423T142238
CREATED:20240112T082706Z
LAST-MODIFIED:20240708T061422Z
UID:10004917-1712754000-1712761200@kalenteri.niemikoti.fi
SUMMARY:Viherpeukalot
DESCRIPTION:Siementen kylvämistä\, kasvien hoitoa\, viherpeukalointia sisällä ja ulkona Villa Borgiksen puutarhassa. Laita yllesi vaatteet\, jotka eivät säikähdä likaantumista. Käsineet ja työvälineet talon puolesta\, myös kumisaappaita löytyy lainaksi.
URL:https://kalenteri.niemikoti.fi/tapahtuma/viherpeukalot-2/2024-04-10/
LOCATION:Toimintakeskus Villa Borgis\, Linnavuorentie 13\, Helsinki\, 00950\, Finland
CATEGORIES:Toimintakeskus Villa Borgis
END:VEVENT
END:VCALENDAR