BEGIN:VCALENDAR
VERSION:2.0
PRODID:-//Tapahtumakalenteri - ECPv6.15.18//NONSGML v1.0//EN
CALSCALE:GREGORIAN
METHOD:PUBLISH
X-ORIGINAL-URL:https://kalenteri.niemikoti.fi
X-WR-CALDESC:Tapahtumat Tapahtumakalenteri
REFRESH-INTERVAL;VALUE=DURATION:PT1H
X-Robots-Tag:noindex
X-PUBLISHED-TTL:PT1H
BEGIN:VTIMEZONE
TZID:Europe/Helsinki
BEGIN:DAYLIGHT
TZOFFSETFROM:+0200
TZOFFSETTO:+0300
TZNAME:EEST
DTSTART:20230326T010000
END:DAYLIGHT
BEGIN:STANDARD
TZOFFSETFROM:+0300
TZOFFSETTO:+0200
TZNAME:EET
DTSTART:20231029T010000
END:STANDARD
BEGIN:DAYLIGHT
TZOFFSETFROM:+0200
TZOFFSETTO:+0300
TZNAME:EEST
DTSTART:20240331T010000
END:DAYLIGHT
BEGIN:STANDARD
TZOFFSETFROM:+0300
TZOFFSETTO:+0200
TZNAME:EET
DTSTART:20241027T010000
END:STANDARD
BEGIN:DAYLIGHT
TZOFFSETFROM:+0200
TZOFFSETTO:+0300
TZNAME:EEST
DTSTART:20250330T010000
END:DAYLIGHT
BEGIN:STANDARD
TZOFFSETFROM:+0300
TZOFFSETTO:+0200
TZNAME:EET
DTSTART:20251026T010000
END:STANDARD
END:VTIMEZONE
BEGIN:VEVENT
DTSTART;TZID=Europe/Helsinki:20240423T090000
DTEND;TZID=Europe/Helsinki:20240423T094500
DTSTAMP:20260422T181310
CREATED:20230531T083840Z
LAST-MODIFIED:20240205T125147Z
UID:10003882-1713862800-1713865500@kalenteri.niemikoti.fi
SUMMARY:Yhteisöpäivän aamiainen
DESCRIPTION:Aamupala yhteisöpäivään osallistuville (maksullinen).
URL:https://kalenteri.niemikoti.fi/tapahtuma/yhteisopaivan-aamiainen-2/2024-04-23/
LOCATION:Toimintakeskus Villa Borgis\, Linnavuorentie 13\, Helsinki\, 00950\, Finland
CATEGORIES:Toimintakeskus Villa Borgis
END:VEVENT
BEGIN:VEVENT
DTSTART;TZID=Europe/Helsinki:20240423T090000
DTEND;TZID=Europe/Helsinki:20240423T130000
DTSTAMP:20260422T181310
CREATED:20230821T054354Z
LAST-MODIFIED:20240528T091101Z
UID:10004647-1713862800-1713877200@kalenteri.niemikoti.fi
SUMMARY:Yhteisöpäivä Malmilla klo 9-13
DESCRIPTION:Yhteisöpäivä\, Malmin päivätoimintakeskus auki klo 9-13. Ilmoittaudu mukaan!
URL:https://kalenteri.niemikoti.fi/tapahtuma/yhteisopaiva-malmilla-klo-9-13-3/2024-04-23/
LOCATION:Malmin päivätoimintakeskus\, Vanha Helsingintie 9\, Helsinki\, 00700\, Finland
CATEGORIES:Malmin päivätoimintakeskus
END:VEVENT
BEGIN:VEVENT
DTSTART;TZID=Europe/Helsinki:20240423T100000
DTEND;TZID=Europe/Helsinki:20240423T103000
DTSTAMP:20260422T181310
CREATED:20230531T081915Z
LAST-MODIFIED:20240205T125027Z
UID:10004007-1713866400-1713868200@kalenteri.niemikoti.fi
SUMMARY:Yhteisöpäivän aamukokous
DESCRIPTION:Yhteisöpäivän aamukokouksessa käydään läpi päivän ohjelmaa\, tapahtumia\, yhteisötehtäviä ja muita ajankohtaisia asioita.
URL:https://kalenteri.niemikoti.fi/tapahtuma/yhteisopaivan-aamukokous/2024-04-23/
LOCATION:Toimintakeskus Villa Borgis\, Linnavuorentie 13\, Helsinki\, 00950\, Finland
CATEGORIES:Toimintakeskus Villa Borgis
END:VEVENT
BEGIN:VEVENT
DTSTART;TZID=Europe/Helsinki:20240423T100000
DTEND;TZID=Europe/Helsinki:20240423T103000
DTSTAMP:20260422T181310
CREATED:20230821T054731Z
LAST-MODIFIED:20240528T091332Z
UID:10004621-1713866400-1713868200@kalenteri.niemikoti.fi
SUMMARY:Yhteisöpäivän aamukokous Malmilla
DESCRIPTION:Yhteisöpäivän aamukokouksessa käydään läpi päivän ohjelma\, tulevat tapahtumat ja kuulumiskierros.
URL:https://kalenteri.niemikoti.fi/tapahtuma/yhteisopaivan-aamukokous-malmilla-2/2024-04-23/
LOCATION:Malmin päivätoimintakeskus\, Vanha Helsingintie 9\, Helsinki\, 00700\, Finland
CATEGORIES:Malmin päivätoimintakeskus
END:VEVENT
BEGIN:VEVENT
DTSTART;TZID=Europe/Helsinki:20240423T103000
DTEND;TZID=Europe/Helsinki:20240423T111500
DTSTAMP:20260422T181310
CREATED:20230821T055336Z
LAST-MODIFIED:20240528T091429Z
UID:10004595-1713868200-1713870900@kalenteri.niemikoti.fi
SUMMARY:Luonto & liikunta -kävelyryhmä Malmilla
DESCRIPTION:Päätetään yhdessä päivän kävelyreitti ja kävelläänkö reippaasti vai rauhallisesti. Uusille on tilaa\, ilmoittaudu mukaan!
URL:https://kalenteri.niemikoti.fi/tapahtuma/luonto-liikunta-kavelyryhma-malmilla/2024-04-23/
LOCATION:Malmin päivätoimintakeskus\, Vanha Helsingintie 9\, Helsinki\, 00700\, Finland
CATEGORIES:Malmin päivätoimintakeskus
END:VEVENT
BEGIN:VEVENT
DTSTART;TZID=Europe/Helsinki:20240423T103000
DTEND;TZID=Europe/Helsinki:20240423T120000
DTSTAMP:20260422T181310
CREATED:20230531T124423Z
LAST-MODIFIED:20240123T084001Z
UID:10005072-1713868200-1713873600@kalenteri.niemikoti.fi
SUMMARY:Borgiksen Picassot
DESCRIPTION:Kuvataideryhmä\, ilmoittaudu.
URL:https://kalenteri.niemikoti.fi/tapahtuma/borgiksen-picassot/2024-04-23/
LOCATION:Toimintakeskus Villa Borgis\, Linnavuorentie 13\, Helsinki\, 00950\, Finland
CATEGORIES:Toimintakeskus Villa Borgis
END:VEVENT
BEGIN:VEVENT
DTSTART;TZID=Europe/Helsinki:20240423T123000
DTEND;TZID=Europe/Helsinki:20240423T131500
DTSTAMP:20260422T181310
CREATED:20240129T121244Z
LAST-MODIFIED:20240912T102135Z
UID:10005186-1713875400-1713878100@kalenteri.niemikoti.fi
SUMMARY:Soittoryhmä Malmilla
DESCRIPTION:Tutustutaan yhdessä pianon\, kitaran ja ukulelen soiton alkeisiin ja soitetaan yhdessä helppoja kappaleita. Max. 8 osallistujaa\, ilmoittaudu mukaan!
URL:https://kalenteri.niemikoti.fi/tapahtuma/soittoryhma/2024-04-23/
LOCATION:Malmin päivätoimintakeskus\, Vanha Helsingintie 9\, Helsinki\, 00700\, Finland
CATEGORIES:Malmin päivätoimintakeskus
END:VEVENT
BEGIN:VEVENT
DTSTART;TZID=Europe/Helsinki:20240423T130000
DTEND;TZID=Europe/Helsinki:20240423T140000
DTSTAMP:20260422T181310
CREATED:20231108T090753Z
LAST-MODIFIED:20240513T053528Z
UID:10004185-1713877200-1713880800@kalenteri.niemikoti.fi
SUMMARY:Yhteisön ohjelmaa
DESCRIPTION:Yhteisön ohjelmaa\, esim. rentoutusta\, ulkoilua\, musiikin kuuntelua\, kädentaitoja.
URL:https://kalenteri.niemikoti.fi/tapahtuma/yhteison-ohjelmaa-2/2024-04-23/
LOCATION:Toimintakeskus Villa Borgis\, Linnavuorentie 13\, Helsinki\, 00950\, Finland
CATEGORIES:Toimintakeskus Villa Borgis
END:VEVENT
BEGIN:VEVENT
DTSTART;TZID=Europe/Helsinki:20240423T130000
DTEND;TZID=Europe/Helsinki:20240423T150000
DTSTAMP:20260422T181310
CREATED:20231016T065556Z
LAST-MODIFIED:20240912T102328Z
UID:10005915-1713877200-1713884400@kalenteri.niemikoti.fi
SUMMARY:Jälleenvuokrauksen bändi Malmilla
DESCRIPTION:Bändissä on vakiintunut kokoonpano. Lisätietoja bändistä voi kysyä ohjaajilta.
URL:https://kalenteri.niemikoti.fi/tapahtuma/jalleenvuokrauksen-bandi/2024-04-23/
LOCATION:Malmin päivätoimintakeskus\, Vanha Helsingintie 9\, Helsinki\, 00700\, Finland
CATEGORIES:Malmin päivätoimintakeskus
END:VEVENT
BEGIN:VEVENT
DTSTART;TZID=Europe/Helsinki:20240423T140000
DTEND;TZID=Europe/Helsinki:20240423T143000
DTSTAMP:20260422T181310
CREATED:20230607T051246Z
LAST-MODIFIED:20250107T131756Z
UID:10013965-1713880800-1713882600@kalenteri.niemikoti.fi
SUMMARY:Yhteisöpäivän päiväkahvit
DESCRIPTION:Päiväkahvit kuuluvat aamiaisen ja/tai lounaan hintaan\, muuten 1 €.
URL:https://kalenteri.niemikoti.fi/tapahtuma/yhteisopaivan-paivakahvit/2024-04-23/
LOCATION:Toimintakeskus Villa Borgis\, Linnavuorentie 13\, Helsinki\, 00950\, Finland
CATEGORIES:Toimintakeskus Villa Borgis
END:VEVENT
BEGIN:VEVENT
DTSTART;TZID=Europe/Helsinki:20240423T153000
DTEND;TZID=Europe/Helsinki:20240423T170000
DTSTAMP:20260422T181310
CREATED:20231016T065925Z
LAST-MODIFIED:20240912T102346Z
UID:10005952-1713886200-1713891600@kalenteri.niemikoti.fi
SUMMARY:Malmin bändi
DESCRIPTION:Bändissä on vakiintunut kokoonpano. Lisätietoja Malmin bändistä voi kysyä ohjaaja Tapio Kojolta.
URL:https://kalenteri.niemikoti.fi/tapahtuma/malmin-bandi/2024-04-23/
LOCATION:Malmin päivätoimintakeskus\, Vanha Helsingintie 9\, Helsinki\, 00700\, Finland
CATEGORIES:Malmin päivätoimintakeskus
END:VEVENT
BEGIN:VEVENT
DTSTART;VALUE=DATE:20240424
DTEND;VALUE=DATE:20240425
DTSTAMP:20260422T181310
CREATED:20240424T030550Z
LAST-MODIFIED:20240424T030550Z
UID:10010603-1713916800-1714003199@kalenteri.niemikoti.fi
SUMMARY:Testitapahtuma
DESCRIPTION:asdfasf
URL:https://kalenteri.niemikoti.fi/tapahtuma/testitapahtuma/
END:VEVENT
BEGIN:VEVENT
DTSTART;TZID=Europe/Helsinki:20240424T080000
DTEND;TZID=Europe/Helsinki:20240424T170000
DTSTAMP:20260422T181310
CREATED:20240424T025243Z
LAST-MODIFIED:20240424T025243Z
UID:10010601-1713945600-1713978000@kalenteri.niemikoti.fi
SUMMARY:Testitapahtuma
DESCRIPTION:asdfasdf
URL:https://kalenteri.niemikoti.fi/tapahtuma/testitapahtuma/
END:VEVENT
BEGIN:VEVENT
DTSTART;TZID=Europe/Helsinki:20240424T080000
DTEND;TZID=Europe/Helsinki:20240424T170000
DTSTAMP:20260422T181310
CREATED:20240424T030229Z
LAST-MODIFIED:20240424T030229Z
UID:10010602-1713945600-1713978000@kalenteri.niemikoti.fi
SUMMARY:Testitapahtuma
DESCRIPTION:asdfasf
URL:https://kalenteri.niemikoti.fi/tapahtuma/testitapahtuma/
END:VEVENT
BEGIN:VEVENT
DTSTART;TZID=Europe/Helsinki:20240424T090000
DTEND;TZID=Europe/Helsinki:20240424T094500
DTSTAMP:20260422T181310
CREATED:20230531T083840Z
LAST-MODIFIED:20240205T125147Z
UID:10003883-1713949200-1713951900@kalenteri.niemikoti.fi
SUMMARY:Yhteisöpäivän aamiainen
DESCRIPTION:Aamupala yhteisöpäivään osallistuville (maksullinen).
URL:https://kalenteri.niemikoti.fi/tapahtuma/yhteisopaivan-aamiainen-2/2024-04-24/
LOCATION:Toimintakeskus Villa Borgis\, Linnavuorentie 13\, Helsinki\, 00950\, Finland
CATEGORIES:Toimintakeskus Villa Borgis
END:VEVENT
BEGIN:VEVENT
DTSTART;TZID=Europe/Helsinki:20240424T090000
DTEND;TZID=Europe/Helsinki:20240424T130000
DTSTAMP:20260422T181310
CREATED:20230822T114010Z
LAST-MODIFIED:20240528T090051Z
UID:10004413-1713949200-1713963600@kalenteri.niemikoti.fi
SUMMARY:Yhteisöpäivä Malmilla klo 9-13
DESCRIPTION:Yhteisöpäivä\, Malmin päivätoimintakeskus auki klo 9-13. Ilmoittaudu mukaan!
URL:https://kalenteri.niemikoti.fi/tapahtuma/yhteisopaiva-malmilla-klo-9-13-4/2024-04-24/
LOCATION:Malmin päivätoimintakeskus\, Vanha Helsingintie 9\, Helsinki\, 00700\, Finland
CATEGORIES:Malmin päivätoimintakeskus
END:VEVENT
BEGIN:VEVENT
DTSTART;TZID=Europe/Helsinki:20240424T100000
DTEND;TZID=Europe/Helsinki:20240424T103000
DTSTAMP:20260422T181310
CREATED:20230531T081915Z
LAST-MODIFIED:20240205T125027Z
UID:10004008-1713952800-1713954600@kalenteri.niemikoti.fi
SUMMARY:Yhteisöpäivän aamukokous
DESCRIPTION:Yhteisöpäivän aamukokouksessa käydään läpi päivän ohjelmaa\, tapahtumia\, yhteisötehtäviä ja muita ajankohtaisia asioita.
URL:https://kalenteri.niemikoti.fi/tapahtuma/yhteisopaivan-aamukokous/2024-04-24/
LOCATION:Toimintakeskus Villa Borgis\, Linnavuorentie 13\, Helsinki\, 00950\, Finland
CATEGORIES:Toimintakeskus Villa Borgis
END:VEVENT
BEGIN:VEVENT
DTSTART;TZID=Europe/Helsinki:20240424T100000
DTEND;TZID=Europe/Helsinki:20240424T103000
DTSTAMP:20260422T181310
CREATED:20230822T114233Z
LAST-MODIFIED:20240528T091641Z
UID:10004439-1713952800-1713954600@kalenteri.niemikoti.fi
SUMMARY:Yhteisöpäivän aamukokous Malmilla
DESCRIPTION:Yhteisöpäivän aamukokouksessa käydään läpi päivän ohjelma\, tulevat tapahtumat ja kuulumiskierros.
URL:https://kalenteri.niemikoti.fi/tapahtuma/yhteisopaivan-aamukokous-malmilla-3/2024-04-24/
LOCATION:Malmin päivätoimintakeskus\, Vanha Helsingintie 9\, Helsinki\, 00700\, Finland
CATEGORIES:Malmin päivätoimintakeskus
END:VEVENT
BEGIN:VEVENT
DTSTART;TZID=Europe/Helsinki:20240424T103000
DTEND;TZID=Europe/Helsinki:20240424T120000
DTSTAMP:20260422T181310
CREATED:20240123T093625Z
LAST-MODIFIED:20240123T094801Z
UID:10005092-1713954600-1713960000@kalenteri.niemikoti.fi
SUMMARY:Pelit ja leikit
DESCRIPTION:Uusia ja vanhoja pelejä ja leikkejä sisällä ja ulkona.
URL:https://kalenteri.niemikoti.fi/tapahtuma/pelit-ja-leikit-2/2024-04-24/
LOCATION:Toimintakeskus Villa Borgis\, Linnavuorentie 13\, Helsinki\, 00950\, Finland
CATEGORIES:Toimintakeskus Villa Borgis
END:VEVENT
BEGIN:VEVENT
DTSTART;TZID=Europe/Helsinki:20240424T130000
DTEND;TZID=Europe/Helsinki:20240424T143000
DTSTAMP:20260422T181310
CREATED:20240103T134956Z
LAST-MODIFIED:20240912T102443Z
UID:10004842-1713963600-1713969000@kalenteri.niemikoti.fi
SUMMARY:Taide & käsityö -ryhmä Malmilla
DESCRIPTION:Kuvataidetta ja käsitöitä vaihtuvin teemoin ja tekniikoin. Max. 8 osallistujaa\, ilmoittaudu mukaan!
URL:https://kalenteri.niemikoti.fi/tapahtuma/kuvis-ja-kasityo-ryhma-malmilla/2024-04-24/
LOCATION:Malmin päivätoimintakeskus\, Vanha Helsingintie 9\, Helsinki\, 00700\, Finland
CATEGORIES:Malmin päivätoimintakeskus
END:VEVENT
BEGIN:VEVENT
DTSTART;TZID=Europe/Helsinki:20240424T130000
DTEND;TZID=Europe/Helsinki:20240424T150000
DTSTAMP:20260422T181310
CREATED:20240112T082706Z
LAST-MODIFIED:20240708T061422Z
UID:10004919-1713963600-1713970800@kalenteri.niemikoti.fi
SUMMARY:Viherpeukalot
DESCRIPTION:Siementen kylvämistä\, kasvien hoitoa\, viherpeukalointia sisällä ja ulkona Villa Borgiksen puutarhassa. Laita yllesi vaatteet\, jotka eivät säikähdä likaantumista. Käsineet ja työvälineet talon puolesta\, myös kumisaappaita löytyy lainaksi.
URL:https://kalenteri.niemikoti.fi/tapahtuma/viherpeukalot-2/2024-04-24/
LOCATION:Toimintakeskus Villa Borgis\, Linnavuorentie 13\, Helsinki\, 00950\, Finland
CATEGORIES:Toimintakeskus Villa Borgis
END:VEVENT
BEGIN:VEVENT
DTSTART;TZID=Europe/Helsinki:20240424T130000
DTEND;TZID=Europe/Helsinki:20240424T150000
DTSTAMP:20260422T181310
CREATED:20240423T063942Z
LAST-MODIFIED:20240423T063942Z
UID:10010596-1713963600-1713970800@kalenteri.niemikoti.fi
SUMMARY:CV-PAJA
DESCRIPTION:Saat tukea CV:si tekemiseen tai päivittämiseen. Pohditaan yhdessä osaamistasi ja vahvuuksiasi ja tuodaan ne esille. Opit käyttämään CV:n tekemiseen erilaisia mallipohjia tai luomaan ihan oman. Jos sinulla on työ-\, koulu- tai kurssitodistuksia\, ota ne mukaan. Jos sinulta puuttuu työhistoriaa tai koulutus\, sekään ei haittaa. Taitoja ja vahvuuksia kertyy niin paljon muustakin! Ei ennakkoilmoittautumista\, tule vain paikalle :).
URL:https://kalenteri.niemikoti.fi/tapahtuma/cv-paja-3/2024-04-24/
LOCATION:Valtti Valmennus\, Elimäenkatu 26\, Helsinki\, 00510\, Finland
CATEGORIES:Valtti Valmennus
ATTACH;FMTTYPE=image/png:https://kalenteri.niemikoti.fi/wp-content/uploads/2024/04/cv-paja-2.png
END:VEVENT
BEGIN:VEVENT
DTSTART;TZID=Europe/Helsinki:20240424T140000
DTEND;TZID=Europe/Helsinki:20240424T143000
DTSTAMP:20260422T181310
CREATED:20230607T051246Z
LAST-MODIFIED:20250107T131756Z
UID:10013966-1713967200-1713969000@kalenteri.niemikoti.fi
SUMMARY:Yhteisöpäivän päiväkahvit
DESCRIPTION:Päiväkahvit kuuluvat aamiaisen ja/tai lounaan hintaan\, muuten 1 €.
URL:https://kalenteri.niemikoti.fi/tapahtuma/yhteisopaivan-paivakahvit/2024-04-24/
LOCATION:Toimintakeskus Villa Borgis\, Linnavuorentie 13\, Helsinki\, 00950\, Finland
CATEGORIES:Toimintakeskus Villa Borgis
END:VEVENT
BEGIN:VEVENT
DTSTART;TZID=Europe/Helsinki:20240425T110000
DTEND;TZID=Europe/Helsinki:20240425T120000
DTSTAMP:20260422T181310
CREATED:20231110T103101Z
LAST-MODIFIED:20240911T111654Z
UID:10010639-1714042800-1714046400@kalenteri.niemikoti.fi
SUMMARY:Rento jooga Malmilla
DESCRIPTION:Lempeää ja helppoa venyttelyä sekä rentoutusta. Täydentyvä ryhmä\, ilmoittaudu mukaan!
URL:https://kalenteri.niemikoti.fi/tapahtuma/jooga-malmilla/2024-04-25/
LOCATION:Malmin päivätoimintakeskus\, Vanha Helsingintie 9\, Helsinki\, 00700\, Finland
CATEGORIES:Malmin päivätoimintakeskus
END:VEVENT
BEGIN:VEVENT
DTSTART;TZID=Europe/Helsinki:20240425T110000
DTEND;TZID=Europe/Helsinki:20240425T120000
DTSTAMP:20260422T181310
CREATED:20240125T131132Z
LAST-MODIFIED:20240408T123339Z
UID:10006026-1714042800-1714046400@kalenteri.niemikoti.fi
SUMMARY:Morning Coffee in english
DESCRIPTION:Opitaan ja pidetään yllä englannin kielen taitoa yhdessä keskustellen. Sopii kaikille kiinnostuneille\, ei taitotasovaatimuksia. \nConversation in English. No skill level requirements. \n 
URL:https://kalenteri.niemikoti.fi/tapahtuma/morning-coffee-in-english/2024-04-25/
LOCATION:Toimintakeskus Villa Borgis\, Linnavuorentie 13\, Helsinki\, 00950\, Finland
CATEGORIES:Toimintakeskus Villa Borgis
END:VEVENT
BEGIN:VEVENT
DTSTART;TZID=Europe/Helsinki:20240425T130000
DTEND;TZID=Europe/Helsinki:20240425T143000
DTSTAMP:20260422T181310
CREATED:20240325T104030Z
LAST-MODIFIED:20240408T090826Z
UID:10006776-1714050000-1714055400@kalenteri.niemikoti.fi
SUMMARY:TYÖELÄMÄ-ryhmä
DESCRIPTION:Aiheena Helsingin Työllisyyspalvelut ja työnteko eläkkeensaajana. Tule kuulemaan\, millaisia mahdollisuuksia työllistymisen edistämiseksi avautuu Työllisyyspalvelujen asiakkaana. Jutellaan myös siitä\, miten sovittaa tulonsa etuuksiin.
URL:https://kalenteri.niemikoti.fi/tapahtuma/tyoelama-ryhma-3/2024-04-25/
LOCATION:Valtti Valmennus\, Elimäenkatu 26\, Helsinki\, 00510\, Finland
CATEGORIES:Valtti Valmennus
END:VEVENT
BEGIN:VEVENT
DTSTART;TZID=Europe/Helsinki:20240425T140000
DTEND;TZID=Europe/Helsinki:20240425T153000
DTSTAMP:20260422T181310
CREATED:20240318T130645Z
LAST-MODIFIED:20240318T130645Z
UID:10006768-1714053600-1714059000@kalenteri.niemikoti.fi
SUMMARY:Kaupunkiviljelyinfo Malmilla
DESCRIPTION:Kaupunkiviljelyryhmän esittely Perho Liiketalousopiston Malmin toimipisteen auditoriossa (Osoite Vanha Helsingintie 13). Niemikotisäätiön ja Green City Farmin kaupunkiviljelyryhmät pyörähtävät taas käyntiin toukokuun alusta alkaen. Tule kuuntelemaan mitä kaupunkiviljely tarkoittaa ja mitä mukavaa luontolähtöistä tekemistä ryhmä voisi sinulle tarjota.
URL:https://kalenteri.niemikoti.fi/tapahtuma/kaupunkiviljelyinfo-malmilla/
LOCATION:Green City Farm c/o Perho Liiketalousopisto\, Vanha Helsingintie 13\, Helsinki\, 00700
CATEGORIES:Kulttuuripaja ELVIS,Malmin päivätoimintakeskus,Toimintakeskus Villa Borgis
END:VEVENT
BEGIN:VEVENT
DTSTART;TZID=Europe/Helsinki:20240425T140000
DTEND;TZID=Europe/Helsinki:20240425T153000
DTSTAMP:20260422T181310
CREATED:20240403T072500Z
LAST-MODIFIED:20240403T072500Z
UID:10006780-1714053600-1714059000@kalenteri.niemikoti.fi
SUMMARY:Green City Farm -info
DESCRIPTION:Kaupunkiviljelyryhmän esittely Perhon liiketalousopistolla. Ilmoittaudu mukaan!
URL:https://kalenteri.niemikoti.fi/tapahtuma/green-city-farm-info/
LOCATION:Green City Farm c/o Perho Liiketalousopisto\, Vanha Helsingintie 13\, Helsinki\, 00700
CATEGORIES:Malmin päivätoimintakeskus
END:VEVENT
BEGIN:VEVENT
DTSTART;TZID=Europe/Helsinki:20240426T090000
DTEND;TZID=Europe/Helsinki:20240426T130000
DTSTAMP:20260422T181310
CREATED:20230823T123530Z
LAST-MODIFIED:20240528T092233Z
UID:10004491-1714122000-1714136400@kalenteri.niemikoti.fi
SUMMARY:Yhteisöpäivä Malmilla klo 9-14
DESCRIPTION:Yhteisöpäivä\, Malmin päivätoimintakeskus auki klo 9-14. Ilmoittaudu mukaan!
URL:https://kalenteri.niemikoti.fi/tapahtuma/yhteisopaiva-malmilla-klo-9-13-5/2024-04-26/
LOCATION:Malmin päivätoimintakeskus\, Vanha Helsingintie 9\, Helsinki\, 00700\, Finland
CATEGORIES:Malmin päivätoimintakeskus
END:VEVENT
BEGIN:VEVENT
DTSTART;TZID=Europe/Helsinki:20240426T100000
DTEND;TZID=Europe/Helsinki:20240426T103000
DTSTAMP:20260422T181310
CREATED:20230823T123714Z
LAST-MODIFIED:20240528T092313Z
UID:10004517-1714125600-1714127400@kalenteri.niemikoti.fi
SUMMARY:Yhteisöpäivän aamukokous Malmilla
DESCRIPTION:Yhteisöpäivän aamukokouksessa käydään läpi päivän ohjelma\, tulevat tapahtumat ja kuulumiskierros.
URL:https://kalenteri.niemikoti.fi/tapahtuma/yhteisopaivan-aamukokous-malmilla-4/2024-04-26/
LOCATION:Malmin päivätoimintakeskus\, Vanha Helsingintie 9\, Helsinki\, 00700\, Finland
CATEGORIES:Malmin päivätoimintakeskus
END:VEVENT
END:VCALENDAR