BEGIN:VCALENDAR
VERSION:2.0
PRODID:-//Tapahtumakalenteri - ECPv6.15.18//NONSGML v1.0//EN
CALSCALE:GREGORIAN
METHOD:PUBLISH
X-WR-CALNAME:Tapahtumakalenteri
X-ORIGINAL-URL:https://kalenteri.niemikoti.fi
X-WR-CALDESC:Tapahtumat Tapahtumakalenteri
REFRESH-INTERVAL;VALUE=DURATION:PT1H
X-Robots-Tag:noindex
X-PUBLISHED-TTL:PT1H
BEGIN:VTIMEZONE
TZID:Europe/Helsinki
BEGIN:DAYLIGHT
TZOFFSETFROM:+0200
TZOFFSETTO:+0300
TZNAME:EEST
DTSTART:20250330T010000
END:DAYLIGHT
BEGIN:STANDARD
TZOFFSETFROM:+0300
TZOFFSETTO:+0200
TZNAME:EET
DTSTART:20251026T010000
END:STANDARD
BEGIN:DAYLIGHT
TZOFFSETFROM:+0200
TZOFFSETTO:+0300
TZNAME:EEST
DTSTART:20260329T010000
END:DAYLIGHT
BEGIN:STANDARD
TZOFFSETFROM:+0300
TZOFFSETTO:+0200
TZNAME:EET
DTSTART:20261025T010000
END:STANDARD
BEGIN:DAYLIGHT
TZOFFSETFROM:+0200
TZOFFSETTO:+0300
TZNAME:EEST
DTSTART:20270328T010000
END:DAYLIGHT
BEGIN:STANDARD
TZOFFSETFROM:+0300
TZOFFSETTO:+0200
TZNAME:EET
DTSTART:20271031T010000
END:STANDARD
END:VTIMEZONE
BEGIN:VEVENT
DTSTART;TZID=Europe/Helsinki:20260427T103000
DTEND;TZID=Europe/Helsinki:20260427T120000
DTSTAMP:20260423T172354
CREATED:20240814T064605Z
LAST-MODIFIED:20260331T080702Z
UID:10025421-1777285800-1777291200@kalenteri.niemikoti.fi
SUMMARY:Talon töitä
DESCRIPTION:Yhteisön yhteisiä talon töitä; siivousta\, pihatöitä\, keittiötöitä\, sisustusta yms.
URL:https://kalenteri.niemikoti.fi/tapahtuma/talon-toita-3/2026-04-27/
LOCATION:Toimintakeskus Villa Borgis\, Linnavuorentie 13\, Helsinki\, 00950\, Finland
CATEGORIES:Toimintakeskus Villa Borgis
END:VEVENT
BEGIN:VEVENT
DTSTART;TZID=Europe/Helsinki:20260504T103000
DTEND;TZID=Europe/Helsinki:20260504T120000
DTSTAMP:20260423T172354
CREATED:20240814T064605Z
LAST-MODIFIED:20260331T080702Z
UID:10025422-1777890600-1777896000@kalenteri.niemikoti.fi
SUMMARY:Talon töitä
DESCRIPTION:Yhteisön yhteisiä talon töitä; siivousta\, pihatöitä\, keittiötöitä\, sisustusta yms.
URL:https://kalenteri.niemikoti.fi/tapahtuma/talon-toita-3/2026-05-04/
LOCATION:Toimintakeskus Villa Borgis\, Linnavuorentie 13\, Helsinki\, 00950\, Finland
CATEGORIES:Toimintakeskus Villa Borgis
END:VEVENT
BEGIN:VEVENT
DTSTART;TZID=Europe/Helsinki:20260506T103000
DTEND;TZID=Europe/Helsinki:20260506T120000
DTSTAMP:20260423T172354
CREATED:20260421T093010Z
LAST-MODIFIED:20260421T134255Z
UID:10037590-1778063400-1778068800@kalenteri.niemikoti.fi
SUMMARY:Soppakokit
DESCRIPTION:Tehdään yhdessä ruokaa. Ruoan hinta osallistujille 2 €.
URL:https://kalenteri.niemikoti.fi/tapahtuma/soppakokit-13/2026-05-06/
LOCATION:Toimintakeskus Villa Borgis\, Linnavuorentie 13\, Helsinki\, 00950\, Finland
CATEGORIES:Toimintakeskus Villa Borgis
END:VEVENT
BEGIN:VEVENT
DTSTART;TZID=Europe/Helsinki:20260511T103000
DTEND;TZID=Europe/Helsinki:20260511T120000
DTSTAMP:20260423T172354
CREATED:20240814T064605Z
LAST-MODIFIED:20260331T080702Z
UID:10025423-1778495400-1778500800@kalenteri.niemikoti.fi
SUMMARY:Talon töitä
DESCRIPTION:Yhteisön yhteisiä talon töitä; siivousta\, pihatöitä\, keittiötöitä\, sisustusta yms.
URL:https://kalenteri.niemikoti.fi/tapahtuma/talon-toita-3/2026-05-11/
LOCATION:Toimintakeskus Villa Borgis\, Linnavuorentie 13\, Helsinki\, 00950\, Finland
CATEGORIES:Toimintakeskus Villa Borgis
END:VEVENT
BEGIN:VEVENT
DTSTART;TZID=Europe/Helsinki:20260513T103000
DTEND;TZID=Europe/Helsinki:20260513T120000
DTSTAMP:20260423T172354
CREATED:20260421T093010Z
LAST-MODIFIED:20260421T134255Z
UID:10037591-1778668200-1778673600@kalenteri.niemikoti.fi
SUMMARY:Soppakokit
DESCRIPTION:Tehdään yhdessä ruokaa. Ruoan hinta osallistujille 2 €.
URL:https://kalenteri.niemikoti.fi/tapahtuma/soppakokit-13/2026-05-13/
LOCATION:Toimintakeskus Villa Borgis\, Linnavuorentie 13\, Helsinki\, 00950\, Finland
CATEGORIES:Toimintakeskus Villa Borgis
END:VEVENT
BEGIN:VEVENT
DTSTART;TZID=Europe/Helsinki:20260518T103000
DTEND;TZID=Europe/Helsinki:20260518T120000
DTSTAMP:20260423T172354
CREATED:20240814T064605Z
LAST-MODIFIED:20260331T080702Z
UID:10025424-1779100200-1779105600@kalenteri.niemikoti.fi
SUMMARY:Talon töitä
DESCRIPTION:Yhteisön yhteisiä talon töitä; siivousta\, pihatöitä\, keittiötöitä\, sisustusta yms.
URL:https://kalenteri.niemikoti.fi/tapahtuma/talon-toita-3/2026-05-18/
LOCATION:Toimintakeskus Villa Borgis\, Linnavuorentie 13\, Helsinki\, 00950\, Finland
CATEGORIES:Toimintakeskus Villa Borgis
END:VEVENT
BEGIN:VEVENT
DTSTART;TZID=Europe/Helsinki:20260520T103000
DTEND;TZID=Europe/Helsinki:20260520T120000
DTSTAMP:20260423T172354
CREATED:20260421T093010Z
LAST-MODIFIED:20260421T134255Z
UID:10037592-1779273000-1779278400@kalenteri.niemikoti.fi
SUMMARY:Soppakokit
DESCRIPTION:Tehdään yhdessä ruokaa. Ruoan hinta osallistujille 2 €.
URL:https://kalenteri.niemikoti.fi/tapahtuma/soppakokit-13/2026-05-20/
LOCATION:Toimintakeskus Villa Borgis\, Linnavuorentie 13\, Helsinki\, 00950\, Finland
CATEGORIES:Toimintakeskus Villa Borgis
END:VEVENT
BEGIN:VEVENT
DTSTART;TZID=Europe/Helsinki:20260525T103000
DTEND;TZID=Europe/Helsinki:20260525T120000
DTSTAMP:20260423T172354
CREATED:20240814T064605Z
LAST-MODIFIED:20260331T080702Z
UID:10025425-1779705000-1779710400@kalenteri.niemikoti.fi
SUMMARY:Talon töitä
DESCRIPTION:Yhteisön yhteisiä talon töitä; siivousta\, pihatöitä\, keittiötöitä\, sisustusta yms.
URL:https://kalenteri.niemikoti.fi/tapahtuma/talon-toita-3/2026-05-25/
LOCATION:Toimintakeskus Villa Borgis\, Linnavuorentie 13\, Helsinki\, 00950\, Finland
CATEGORIES:Toimintakeskus Villa Borgis
END:VEVENT
BEGIN:VEVENT
DTSTART;TZID=Europe/Helsinki:20260527T103000
DTEND;TZID=Europe/Helsinki:20260527T120000
DTSTAMP:20260423T172354
CREATED:20260421T093010Z
LAST-MODIFIED:20260421T134255Z
UID:10037593-1779877800-1779883200@kalenteri.niemikoti.fi
SUMMARY:Soppakokit
DESCRIPTION:Tehdään yhdessä ruokaa. Ruoan hinta osallistujille 2 €.
URL:https://kalenteri.niemikoti.fi/tapahtuma/soppakokit-13/2026-05-27/
LOCATION:Toimintakeskus Villa Borgis\, Linnavuorentie 13\, Helsinki\, 00950\, Finland
CATEGORIES:Toimintakeskus Villa Borgis
END:VEVENT
BEGIN:VEVENT
DTSTART;TZID=Europe/Helsinki:20260603T103000
DTEND;TZID=Europe/Helsinki:20260603T120000
DTSTAMP:20260423T172354
CREATED:20260421T093010Z
LAST-MODIFIED:20260421T134255Z
UID:10037594-1780482600-1780488000@kalenteri.niemikoti.fi
SUMMARY:Soppakokit
DESCRIPTION:Tehdään yhdessä ruokaa. Ruoan hinta osallistujille 2 €.
URL:https://kalenteri.niemikoti.fi/tapahtuma/soppakokit-13/2026-06-03/
LOCATION:Toimintakeskus Villa Borgis\, Linnavuorentie 13\, Helsinki\, 00950\, Finland
CATEGORIES:Toimintakeskus Villa Borgis
END:VEVENT
BEGIN:VEVENT
DTSTART;TZID=Europe/Helsinki:20260610T103000
DTEND;TZID=Europe/Helsinki:20260610T120000
DTSTAMP:20260423T172354
CREATED:20260421T093010Z
LAST-MODIFIED:20260421T134255Z
UID:10037595-1781087400-1781092800@kalenteri.niemikoti.fi
SUMMARY:Soppakokit
DESCRIPTION:Tehdään yhdessä ruokaa. Ruoan hinta osallistujille 2 €.
URL:https://kalenteri.niemikoti.fi/tapahtuma/soppakokit-13/2026-06-10/
LOCATION:Toimintakeskus Villa Borgis\, Linnavuorentie 13\, Helsinki\, 00950\, Finland
CATEGORIES:Toimintakeskus Villa Borgis
END:VEVENT
BEGIN:VEVENT
DTSTART;TZID=Europe/Helsinki:20260617T103000
DTEND;TZID=Europe/Helsinki:20260617T120000
DTSTAMP:20260423T172354
CREATED:20260421T093010Z
LAST-MODIFIED:20260421T134255Z
UID:10037596-1781692200-1781697600@kalenteri.niemikoti.fi
SUMMARY:Soppakokit
DESCRIPTION:Tehdään yhdessä ruokaa. Ruoan hinta osallistujille 2 €.
URL:https://kalenteri.niemikoti.fi/tapahtuma/soppakokit-13/2026-06-17/
LOCATION:Toimintakeskus Villa Borgis\, Linnavuorentie 13\, Helsinki\, 00950\, Finland
CATEGORIES:Toimintakeskus Villa Borgis
END:VEVENT
BEGIN:VEVENT
DTSTART;TZID=Europe/Helsinki:20260624T103000
DTEND;TZID=Europe/Helsinki:20260624T120000
DTSTAMP:20260423T172354
CREATED:20260421T093010Z
LAST-MODIFIED:20260421T134255Z
UID:10037597-1782297000-1782302400@kalenteri.niemikoti.fi
SUMMARY:Soppakokit
DESCRIPTION:Tehdään yhdessä ruokaa. Ruoan hinta osallistujille 2 €.
URL:https://kalenteri.niemikoti.fi/tapahtuma/soppakokit-13/2026-06-24/
LOCATION:Toimintakeskus Villa Borgis\, Linnavuorentie 13\, Helsinki\, 00950\, Finland
CATEGORIES:Toimintakeskus Villa Borgis
END:VEVENT
BEGIN:VEVENT
DTSTART;TZID=Europe/Helsinki:20260701T103000
DTEND;TZID=Europe/Helsinki:20260701T120000
DTSTAMP:20260423T172354
CREATED:20260421T093010Z
LAST-MODIFIED:20260421T134255Z
UID:10037598-1782901800-1782907200@kalenteri.niemikoti.fi
SUMMARY:Soppakokit
DESCRIPTION:Tehdään yhdessä ruokaa. Ruoan hinta osallistujille 2 €.
URL:https://kalenteri.niemikoti.fi/tapahtuma/soppakokit-13/2026-07-01/
LOCATION:Toimintakeskus Villa Borgis\, Linnavuorentie 13\, Helsinki\, 00950\, Finland
CATEGORIES:Toimintakeskus Villa Borgis
END:VEVENT
BEGIN:VEVENT
DTSTART;TZID=Europe/Helsinki:20260708T103000
DTEND;TZID=Europe/Helsinki:20260708T120000
DTSTAMP:20260423T172354
CREATED:20260421T093010Z
LAST-MODIFIED:20260421T134255Z
UID:10037599-1783506600-1783512000@kalenteri.niemikoti.fi
SUMMARY:Soppakokit
DESCRIPTION:Tehdään yhdessä ruokaa. Ruoan hinta osallistujille 2 €.
URL:https://kalenteri.niemikoti.fi/tapahtuma/soppakokit-13/2026-07-08/
LOCATION:Toimintakeskus Villa Borgis\, Linnavuorentie 13\, Helsinki\, 00950\, Finland
CATEGORIES:Toimintakeskus Villa Borgis
END:VEVENT
BEGIN:VEVENT
DTSTART;TZID=Europe/Helsinki:20260715T103000
DTEND;TZID=Europe/Helsinki:20260715T120000
DTSTAMP:20260423T172354
CREATED:20260421T093010Z
LAST-MODIFIED:20260421T134255Z
UID:10037600-1784111400-1784116800@kalenteri.niemikoti.fi
SUMMARY:Soppakokit
DESCRIPTION:Tehdään yhdessä ruokaa. Ruoan hinta osallistujille 2 €.
URL:https://kalenteri.niemikoti.fi/tapahtuma/soppakokit-13/2026-07-15/
LOCATION:Toimintakeskus Villa Borgis\, Linnavuorentie 13\, Helsinki\, 00950\, Finland
CATEGORIES:Toimintakeskus Villa Borgis
END:VEVENT
BEGIN:VEVENT
DTSTART;TZID=Europe/Helsinki:20260722T103000
DTEND;TZID=Europe/Helsinki:20260722T120000
DTSTAMP:20260423T172354
CREATED:20260421T093010Z
LAST-MODIFIED:20260421T134255Z
UID:10037601-1784716200-1784721600@kalenteri.niemikoti.fi
SUMMARY:Soppakokit
DESCRIPTION:Tehdään yhdessä ruokaa. Ruoan hinta osallistujille 2 €.
URL:https://kalenteri.niemikoti.fi/tapahtuma/soppakokit-13/2026-07-22/
LOCATION:Toimintakeskus Villa Borgis\, Linnavuorentie 13\, Helsinki\, 00950\, Finland
CATEGORIES:Toimintakeskus Villa Borgis
END:VEVENT
BEGIN:VEVENT
DTSTART;TZID=Europe/Helsinki:20260729T103000
DTEND;TZID=Europe/Helsinki:20260729T120000
DTSTAMP:20260423T172354
CREATED:20260421T093010Z
LAST-MODIFIED:20260421T134255Z
UID:10037602-1785321000-1785326400@kalenteri.niemikoti.fi
SUMMARY:Soppakokit
DESCRIPTION:Tehdään yhdessä ruokaa. Ruoan hinta osallistujille 2 €.
URL:https://kalenteri.niemikoti.fi/tapahtuma/soppakokit-13/2026-07-29/
LOCATION:Toimintakeskus Villa Borgis\, Linnavuorentie 13\, Helsinki\, 00950\, Finland
CATEGORIES:Toimintakeskus Villa Borgis
END:VEVENT
BEGIN:VEVENT
DTSTART;TZID=Europe/Helsinki:20260805T103000
DTEND;TZID=Europe/Helsinki:20260805T120000
DTSTAMP:20260423T172354
CREATED:20260421T093010Z
LAST-MODIFIED:20260421T134255Z
UID:10037603-1785925800-1785931200@kalenteri.niemikoti.fi
SUMMARY:Soppakokit
DESCRIPTION:Tehdään yhdessä ruokaa. Ruoan hinta osallistujille 2 €.
URL:https://kalenteri.niemikoti.fi/tapahtuma/soppakokit-13/2026-08-05/
LOCATION:Toimintakeskus Villa Borgis\, Linnavuorentie 13\, Helsinki\, 00950\, Finland
CATEGORIES:Toimintakeskus Villa Borgis
END:VEVENT
BEGIN:VEVENT
DTSTART;TZID=Europe/Helsinki:20260812T103000
DTEND;TZID=Europe/Helsinki:20260812T120000
DTSTAMP:20260423T172354
CREATED:20260421T093010Z
LAST-MODIFIED:20260421T134255Z
UID:10037604-1786530600-1786536000@kalenteri.niemikoti.fi
SUMMARY:Soppakokit
DESCRIPTION:Tehdään yhdessä ruokaa. Ruoan hinta osallistujille 2 €.
URL:https://kalenteri.niemikoti.fi/tapahtuma/soppakokit-13/2026-08-12/
LOCATION:Toimintakeskus Villa Borgis\, Linnavuorentie 13\, Helsinki\, 00950\, Finland
CATEGORIES:Toimintakeskus Villa Borgis
END:VEVENT
BEGIN:VEVENT
DTSTART;TZID=Europe/Helsinki:20260819T103000
DTEND;TZID=Europe/Helsinki:20260819T120000
DTSTAMP:20260423T172354
CREATED:20260421T093010Z
LAST-MODIFIED:20260421T134255Z
UID:10037605-1787135400-1787140800@kalenteri.niemikoti.fi
SUMMARY:Soppakokit
DESCRIPTION:Tehdään yhdessä ruokaa. Ruoan hinta osallistujille 2 €.
URL:https://kalenteri.niemikoti.fi/tapahtuma/soppakokit-13/2026-08-19/
LOCATION:Toimintakeskus Villa Borgis\, Linnavuorentie 13\, Helsinki\, 00950\, Finland
CATEGORIES:Toimintakeskus Villa Borgis
END:VEVENT
BEGIN:VEVENT
DTSTART;TZID=Europe/Helsinki:20260826T103000
DTEND;TZID=Europe/Helsinki:20260826T120000
DTSTAMP:20260423T172354
CREATED:20260421T093010Z
LAST-MODIFIED:20260421T134255Z
UID:10037606-1787740200-1787745600@kalenteri.niemikoti.fi
SUMMARY:Soppakokit
DESCRIPTION:Tehdään yhdessä ruokaa. Ruoan hinta osallistujille 2 €.
URL:https://kalenteri.niemikoti.fi/tapahtuma/soppakokit-13/2026-08-26/
LOCATION:Toimintakeskus Villa Borgis\, Linnavuorentie 13\, Helsinki\, 00950\, Finland
CATEGORIES:Toimintakeskus Villa Borgis
END:VEVENT
BEGIN:VEVENT
DTSTART;TZID=Europe/Helsinki:20260902T103000
DTEND;TZID=Europe/Helsinki:20260902T120000
DTSTAMP:20260423T172354
CREATED:20260421T093010Z
LAST-MODIFIED:20260421T134255Z
UID:10037607-1788345000-1788350400@kalenteri.niemikoti.fi
SUMMARY:Soppakokit
DESCRIPTION:Tehdään yhdessä ruokaa. Ruoan hinta osallistujille 2 €.
URL:https://kalenteri.niemikoti.fi/tapahtuma/soppakokit-13/2026-09-02/
LOCATION:Toimintakeskus Villa Borgis\, Linnavuorentie 13\, Helsinki\, 00950\, Finland
CATEGORIES:Toimintakeskus Villa Borgis
END:VEVENT
BEGIN:VEVENT
DTSTART;TZID=Europe/Helsinki:20260909T103000
DTEND;TZID=Europe/Helsinki:20260909T120000
DTSTAMP:20260423T172354
CREATED:20260421T093010Z
LAST-MODIFIED:20260421T134255Z
UID:10037608-1788949800-1788955200@kalenteri.niemikoti.fi
SUMMARY:Soppakokit
DESCRIPTION:Tehdään yhdessä ruokaa. Ruoan hinta osallistujille 2 €.
URL:https://kalenteri.niemikoti.fi/tapahtuma/soppakokit-13/2026-09-09/
LOCATION:Toimintakeskus Villa Borgis\, Linnavuorentie 13\, Helsinki\, 00950\, Finland
CATEGORIES:Toimintakeskus Villa Borgis
END:VEVENT
BEGIN:VEVENT
DTSTART;TZID=Europe/Helsinki:20260916T103000
DTEND;TZID=Europe/Helsinki:20260916T120000
DTSTAMP:20260423T172354
CREATED:20260421T093010Z
LAST-MODIFIED:20260421T134255Z
UID:10037609-1789554600-1789560000@kalenteri.niemikoti.fi
SUMMARY:Soppakokit
DESCRIPTION:Tehdään yhdessä ruokaa. Ruoan hinta osallistujille 2 €.
URL:https://kalenteri.niemikoti.fi/tapahtuma/soppakokit-13/2026-09-16/
LOCATION:Toimintakeskus Villa Borgis\, Linnavuorentie 13\, Helsinki\, 00950\, Finland
CATEGORIES:Toimintakeskus Villa Borgis
END:VEVENT
BEGIN:VEVENT
DTSTART;TZID=Europe/Helsinki:20260923T103000
DTEND;TZID=Europe/Helsinki:20260923T120000
DTSTAMP:20260423T172354
CREATED:20260421T093010Z
LAST-MODIFIED:20260421T134255Z
UID:10037610-1790159400-1790164800@kalenteri.niemikoti.fi
SUMMARY:Soppakokit
DESCRIPTION:Tehdään yhdessä ruokaa. Ruoan hinta osallistujille 2 €.
URL:https://kalenteri.niemikoti.fi/tapahtuma/soppakokit-13/2026-09-23/
LOCATION:Toimintakeskus Villa Borgis\, Linnavuorentie 13\, Helsinki\, 00950\, Finland
CATEGORIES:Toimintakeskus Villa Borgis
END:VEVENT
BEGIN:VEVENT
DTSTART;TZID=Europe/Helsinki:20260930T103000
DTEND;TZID=Europe/Helsinki:20260930T120000
DTSTAMP:20260423T172354
CREATED:20260421T093010Z
LAST-MODIFIED:20260421T134255Z
UID:10037611-1790764200-1790769600@kalenteri.niemikoti.fi
SUMMARY:Soppakokit
DESCRIPTION:Tehdään yhdessä ruokaa. Ruoan hinta osallistujille 2 €.
URL:https://kalenteri.niemikoti.fi/tapahtuma/soppakokit-13/2026-09-30/
LOCATION:Toimintakeskus Villa Borgis\, Linnavuorentie 13\, Helsinki\, 00950\, Finland
CATEGORIES:Toimintakeskus Villa Borgis
END:VEVENT
BEGIN:VEVENT
DTSTART;TZID=Europe/Helsinki:20261007T103000
DTEND;TZID=Europe/Helsinki:20261007T120000
DTSTAMP:20260423T172354
CREATED:20260421T093010Z
LAST-MODIFIED:20260421T134255Z
UID:10037612-1791369000-1791374400@kalenteri.niemikoti.fi
SUMMARY:Soppakokit
DESCRIPTION:Tehdään yhdessä ruokaa. Ruoan hinta osallistujille 2 €.
URL:https://kalenteri.niemikoti.fi/tapahtuma/soppakokit-13/2026-10-07/
LOCATION:Toimintakeskus Villa Borgis\, Linnavuorentie 13\, Helsinki\, 00950\, Finland
CATEGORIES:Toimintakeskus Villa Borgis
END:VEVENT
BEGIN:VEVENT
DTSTART;TZID=Europe/Helsinki:20261014T103000
DTEND;TZID=Europe/Helsinki:20261014T120000
DTSTAMP:20260423T172354
CREATED:20260421T093010Z
LAST-MODIFIED:20260421T134255Z
UID:10037613-1791973800-1791979200@kalenteri.niemikoti.fi
SUMMARY:Soppakokit
DESCRIPTION:Tehdään yhdessä ruokaa. Ruoan hinta osallistujille 2 €.
URL:https://kalenteri.niemikoti.fi/tapahtuma/soppakokit-13/2026-10-14/
LOCATION:Toimintakeskus Villa Borgis\, Linnavuorentie 13\, Helsinki\, 00950\, Finland
CATEGORIES:Toimintakeskus Villa Borgis
END:VEVENT
BEGIN:VEVENT
DTSTART;TZID=Europe/Helsinki:20261021T103000
DTEND;TZID=Europe/Helsinki:20261021T120000
DTSTAMP:20260423T172354
CREATED:20260421T093010Z
LAST-MODIFIED:20260421T134255Z
UID:10037614-1792578600-1792584000@kalenteri.niemikoti.fi
SUMMARY:Soppakokit
DESCRIPTION:Tehdään yhdessä ruokaa. Ruoan hinta osallistujille 2 €.
URL:https://kalenteri.niemikoti.fi/tapahtuma/soppakokit-13/2026-10-21/
LOCATION:Toimintakeskus Villa Borgis\, Linnavuorentie 13\, Helsinki\, 00950\, Finland
CATEGORIES:Toimintakeskus Villa Borgis
END:VEVENT
END:VCALENDAR