BEGIN:VCALENDAR
VERSION:2.0
PRODID:-//Tapahtumakalenteri - ECPv6.15.18//NONSGML v1.0//EN
CALSCALE:GREGORIAN
METHOD:PUBLISH
X-WR-CALNAME:Tapahtumakalenteri
X-ORIGINAL-URL:https://kalenteri.niemikoti.fi
X-WR-CALDESC:Tapahtumat Tapahtumakalenteri
REFRESH-INTERVAL;VALUE=DURATION:PT1H
X-Robots-Tag:noindex
X-PUBLISHED-TTL:PT1H
BEGIN:VTIMEZONE
TZID:Europe/Helsinki
BEGIN:DAYLIGHT
TZOFFSETFROM:+0200
TZOFFSETTO:+0300
TZNAME:EEST
DTSTART:20240331T010000
END:DAYLIGHT
BEGIN:STANDARD
TZOFFSETFROM:+0300
TZOFFSETTO:+0200
TZNAME:EET
DTSTART:20241027T010000
END:STANDARD
BEGIN:DAYLIGHT
TZOFFSETFROM:+0200
TZOFFSETTO:+0300
TZNAME:EEST
DTSTART:20250330T010000
END:DAYLIGHT
BEGIN:STANDARD
TZOFFSETFROM:+0300
TZOFFSETTO:+0200
TZNAME:EET
DTSTART:20251026T010000
END:STANDARD
BEGIN:DAYLIGHT
TZOFFSETFROM:+0200
TZOFFSETTO:+0300
TZNAME:EEST
DTSTART:20260329T010000
END:DAYLIGHT
BEGIN:STANDARD
TZOFFSETFROM:+0300
TZOFFSETTO:+0200
TZNAME:EET
DTSTART:20261025T010000
END:STANDARD
END:VTIMEZONE
BEGIN:VEVENT
DTSTART;TZID=Europe/Helsinki:20251201T103000
DTEND;TZID=Europe/Helsinki:20251201T110000
DTSTAMP:20260423T144411
CREATED:20250810T184113Z
LAST-MODIFIED:20250902T085538Z
UID:10024046-1764585000-1764586800@kalenteri.niemikoti.fi
SUMMARY:Talon töitä
DESCRIPTION:Tehdään yhdessä yhteisön yhteisiä talon töitä esimerkiksi ruuanlaitossa avustaminen\, tiskikoneen tyhjennys\, viherkasvien kastelu ja pyykkien pesu\, ripustus ja viikkaaminen. Syksyllä haravointia\, talvella lumitöitä\, keväällä ja kesällä istutusten huoltoa ja kastelua.
URL:https://kalenteri.niemikoti.fi/tapahtuma/talon-toita-6/2025-12-01/
LOCATION:Malmin päivätoimintakeskus\, Vanha Helsingintie 9\, Helsinki\, 00700\, Finland
CATEGORIES:Malmin päivätoimintakeskus
END:VEVENT
BEGIN:VEVENT
DTSTART;TZID=Europe/Helsinki:20251201T103000
DTEND;TZID=Europe/Helsinki:20251201T120000
DTSTAMP:20260423T144411
CREATED:20240814T064605Z
LAST-MODIFIED:20260331T080702Z
UID:10022664-1764585000-1764590400@kalenteri.niemikoti.fi
SUMMARY:Talon töitä
DESCRIPTION:Yhteisön yhteisiä talon töitä; siivousta\, pihatöitä\, keittiötöitä\, sisustusta yms.
URL:https://kalenteri.niemikoti.fi/tapahtuma/talon-toita-3/2025-12-01/
LOCATION:Toimintakeskus Villa Borgis\, Linnavuorentie 13\, Helsinki\, 00950\, Finland
CATEGORIES:Toimintakeskus Villa Borgis
END:VEVENT
BEGIN:VEVENT
DTSTART;TZID=Europe/Helsinki:20251201T110000
DTEND;TZID=Europe/Helsinki:20251201T120000
DTSTAMP:20260423T144411
CREATED:20251202T180445Z
LAST-MODIFIED:20251202T180445Z
UID:10025643-1764586800-1764590400@kalenteri.niemikoti.fi
SUMMARY:Leivontaryhmä
DESCRIPTION:Leivotaan yhdessä esimerkiksi keksejä\, muffinsseja\, pullaa tai sämpylöitä. \nTäydentyvä ryhmä\, ilmoittaudu mukaan!
URL:https://kalenteri.niemikoti.fi/tapahtuma/leivontaryhma-5/2025-12-01/
LOCATION:Malmin päivätoimintakeskus\, Vanha Helsingintie 9\, Helsinki\, 00700\, Finland
CATEGORIES:Malmin päivätoimintakeskus
ATTACH;FMTTYPE=image/jpeg:https://kalenteri.niemikoti.fi/wp-content/uploads/2025/12/Leivontaryhma.jpg
END:VEVENT
BEGIN:VEVENT
DTSTART;TZID=Europe/Helsinki:20251202T103000
DTEND;TZID=Europe/Helsinki:20251202T110000
DTSTAMP:20260423T144411
CREATED:20250810T184113Z
LAST-MODIFIED:20250902T085538Z
UID:10024047-1764671400-1764673200@kalenteri.niemikoti.fi
SUMMARY:Talon töitä
DESCRIPTION:Tehdään yhdessä yhteisön yhteisiä talon töitä esimerkiksi ruuanlaitossa avustaminen\, tiskikoneen tyhjennys\, viherkasvien kastelu ja pyykkien pesu\, ripustus ja viikkaaminen. Syksyllä haravointia\, talvella lumitöitä\, keväällä ja kesällä istutusten huoltoa ja kastelua.
URL:https://kalenteri.niemikoti.fi/tapahtuma/talon-toita-6/2025-12-02/
LOCATION:Malmin päivätoimintakeskus\, Vanha Helsingintie 9\, Helsinki\, 00700\, Finland
CATEGORIES:Malmin päivätoimintakeskus
END:VEVENT
BEGIN:VEVENT
DTSTART;TZID=Europe/Helsinki:20251203T103000
DTEND;TZID=Europe/Helsinki:20251203T110000
DTSTAMP:20260423T144411
CREATED:20250810T184113Z
LAST-MODIFIED:20250902T085538Z
UID:10024048-1764757800-1764759600@kalenteri.niemikoti.fi
SUMMARY:Talon töitä
DESCRIPTION:Tehdään yhdessä yhteisön yhteisiä talon töitä esimerkiksi ruuanlaitossa avustaminen\, tiskikoneen tyhjennys\, viherkasvien kastelu ja pyykkien pesu\, ripustus ja viikkaaminen. Syksyllä haravointia\, talvella lumitöitä\, keväällä ja kesällä istutusten huoltoa ja kastelua.
URL:https://kalenteri.niemikoti.fi/tapahtuma/talon-toita-6/2025-12-03/
LOCATION:Malmin päivätoimintakeskus\, Vanha Helsingintie 9\, Helsinki\, 00700\, Finland
CATEGORIES:Malmin päivätoimintakeskus
END:VEVENT
BEGIN:VEVENT
DTSTART;TZID=Europe/Helsinki:20251205T103000
DTEND;TZID=Europe/Helsinki:20251205T110000
DTSTAMP:20260423T144411
CREATED:20250810T184113Z
LAST-MODIFIED:20250902T085538Z
UID:10024049-1764930600-1764932400@kalenteri.niemikoti.fi
SUMMARY:Talon töitä
DESCRIPTION:Tehdään yhdessä yhteisön yhteisiä talon töitä esimerkiksi ruuanlaitossa avustaminen\, tiskikoneen tyhjennys\, viherkasvien kastelu ja pyykkien pesu\, ripustus ja viikkaaminen. Syksyllä haravointia\, talvella lumitöitä\, keväällä ja kesällä istutusten huoltoa ja kastelua.
URL:https://kalenteri.niemikoti.fi/tapahtuma/talon-toita-6/2025-12-05/
LOCATION:Malmin päivätoimintakeskus\, Vanha Helsingintie 9\, Helsinki\, 00700\, Finland
CATEGORIES:Malmin päivätoimintakeskus
END:VEVENT
END:VCALENDAR