BEGIN:VCALENDAR
VERSION:2.0
PRODID:-//Tapahtumakalenteri - ECPv6.15.18//NONSGML v1.0//EN
CALSCALE:GREGORIAN
METHOD:PUBLISH
X-ORIGINAL-URL:https://kalenteri.niemikoti.fi
X-WR-CALDESC:Tapahtumat Tapahtumakalenteri
REFRESH-INTERVAL;VALUE=DURATION:PT1H
X-Robots-Tag:noindex
X-PUBLISHED-TTL:PT1H
BEGIN:VTIMEZONE
TZID:Europe/Helsinki
BEGIN:DAYLIGHT
TZOFFSETFROM:+0200
TZOFFSETTO:+0300
TZNAME:EEST
DTSTART:20220327T010000
END:DAYLIGHT
BEGIN:STANDARD
TZOFFSETFROM:+0300
TZOFFSETTO:+0200
TZNAME:EET
DTSTART:20221030T010000
END:STANDARD
BEGIN:DAYLIGHT
TZOFFSETFROM:+0200
TZOFFSETTO:+0300
TZNAME:EEST
DTSTART:20230326T010000
END:DAYLIGHT
BEGIN:STANDARD
TZOFFSETFROM:+0300
TZOFFSETTO:+0200
TZNAME:EET
DTSTART:20231029T010000
END:STANDARD
BEGIN:DAYLIGHT
TZOFFSETFROM:+0200
TZOFFSETTO:+0300
TZNAME:EEST
DTSTART:20240331T010000
END:DAYLIGHT
BEGIN:STANDARD
TZOFFSETFROM:+0300
TZOFFSETTO:+0200
TZNAME:EET
DTSTART:20241027T010000
END:STANDARD
END:VTIMEZONE
BEGIN:VEVENT
DTSTART;TZID=Europe/Helsinki:20230607T100000
DTEND;TZID=Europe/Helsinki:20230607T110000
DTSTAMP:20260426T004103
CREATED:20230606T124234Z
LAST-MODIFIED:20230607T095154Z
UID:10001153-1686132000-1686135600@kalenteri.niemikoti.fi
SUMMARY:Avoin info Kulttuuripaja Elviksen toiminnasta kiinnostuneille
DESCRIPTION:Avoimessa infossa kerrotaan Kulttuuripaja ELVIKSEN  toiminnasta. Tervetuloa tutustumaan ELVIKSEEN!
URL:https://kalenteri.niemikoti.fi/tapahtuma/avoin-info-kulttuuripaja-elviksen-toiminnasta-kiinnostuneille/
LOCATION:Kulttuuripaja ELVIS\, Lautatarhankatu 4\, Helsinki\, 00580\, Finland
CATEGORIES:Kulttuuripaja ELVIS
END:VEVENT
BEGIN:VEVENT
DTSTART;TZID=Europe/Helsinki:20230811T120000
DTEND;TZID=Europe/Helsinki:20230811T123000
DTSTAMP:20260426T004103
CREATED:20230628T115200Z
LAST-MODIFIED:20250107T132307Z
UID:10001463-1691755200-1691757000@kalenteri.niemikoti.fi
SUMMARY:Avoin info
DESCRIPTION:Tervetuloa tutustumaan taloomme ja toimintaamme! Avoin info on tarkoitettu kaikille toiminnastamme kiinnostuneille (opiskelijat\, ammattilaiset\, toipujat\, omaiset…). Kahvitarjoilu!
URL:https://kalenteri.niemikoti.fi/tapahtuma/avoin-info/2023-08-11/
LOCATION:Toimintakeskus Villa Borgis\, Linnavuorentie 13\, Helsinki\, 00950\, Finland
CATEGORIES:Toimintakeskus Villa Borgis
END:VEVENT
BEGIN:VEVENT
DTSTART;TZID=Europe/Helsinki:20230821T140000
DTEND;TZID=Europe/Helsinki:20230821T150000
DTSTAMP:20260426T004103
CREATED:20230815T054235Z
LAST-MODIFIED:20240109T140543Z
UID:10001835-1692626400-1692630000@kalenteri.niemikoti.fi
SUMMARY:Avoin info Malmilla
DESCRIPTION:Toiminnan ja tilojen esittely kaikille toiminnasta kiinnostuneille. Tervetuloa!
URL:https://kalenteri.niemikoti.fi/tapahtuma/avoin-info-malmilla/
LOCATION:Malmin päivätoimintakeskus\, Vanha Helsingintie 9\, Helsinki\, 00700\, Finland
CATEGORIES:Malmin päivätoimintakeskus
END:VEVENT
BEGIN:VEVENT
DTSTART;TZID=Europe/Helsinki:20230822T100000
DTEND;TZID=Europe/Helsinki:20230822T120000
DTSTAMP:20260426T004103
CREATED:20230629T092111Z
LAST-MODIFIED:20230802T121411Z
UID:10001469-1692698400-1692705600@kalenteri.niemikoti.fi
SUMMARY:Avoin kuvataidepaja
DESCRIPTION:Niemikotisäätiön 40-vuotisjuhlan kunniaksi Villa Borgiksessa on kaikille toiminnastamme kiinnostuneille avointa toimintaa ti 22.8. ja 29.8.\, ke 23.8. ja 30.8. sekä pe 25.8. ja 1.9. Tervetuloa osallistumaan ohjelmaan sekä tutustumaan taloon ja toimintaan! Kahvitarjoilu. \nIlmoittaudu villaborgis@niemikoti.fi\, 0400-560176 / Ulla tai 050-4143138 / Virve.
URL:https://kalenteri.niemikoti.fi/tapahtuma/avoin-kuvataidepaja/2023-08-22/
LOCATION:Toimintakeskus Villa Borgis\, Linnavuorentie 13\, Helsinki\, 00950\, Finland
CATEGORIES:Toimintakeskus Villa Borgis
ATTACH;FMTTYPE=image/jpeg:https://kalenteri.niemikoti.fi/wp-content/uploads/2023/06/AVOIMET-OVET2387.jpg
END:VEVENT
BEGIN:VEVENT
DTSTART;TZID=Europe/Helsinki:20230822T120000
DTEND;TZID=Europe/Helsinki:20230822T140000
DTSTAMP:20260426T004103
CREATED:20230629T092821Z
LAST-MODIFIED:20230802T121506Z
UID:10001471-1692705600-1692712800@kalenteri.niemikoti.fi
SUMMARY:Grilli kuumana\, tarjolla makkarat ja kahvit!
DESCRIPTION:Niemikotisäätiön 40-vuotisjuhlan kunniaksi Villa Borgiksessa on kaikille toiminnastamme kiinnostuneille avointa toimintaa ti 22.8. ja 29.8.\, ke 23.8. ja 30.8. sekä pe 25.8. ja 1.9. Tervetuloa osallistumaan ohjelmaan sekä tutustumaan taloon ja toimintaan! Kahvitarjoilu. \nIlmoittaudu villaborgis@niemikoti.fi\, 0400-560176 / Ulla tai 050-4143138 / Virve.
URL:https://kalenteri.niemikoti.fi/tapahtuma/grilli-kuumana-tarjolla-makkarat-ja-kahvit/2023-08-22/
LOCATION:Toimintakeskus Villa Borgis\, Linnavuorentie 13\, Helsinki\, 00950\, Finland
CATEGORIES:Toimintakeskus Villa Borgis
ATTACH;FMTTYPE=image/jpeg:https://kalenteri.niemikoti.fi/wp-content/uploads/2023/06/AVOIMET-OVET2387-1.jpg
END:VEVENT
BEGIN:VEVENT
DTSTART;TZID=Europe/Helsinki:20230823T100000
DTEND;TZID=Europe/Helsinki:20230823T120000
DTSTAMP:20260426T004103
CREATED:20230629T093151Z
LAST-MODIFIED:20230802T121719Z
UID:10001473-1692784800-1692792000@kalenteri.niemikoti.fi
SUMMARY:Avoin kirjoituspaja
DESCRIPTION:Niemikotisäätiön 40-vuotisjuhlan kunniaksi Villa Borgiksessa on kaikille toiminnastamme kiinnostuneille avointa toimintaa ti 22.8. ja 29.8.\, ke 23.8. ja 30.8. sekä pe 25.8. ja 1.9. Tervetuloa osallistumaan ohjelmaan sekä tutustumaan taloon ja toimintaan! Kahvitarjoilu. \nIlmoittaudu villaborgis@niemikoti.fi\, 0400-560176 / Ulla tai 050-4143138 / Virve.
URL:https://kalenteri.niemikoti.fi/tapahtuma/avoin-kirjoituspaja/2023-08-23/
LOCATION:Toimintakeskus Villa Borgis\, Linnavuorentie 13\, Helsinki\, 00950\, Finland
CATEGORIES:Toimintakeskus Villa Borgis
ATTACH;FMTTYPE=image/jpeg:https://kalenteri.niemikoti.fi/wp-content/uploads/2023/06/AVOIMET-OVET2387-2.jpg
END:VEVENT
BEGIN:VEVENT
DTSTART;TZID=Europe/Helsinki:20230823T120000
DTEND;TZID=Europe/Helsinki:20230823T130000
DTSTAMP:20260426T004103
CREATED:20230629T093336Z
LAST-MODIFIED:20230802T121806Z
UID:10001475-1692792000-1692795600@kalenteri.niemikoti.fi
SUMMARY:Talon ja toiminnan esittely
DESCRIPTION:Niemikotisäätiön 40-vuotisjuhlan kunniaksi Villa Borgiksessa on kaikille toiminnastamme kiinnostuneille avointa toimintaa ti 22.8. ja 29.8.\, ke 23.8. ja 30.8. sekä pe 25.8. ja 1.9. Tervetuloa osallistumaan ohjelmaan sekä tutustumaan taloon ja toimintaan! Kahvitarjoilu. \nIlmoittaudu villaborgis@niemikoti.fi\, 0400-560176 / Ulla tai 050-4143138 / Virve.
URL:https://kalenteri.niemikoti.fi/tapahtuma/talon-ja-toiminnan-esittely/2023-08-23/
LOCATION:Toimintakeskus Villa Borgis\, Linnavuorentie 13\, Helsinki\, 00950\, Finland
CATEGORIES:Toimintakeskus Villa Borgis
ATTACH;FMTTYPE=image/jpeg:https://kalenteri.niemikoti.fi/wp-content/uploads/2023/06/AVOIMET-OVET2387-3.jpg
END:VEVENT
BEGIN:VEVENT
DTSTART;TZID=Europe/Helsinki:20230823T130000
DTEND;TZID=Europe/Helsinki:20230823T150000
DTSTAMP:20260426T004103
CREATED:20230629T093553Z
LAST-MODIFIED:20230802T121839Z
UID:10001477-1692795600-1692802800@kalenteri.niemikoti.fi
SUMMARY:Avoin puutarharyhmä\, kasviskeittoa tarjolla osallistujille!
DESCRIPTION:Niemikotisäätiön 40-vuotisjuhlan kunniaksi Villa Borgiksessa on kaikille toiminnastamme kiinnostuneille avointa toimintaa ti 22.8. ja 29.8.\, ke 23.8. ja 30.8. sekä pe 25.8. ja 1.9. Tervetuloa osallistumaan ohjelmaan sekä tutustumaan taloon ja toimintaan! Kahvitarjoilu. \nIlmoittaudu villaborgis@niemikoti.fi\, 0400-560176 / Ulla tai 050-4143138 / Virve.
URL:https://kalenteri.niemikoti.fi/tapahtuma/avoin-puutarharyhma-kasviskeittoa-tarjolla-osallistujille/2023-08-23/
LOCATION:Toimintakeskus Villa Borgis\, Linnavuorentie 13\, Helsinki\, 00950\, Finland
CATEGORIES:Toimintakeskus Villa Borgis
ATTACH;FMTTYPE=image/jpeg:https://kalenteri.niemikoti.fi/wp-content/uploads/2023/06/AVOIMET-OVET2387-4.jpg
END:VEVENT
BEGIN:VEVENT
DTSTART;TZID=Europe/Helsinki:20230825T100000
DTEND;TZID=Europe/Helsinki:20230825T110000
DTSTAMP:20260426T004103
CREATED:20230629T093827Z
LAST-MODIFIED:20230802T122026Z
UID:10001479-1692957600-1692961200@kalenteri.niemikoti.fi
SUMMARY:Avoin pihajooga (sateen sattuessa sisätiloissa)
DESCRIPTION:Niemikotisäätiön 40-vuotisjuhlan kunniaksi Villa Borgiksessa on kaikille toiminnastamme kiinnostuneille avointa toimintaa ti 22.8. ja 29.8.\, ke 23.8. ja 30.8. sekä pe 25.8. ja 1.9. Tervetuloa osallistumaan ohjelmaan sekä tutustumaan taloon ja toimintaan! Kahvitarjoilu. \nIlmoittaudu villaborgis@niemikoti.fi\, 0400-560176 / Ulla tai 050-4143138 / Virve.
URL:https://kalenteri.niemikoti.fi/tapahtuma/avoin-pihajooga-sateen-sattuessa-sisatiloissa/2023-08-25/
LOCATION:Toimintakeskus Villa Borgis\, Linnavuorentie 13\, Helsinki\, 00950\, Finland
CATEGORIES:Toimintakeskus Villa Borgis
ATTACH;FMTTYPE=image/jpeg:https://kalenteri.niemikoti.fi/wp-content/uploads/2023/06/AVOIMET-OVET2387-5.jpg
END:VEVENT
BEGIN:VEVENT
DTSTART;TZID=Europe/Helsinki:20230825T110000
DTEND;TZID=Europe/Helsinki:20230825T130000
DTSTAMP:20260426T004103
CREATED:20230629T094041Z
LAST-MODIFIED:20230802T122130Z
UID:10001481-1692961200-1692968400@kalenteri.niemikoti.fi
SUMMARY:Sauna kuumana. Ota mukaan oma pyyhe ja pesuaineet!
DESCRIPTION:Niemikotisäätiön 40-vuotisjuhlan kunniaksi Villa Borgiksessa on kaikille toiminnastamme kiinnostuneille avointa toimintaa ti 22.8. ja 29.8.\, ke 23.8. ja 30.8. sekä pe 25.8. ja 1.9. Tervetuloa osallistumaan ohjelmaan sekä tutustumaan taloon ja toimintaan! Kahvitarjoilu. \nIlmoittaudu villaborgis@niemikoti.fi\, 0400-560176 / Ulla tai 050-4143138 / Virve.
URL:https://kalenteri.niemikoti.fi/tapahtuma/sauna-kuumana-ota-mukaan-oma-pyyhe-ja-pesuaineet/2023-08-25/
LOCATION:Toimintakeskus Villa Borgis\, Linnavuorentie 13\, Helsinki\, 00950\, Finland
CATEGORIES:Toimintakeskus Villa Borgis
ATTACH;FMTTYPE=image/jpeg:https://kalenteri.niemikoti.fi/wp-content/uploads/2023/06/AVOIMET-OVET2387-6.jpg
END:VEVENT
BEGIN:VEVENT
DTSTART;TZID=Europe/Helsinki:20230825T120000
DTEND;TZID=Europe/Helsinki:20230825T130000
DTSTAMP:20260426T004103
CREATED:20230629T093336Z
LAST-MODIFIED:20230802T121806Z
UID:10001483-1692964800-1692968400@kalenteri.niemikoti.fi
SUMMARY:Talon ja toiminnan esittely
DESCRIPTION:Niemikotisäätiön 40-vuotisjuhlan kunniaksi Villa Borgiksessa on kaikille toiminnastamme kiinnostuneille avointa toimintaa ti 22.8. ja 29.8.\, ke 23.8. ja 30.8. sekä pe 25.8. ja 1.9. Tervetuloa osallistumaan ohjelmaan sekä tutustumaan taloon ja toimintaan! Kahvitarjoilu. \nIlmoittaudu villaborgis@niemikoti.fi\, 0400-560176 / Ulla tai 050-4143138 / Virve.
URL:https://kalenteri.niemikoti.fi/tapahtuma/talon-ja-toiminnan-esittely/2023-08-25/
LOCATION:Toimintakeskus Villa Borgis\, Linnavuorentie 13\, Helsinki\, 00950\, Finland
CATEGORIES:Toimintakeskus Villa Borgis
ATTACH;FMTTYPE=image/jpeg:https://kalenteri.niemikoti.fi/wp-content/uploads/2023/06/AVOIMET-OVET2387-3.jpg
END:VEVENT
BEGIN:VEVENT
DTSTART;TZID=Europe/Helsinki:20230829T100000
DTEND;TZID=Europe/Helsinki:20230829T120000
DTSTAMP:20260426T004103
CREATED:20230629T092111Z
LAST-MODIFIED:20230802T121411Z
UID:10001470-1693303200-1693310400@kalenteri.niemikoti.fi
SUMMARY:Avoin kuvataidepaja
DESCRIPTION:Niemikotisäätiön 40-vuotisjuhlan kunniaksi Villa Borgiksessa on kaikille toiminnastamme kiinnostuneille avointa toimintaa ti 22.8. ja 29.8.\, ke 23.8. ja 30.8. sekä pe 25.8. ja 1.9. Tervetuloa osallistumaan ohjelmaan sekä tutustumaan taloon ja toimintaan! Kahvitarjoilu. \nIlmoittaudu villaborgis@niemikoti.fi\, 0400-560176 / Ulla tai 050-4143138 / Virve.
URL:https://kalenteri.niemikoti.fi/tapahtuma/avoin-kuvataidepaja/2023-08-29/
LOCATION:Toimintakeskus Villa Borgis\, Linnavuorentie 13\, Helsinki\, 00950\, Finland
CATEGORIES:Toimintakeskus Villa Borgis
ATTACH;FMTTYPE=image/jpeg:https://kalenteri.niemikoti.fi/wp-content/uploads/2023/06/AVOIMET-OVET2387.jpg
END:VEVENT
BEGIN:VEVENT
DTSTART;TZID=Europe/Helsinki:20230829T120000
DTEND;TZID=Europe/Helsinki:20230829T140000
DTSTAMP:20260426T004103
CREATED:20230629T092821Z
LAST-MODIFIED:20230802T121506Z
UID:10001472-1693310400-1693317600@kalenteri.niemikoti.fi
SUMMARY:Grilli kuumana\, tarjolla makkarat ja kahvit!
DESCRIPTION:Niemikotisäätiön 40-vuotisjuhlan kunniaksi Villa Borgiksessa on kaikille toiminnastamme kiinnostuneille avointa toimintaa ti 22.8. ja 29.8.\, ke 23.8. ja 30.8. sekä pe 25.8. ja 1.9. Tervetuloa osallistumaan ohjelmaan sekä tutustumaan taloon ja toimintaan! Kahvitarjoilu. \nIlmoittaudu villaborgis@niemikoti.fi\, 0400-560176 / Ulla tai 050-4143138 / Virve.
URL:https://kalenteri.niemikoti.fi/tapahtuma/grilli-kuumana-tarjolla-makkarat-ja-kahvit/2023-08-29/
LOCATION:Toimintakeskus Villa Borgis\, Linnavuorentie 13\, Helsinki\, 00950\, Finland
CATEGORIES:Toimintakeskus Villa Borgis
ATTACH;FMTTYPE=image/jpeg:https://kalenteri.niemikoti.fi/wp-content/uploads/2023/06/AVOIMET-OVET2387-1.jpg
END:VEVENT
BEGIN:VEVENT
DTSTART;TZID=Europe/Helsinki:20230830T100000
DTEND;TZID=Europe/Helsinki:20230830T120000
DTSTAMP:20260426T004103
CREATED:20230629T093151Z
LAST-MODIFIED:20230802T121719Z
UID:10001474-1693389600-1693396800@kalenteri.niemikoti.fi
SUMMARY:Avoin kirjoituspaja
DESCRIPTION:Niemikotisäätiön 40-vuotisjuhlan kunniaksi Villa Borgiksessa on kaikille toiminnastamme kiinnostuneille avointa toimintaa ti 22.8. ja 29.8.\, ke 23.8. ja 30.8. sekä pe 25.8. ja 1.9. Tervetuloa osallistumaan ohjelmaan sekä tutustumaan taloon ja toimintaan! Kahvitarjoilu. \nIlmoittaudu villaborgis@niemikoti.fi\, 0400-560176 / Ulla tai 050-4143138 / Virve.
URL:https://kalenteri.niemikoti.fi/tapahtuma/avoin-kirjoituspaja/2023-08-30/
LOCATION:Toimintakeskus Villa Borgis\, Linnavuorentie 13\, Helsinki\, 00950\, Finland
CATEGORIES:Toimintakeskus Villa Borgis
ATTACH;FMTTYPE=image/jpeg:https://kalenteri.niemikoti.fi/wp-content/uploads/2023/06/AVOIMET-OVET2387-2.jpg
END:VEVENT
BEGIN:VEVENT
DTSTART;TZID=Europe/Helsinki:20230830T120000
DTEND;TZID=Europe/Helsinki:20230830T130000
DTSTAMP:20260426T004103
CREATED:20230629T093336Z
LAST-MODIFIED:20230802T121806Z
UID:10001476-1693396800-1693400400@kalenteri.niemikoti.fi
SUMMARY:Talon ja toiminnan esittely
DESCRIPTION:Niemikotisäätiön 40-vuotisjuhlan kunniaksi Villa Borgiksessa on kaikille toiminnastamme kiinnostuneille avointa toimintaa ti 22.8. ja 29.8.\, ke 23.8. ja 30.8. sekä pe 25.8. ja 1.9. Tervetuloa osallistumaan ohjelmaan sekä tutustumaan taloon ja toimintaan! Kahvitarjoilu. \nIlmoittaudu villaborgis@niemikoti.fi\, 0400-560176 / Ulla tai 050-4143138 / Virve.
URL:https://kalenteri.niemikoti.fi/tapahtuma/talon-ja-toiminnan-esittely/2023-08-30/
LOCATION:Toimintakeskus Villa Borgis\, Linnavuorentie 13\, Helsinki\, 00950\, Finland
CATEGORIES:Toimintakeskus Villa Borgis
ATTACH;FMTTYPE=image/jpeg:https://kalenteri.niemikoti.fi/wp-content/uploads/2023/06/AVOIMET-OVET2387-3.jpg
END:VEVENT
BEGIN:VEVENT
DTSTART;TZID=Europe/Helsinki:20230830T130000
DTEND;TZID=Europe/Helsinki:20230830T150000
DTSTAMP:20260426T004103
CREATED:20230629T093553Z
LAST-MODIFIED:20230802T121839Z
UID:10001478-1693400400-1693407600@kalenteri.niemikoti.fi
SUMMARY:Avoin puutarharyhmä\, kasviskeittoa tarjolla osallistujille!
DESCRIPTION:Niemikotisäätiön 40-vuotisjuhlan kunniaksi Villa Borgiksessa on kaikille toiminnastamme kiinnostuneille avointa toimintaa ti 22.8. ja 29.8.\, ke 23.8. ja 30.8. sekä pe 25.8. ja 1.9. Tervetuloa osallistumaan ohjelmaan sekä tutustumaan taloon ja toimintaan! Kahvitarjoilu. \nIlmoittaudu villaborgis@niemikoti.fi\, 0400-560176 / Ulla tai 050-4143138 / Virve.
URL:https://kalenteri.niemikoti.fi/tapahtuma/avoin-puutarharyhma-kasviskeittoa-tarjolla-osallistujille/2023-08-30/
LOCATION:Toimintakeskus Villa Borgis\, Linnavuorentie 13\, Helsinki\, 00950\, Finland
CATEGORIES:Toimintakeskus Villa Borgis
ATTACH;FMTTYPE=image/jpeg:https://kalenteri.niemikoti.fi/wp-content/uploads/2023/06/AVOIMET-OVET2387-4.jpg
END:VEVENT
BEGIN:VEVENT
DTSTART;TZID=Europe/Helsinki:20230901T100000
DTEND;TZID=Europe/Helsinki:20230901T110000
DTSTAMP:20260426T004103
CREATED:20230629T093827Z
LAST-MODIFIED:20230802T122026Z
UID:10001480-1693562400-1693566000@kalenteri.niemikoti.fi
SUMMARY:Avoin pihajooga (sateen sattuessa sisätiloissa)
DESCRIPTION:Niemikotisäätiön 40-vuotisjuhlan kunniaksi Villa Borgiksessa on kaikille toiminnastamme kiinnostuneille avointa toimintaa ti 22.8. ja 29.8.\, ke 23.8. ja 30.8. sekä pe 25.8. ja 1.9. Tervetuloa osallistumaan ohjelmaan sekä tutustumaan taloon ja toimintaan! Kahvitarjoilu. \nIlmoittaudu villaborgis@niemikoti.fi\, 0400-560176 / Ulla tai 050-4143138 / Virve.
URL:https://kalenteri.niemikoti.fi/tapahtuma/avoin-pihajooga-sateen-sattuessa-sisatiloissa/2023-09-01/
LOCATION:Toimintakeskus Villa Borgis\, Linnavuorentie 13\, Helsinki\, 00950\, Finland
CATEGORIES:Toimintakeskus Villa Borgis
ATTACH;FMTTYPE=image/jpeg:https://kalenteri.niemikoti.fi/wp-content/uploads/2023/06/AVOIMET-OVET2387-5.jpg
END:VEVENT
BEGIN:VEVENT
DTSTART;TZID=Europe/Helsinki:20230901T110000
DTEND;TZID=Europe/Helsinki:20230901T130000
DTSTAMP:20260426T004103
CREATED:20230629T094041Z
LAST-MODIFIED:20230802T122130Z
UID:10001482-1693566000-1693573200@kalenteri.niemikoti.fi
SUMMARY:Sauna kuumana. Ota mukaan oma pyyhe ja pesuaineet!
DESCRIPTION:Niemikotisäätiön 40-vuotisjuhlan kunniaksi Villa Borgiksessa on kaikille toiminnastamme kiinnostuneille avointa toimintaa ti 22.8. ja 29.8.\, ke 23.8. ja 30.8. sekä pe 25.8. ja 1.9. Tervetuloa osallistumaan ohjelmaan sekä tutustumaan taloon ja toimintaan! Kahvitarjoilu. \nIlmoittaudu villaborgis@niemikoti.fi\, 0400-560176 / Ulla tai 050-4143138 / Virve.
URL:https://kalenteri.niemikoti.fi/tapahtuma/sauna-kuumana-ota-mukaan-oma-pyyhe-ja-pesuaineet/2023-09-01/
LOCATION:Toimintakeskus Villa Borgis\, Linnavuorentie 13\, Helsinki\, 00950\, Finland
CATEGORIES:Toimintakeskus Villa Borgis
ATTACH;FMTTYPE=image/jpeg:https://kalenteri.niemikoti.fi/wp-content/uploads/2023/06/AVOIMET-OVET2387-6.jpg
END:VEVENT
BEGIN:VEVENT
DTSTART;TZID=Europe/Helsinki:20230901T120000
DTEND;TZID=Europe/Helsinki:20230901T130000
DTSTAMP:20260426T004103
CREATED:20230629T093336Z
LAST-MODIFIED:20230802T121806Z
UID:10001484-1693569600-1693573200@kalenteri.niemikoti.fi
SUMMARY:Talon ja toiminnan esittely
DESCRIPTION:Niemikotisäätiön 40-vuotisjuhlan kunniaksi Villa Borgiksessa on kaikille toiminnastamme kiinnostuneille avointa toimintaa ti 22.8. ja 29.8.\, ke 23.8. ja 30.8. sekä pe 25.8. ja 1.9. Tervetuloa osallistumaan ohjelmaan sekä tutustumaan taloon ja toimintaan! Kahvitarjoilu. \nIlmoittaudu villaborgis@niemikoti.fi\, 0400-560176 / Ulla tai 050-4143138 / Virve.
URL:https://kalenteri.niemikoti.fi/tapahtuma/talon-ja-toiminnan-esittely/2023-09-01/
LOCATION:Toimintakeskus Villa Borgis\, Linnavuorentie 13\, Helsinki\, 00950\, Finland
CATEGORIES:Toimintakeskus Villa Borgis
ATTACH;FMTTYPE=image/jpeg:https://kalenteri.niemikoti.fi/wp-content/uploads/2023/06/AVOIMET-OVET2387-3.jpg
END:VEVENT
BEGIN:VEVENT
DTSTART;TZID=Europe/Helsinki:20230908T120000
DTEND;TZID=Europe/Helsinki:20230908T123000
DTSTAMP:20260426T004103
CREATED:20230628T115200Z
LAST-MODIFIED:20250107T132307Z
UID:10001464-1694174400-1694176200@kalenteri.niemikoti.fi
SUMMARY:Avoin info
DESCRIPTION:Tervetuloa tutustumaan taloomme ja toimintaamme! Avoin info on tarkoitettu kaikille toiminnastamme kiinnostuneille (opiskelijat\, ammattilaiset\, toipujat\, omaiset…). Kahvitarjoilu!
URL:https://kalenteri.niemikoti.fi/tapahtuma/avoin-info/2023-09-08/
LOCATION:Toimintakeskus Villa Borgis\, Linnavuorentie 13\, Helsinki\, 00950\, Finland
CATEGORIES:Toimintakeskus Villa Borgis
END:VEVENT
BEGIN:VEVENT
DTSTART;TZID=Europe/Helsinki:20231013T120000
DTEND;TZID=Europe/Helsinki:20231013T123000
DTSTAMP:20260426T004103
CREATED:20230628T115200Z
LAST-MODIFIED:20250107T132307Z
UID:10001465-1697198400-1697200200@kalenteri.niemikoti.fi
SUMMARY:Avoin info
DESCRIPTION:Tervetuloa tutustumaan taloomme ja toimintaamme! Avoin info on tarkoitettu kaikille toiminnastamme kiinnostuneille (opiskelijat\, ammattilaiset\, toipujat\, omaiset…). Kahvitarjoilu!
URL:https://kalenteri.niemikoti.fi/tapahtuma/avoin-info/2023-10-13/
LOCATION:Toimintakeskus Villa Borgis\, Linnavuorentie 13\, Helsinki\, 00950\, Finland
CATEGORIES:Toimintakeskus Villa Borgis
END:VEVENT
BEGIN:VEVENT
DTSTART;TZID=Europe/Helsinki:20231023T140000
DTEND;TZID=Europe/Helsinki:20231023T150000
DTSTAMP:20260426T004103
CREATED:20231016T065208Z
LAST-MODIFIED:20231016T065208Z
UID:10003805-1698069600-1698073200@kalenteri.niemikoti.fi
SUMMARY:Avoin info Malmilla
DESCRIPTION:Toiminnan ja tilan esittely kaikille päivätoiminnasta kiinnostuneille. Ei ilmoittautumista\, tervetuloa!
URL:https://kalenteri.niemikoti.fi/tapahtuma/avoin-info-malmilla-2/
LOCATION:Malmin päivätoimintakeskus\, Vanha Helsingintie 9\, Helsinki\, 00700\, Finland
CATEGORIES:Malmin päivätoimintakeskus
END:VEVENT
BEGIN:VEVENT
DTSTART;TZID=Europe/Helsinki:20231110T120000
DTEND;TZID=Europe/Helsinki:20231110T123000
DTSTAMP:20260426T004103
CREATED:20230628T115200Z
LAST-MODIFIED:20250107T132307Z
UID:10001466-1699617600-1699619400@kalenteri.niemikoti.fi
SUMMARY:Avoin info
DESCRIPTION:Tervetuloa tutustumaan taloomme ja toimintaamme! Avoin info on tarkoitettu kaikille toiminnastamme kiinnostuneille (opiskelijat\, ammattilaiset\, toipujat\, omaiset…). Kahvitarjoilu!
URL:https://kalenteri.niemikoti.fi/tapahtuma/avoin-info/2023-11-10/
LOCATION:Toimintakeskus Villa Borgis\, Linnavuorentie 13\, Helsinki\, 00950\, Finland
CATEGORIES:Toimintakeskus Villa Borgis
END:VEVENT
BEGIN:VEVENT
DTSTART;TZID=Europe/Helsinki:20231123T130000
DTEND;TZID=Europe/Helsinki:20231123T143000
DTSTAMP:20260426T004103
CREATED:20231114T152441Z
LAST-MODIFIED:20231114T152441Z
UID:10004389-1700744400-1700749800@kalenteri.niemikoti.fi
SUMMARY:Pohdi-Kehity-Innostu ryhmä: Välineitä työmahdollisuuksien keksimiseen
DESCRIPTION:Nimensä mukaisesti yhdessä pohditaan asioita\, jotka liittyvät mm; opiskeluihin\, vapaa-aikaan ja oman polun löytämiseen\, kuinka voitaisiin kehittyä ihmisinä/opiskelijoina/työnhakijoina ja kuinka ryhmässä saatava vertaistuki ja keskustelu voi saada juuri sinut innostumaan asiasta.
URL:https://kalenteri.niemikoti.fi/tapahtuma/pohdi-kehity-innostu-ryhma-valineita-tyomahdollisuuksien-keksimiseen/
LOCATION:Valtti Valmennus\, Elimäenkatu 26\, Helsinki\, 00510\, Finland
CATEGORIES:Valtti Valmennus
END:VEVENT
BEGIN:VEVENT
DTSTART;TZID=Europe/Helsinki:20231128T110000
DTEND;TZID=Europe/Helsinki:20231128T120000
DTSTAMP:20260426T004103
CREATED:20231114T153420Z
LAST-MODIFIED:20231114T153420Z
UID:10004391-1701169200-1701172800@kalenteri.niemikoti.fi
SUMMARY:TAKUUSÄÄTIÖ INFO; Asiantuntija Liina Heinonen
DESCRIPTION:Valtti Valmennus järjestää nyt jo kolmannen kerran Takuusäätiön infotilaisuuden\, johon juuri sinä olet tervetullut! \nInfo järjestetään etänä Teamsissä. Kaikille tiistai 28.11. aamuun mennessä sähköpostitse ilmoittautuneille lähetetään osallistumislinkki infotilaisuuteen. \nemma.heikkinen@niemikoti.fi
URL:https://kalenteri.niemikoti.fi/tapahtuma/takuusaatio-info-asiantuntija-liina-heinonen/
LOCATION:Valtti Valmennus\, Elimäenkatu 26\, Helsinki\, 00510\, Finland
CATEGORIES:Valtti Valmennus
ATTACH;FMTTYPE=image/png:https://kalenteri.niemikoti.fi/wp-content/uploads/2023/11/TAKUUSAATIO-INFO-.png
END:VEVENT
BEGIN:VEVENT
DTSTART;TZID=Europe/Helsinki:20231130T110000
DTEND;TZID=Europe/Helsinki:20231130T123000
DTSTAMP:20260426T004103
CREATED:20231114T151435Z
LAST-MODIFIED:20231114T151435Z
UID:10004387-1701342000-1701347400@kalenteri.niemikoti.fi
SUMMARY:Työelämä ryhmä: Työhakemus/haastattelu
DESCRIPTION:Aiheita työnhakuun\, työelämätaitoihin ja itselle sopivan alan kartoittamiseen liittyen. Ajantasaista tietoa työllistymisen mahdollisuuksista\, ryhmässä pohdiskelua ja keskustelua.
URL:https://kalenteri.niemikoti.fi/tapahtuma/tyoelama-ryhma-tyohakemus-haastattelu/
LOCATION:Valtti Valmennus\, Elimäenkatu 26\, Helsinki\, 00510\, Finland
CATEGORIES:Valtti Valmennus
END:VEVENT
BEGIN:VEVENT
DTSTART;TZID=Europe/Helsinki:20231207T110000
DTEND;TZID=Europe/Helsinki:20231207T123000
DTSTAMP:20260426T004103
CREATED:20231114T152731Z
LAST-MODIFIED:20231114T152731Z
UID:10004390-1701946800-1701952200@kalenteri.niemikoti.fi
SUMMARY:Pohdi-Kehity-Innostu ryhmä: Oman osaamisen ja vahvuuksien tunnistaminen on monelle meistä vaikeaa
DESCRIPTION:Nimensä mukaisesti yhdessä pohditaan asioita\, jotka liittyvät mm; opiskeluihin\, vapaa-aikaan ja oman polun löytämiseen\, kuinka voitaisiin kehittyä ihmisinä/opiskelijoina/työnhakijoina ja kuinka ryhmässä saatava vertaistuki ja keskustelu voi saada juuri sinut innostumaan asiasta.
URL:https://kalenteri.niemikoti.fi/tapahtuma/pohdi-kehity-innostu-ryhma-oman-osaamisen-ja-vahvuuksien-tunnistaminen-on-monelle-meista-vaikeaa/
LOCATION:Valtti Valmennus\, Elimäenkatu 26\, Helsinki\, 00510\, Finland
CATEGORIES:Valtti Valmennus
END:VEVENT
BEGIN:VEVENT
DTSTART;TZID=Europe/Helsinki:20231208T120000
DTEND;TZID=Europe/Helsinki:20231208T123000
DTSTAMP:20260426T004103
CREATED:20230628T115200Z
LAST-MODIFIED:20250107T132307Z
UID:10001467-1702036800-1702038600@kalenteri.niemikoti.fi
SUMMARY:Avoin info
DESCRIPTION:Tervetuloa tutustumaan taloomme ja toimintaamme! Avoin info on tarkoitettu kaikille toiminnastamme kiinnostuneille (opiskelijat\, ammattilaiset\, toipujat\, omaiset…). Kahvitarjoilu!
URL:https://kalenteri.niemikoti.fi/tapahtuma/avoin-info/2023-12-08/
LOCATION:Toimintakeskus Villa Borgis\, Linnavuorentie 13\, Helsinki\, 00950\, Finland
CATEGORIES:Toimintakeskus Villa Borgis
END:VEVENT
BEGIN:VEVENT
DTSTART;TZID=Europe/Helsinki:20231213T130000
DTEND;TZID=Europe/Helsinki:20231213T143000
DTSTAMP:20260426T004103
CREATED:20231114T151836Z
LAST-MODIFIED:20231114T151836Z
UID:10004388-1702472400-1702477800@kalenteri.niemikoti.fi
SUMMARY:Työelämä ryhmä: Työhakemus/haastattelu
DESCRIPTION:Aiheita työnhakuun\, työelämätaitoihin ja itselle sopivan alan kartoittamiseen liittyen. Ajantasaista tietoa työllistymisen mahdollisuuksista\, ryhmässä pohdiskelua ja keskustelua.
URL:https://kalenteri.niemikoti.fi/tapahtuma/tyoelama-ryhma-tyohakemus-haastattelu-2/
LOCATION:Valtti Valmennus\, Elimäenkatu 26\, Helsinki\, 00510\, Finland
CATEGORIES:Valtti Valmennus
END:VEVENT
BEGIN:VEVENT
DTSTART;TZID=Europe/Helsinki:20231214T110000
DTEND;TZID=Europe/Helsinki:20231214T120000
DTSTAMP:20260426T004103
CREATED:20231114T155400Z
LAST-MODIFIED:20231114T155400Z
UID:10004392-1702551600-1702555200@kalenteri.niemikoti.fi
SUMMARY:TUETTU KEIKKATYÖ JA ESKOTYÖ INFO
DESCRIPTION:Kiinnostavatko keikkatyöt\, joihin on mahdollista saada tukea työvalmentajalta? \nInfossa kerromme tuetun keikkatyön mallistamme sekä yhteistyökumppanimme EskoTyön tarjoamista keikkavuoroista ja työllistymismahdollisuuksista. \nVoit tarvittaessa osallistua myös etäyhteydellä. Osallistumislinkin saat ilmoittautumalla tilaisuuteen emma.heikkinen@niemikoti.fi
URL:https://kalenteri.niemikoti.fi/tapahtuma/tuettu-keikkatyo-ja-eskotyo-info/
LOCATION:Valtti Valmennus\, Elimäenkatu 26\, Helsinki\, 00510\, Finland
CATEGORIES:Valtti Valmennus
END:VEVENT
END:VCALENDAR