BEGIN:VCALENDAR
VERSION:2.0
PRODID:-//Tapahtumakalenteri - ECPv6.15.18//NONSGML v1.0//EN
CALSCALE:GREGORIAN
METHOD:PUBLISH
X-WR-CALNAME:Tapahtumakalenteri
X-ORIGINAL-URL:https://kalenteri.niemikoti.fi
X-WR-CALDESC:Tapahtumat Tapahtumakalenteri
REFRESH-INTERVAL;VALUE=DURATION:PT1H
X-Robots-Tag:noindex
X-PUBLISHED-TTL:PT1H
BEGIN:VTIMEZONE
TZID:Europe/Helsinki
BEGIN:DAYLIGHT
TZOFFSETFROM:+0200
TZOFFSETTO:+0300
TZNAME:EEST
DTSTART:20240331T010000
END:DAYLIGHT
BEGIN:STANDARD
TZOFFSETFROM:+0300
TZOFFSETTO:+0200
TZNAME:EET
DTSTART:20241027T010000
END:STANDARD
BEGIN:DAYLIGHT
TZOFFSETFROM:+0200
TZOFFSETTO:+0300
TZNAME:EEST
DTSTART:20250330T010000
END:DAYLIGHT
BEGIN:STANDARD
TZOFFSETFROM:+0300
TZOFFSETTO:+0200
TZNAME:EET
DTSTART:20251026T010000
END:STANDARD
BEGIN:DAYLIGHT
TZOFFSETFROM:+0200
TZOFFSETTO:+0300
TZNAME:EEST
DTSTART:20260329T010000
END:DAYLIGHT
BEGIN:STANDARD
TZOFFSETFROM:+0300
TZOFFSETTO:+0200
TZNAME:EET
DTSTART:20261025T010000
END:STANDARD
END:VTIMEZONE
BEGIN:VEVENT
DTSTART;TZID=Europe/Helsinki:20250825T140000
DTEND;TZID=Europe/Helsinki:20250825T150000
DTSTAMP:20260424T162647
CREATED:20250811T004651Z
LAST-MODIFIED:20250811T010401Z
UID:10024330-1756130400-1756134000@kalenteri.niemikoti.fi
SUMMARY:Avoin info
DESCRIPTION:Toiminnan ja tilojen esittely kaikille Malmin päivätoimintakeskuksesta kiinnostuneille. \nEi ilmoittautumista. Tervetuloa!
URL:https://kalenteri.niemikoti.fi/tapahtuma/avoin-info-12/
LOCATION:Malmin päivätoimintakeskus\, Vanha Helsingintie 9\, Helsinki\, 00700\, Finland
CATEGORIES:Malmin päivätoimintakeskus
ATTACH;FMTTYPE=image/jpeg:https://kalenteri.niemikoti.fi/wp-content/uploads/2025/08/Malmi.jpg
END:VEVENT
END:VCALENDAR