BEGIN:VCALENDAR
VERSION:2.0
PRODID:-//Tapahtumakalenteri - ECPv6.15.18//NONSGML v1.0//EN
CALSCALE:GREGORIAN
METHOD:PUBLISH
X-WR-CALNAME:Tapahtumakalenteri
X-ORIGINAL-URL:https://kalenteri.niemikoti.fi
X-WR-CALDESC:Tapahtumat Tapahtumakalenteri
REFRESH-INTERVAL;VALUE=DURATION:PT1H
X-Robots-Tag:noindex
X-PUBLISHED-TTL:PT1H
BEGIN:VTIMEZONE
TZID:Europe/Helsinki
BEGIN:DAYLIGHT
TZOFFSETFROM:+0200
TZOFFSETTO:+0300
TZNAME:EEST
DTSTART:20220327T010000
END:DAYLIGHT
BEGIN:STANDARD
TZOFFSETFROM:+0300
TZOFFSETTO:+0200
TZNAME:EET
DTSTART:20221030T010000
END:STANDARD
BEGIN:DAYLIGHT
TZOFFSETFROM:+0200
TZOFFSETTO:+0300
TZNAME:EEST
DTSTART:20230326T010000
END:DAYLIGHT
BEGIN:STANDARD
TZOFFSETFROM:+0300
TZOFFSETTO:+0200
TZNAME:EET
DTSTART:20231029T010000
END:STANDARD
BEGIN:DAYLIGHT
TZOFFSETFROM:+0200
TZOFFSETTO:+0300
TZNAME:EEST
DTSTART:20240331T010000
END:DAYLIGHT
BEGIN:STANDARD
TZOFFSETFROM:+0300
TZOFFSETTO:+0200
TZNAME:EET
DTSTART:20241027T010000
END:STANDARD
END:VTIMEZONE
BEGIN:VEVENT
DTSTART;TZID=Europe/Helsinki:20230614T130000
DTEND;TZID=Europe/Helsinki:20230614T150000
DTSTAMP:20260423T154751
CREATED:20230607T074559Z
LAST-MODIFIED:20230607T074559Z
UID:10001232-1686747600-1686754800@kalenteri.niemikoti.fi
SUMMARY:CV-paja
DESCRIPTION:Jos tarvitset apua CV:n päivittämisessä\, Valtti Valmennuksen kevään viimeinen CV-paja järjestetään keskiviikkona 14.6.2023 klo 13-15. CV-pajaan osallistuaksesi sinun ei tarvitse ilmoittautua\, eikä olla Valtti Valmennuksen asiakas\, paja on avoin kaikille!
URL:https://kalenteri.niemikoti.fi/tapahtuma/cv-paja/
LOCATION:Valtti Valmennus\, Elimäenkatu 26\, Helsinki\, 00510\, Finland
CATEGORIES:Valtti Valmennus
ATTACH;FMTTYPE=image/jpeg:https://kalenteri.niemikoti.fi/wp-content/uploads/2023/06/osaamisp.cv-1.jpg
END:VEVENT
BEGIN:VEVENT
DTSTART;TZID=Europe/Helsinki:20230614T160000
DTEND;TZID=Europe/Helsinki:20230614T180000
DTSTAMP:20260423T154751
CREATED:20230606T133554Z
LAST-MODIFIED:20230612T091138Z
UID:10001167-1686758400-1686765600@kalenteri.niemikoti.fi
SUMMARY:Avoimet Kesäjamit!
DESCRIPTION:Kulttuuripaja ELVIKSEN Kesäjameissa lava on vapaa esityksille ja nyyttäripöytään voi tuoda herkkuja.
URL:https://kalenteri.niemikoti.fi/tapahtuma/avoimet-kesajamit/
LOCATION:Kulttuuripaja ELVIS\, Lautatarhankatu 4\, Helsinki\, 00580\, Finland
CATEGORIES:Kulttuuripaja ELVIS,Päivätoiminta
ATTACH;FMTTYPE=image/jpeg:https://kalenteri.niemikoti.fi/wp-content/uploads/2023/06/kitarat-1-scaled.jpg
END:VEVENT
BEGIN:VEVENT
DTSTART;TZID=Europe/Helsinki:20230619T100000
DTEND;TZID=Europe/Helsinki:20230619T130000
DTSTAMP:20260423T154751
CREATED:20230602T083719Z
LAST-MODIFIED:20230602T083719Z
UID:10001145-1687168800-1687179600@kalenteri.niemikoti.fi
SUMMARY:Valtti Valmennuksen kierrätystori
DESCRIPTION:Kesäkuun ympäristöteemaan sopivasti (Kierrätetään koko kesä) Valtti Valmennus järjestää kierrätystorin. Voit tuoda itselle tarpeettomia ehjiä ja siistejä tavaroita Valtti Valmennukseen\, ja katsoa josko muiden tuomista tavaroista löytyisi jotain sinulle tarpeellista. Ylijääneet tavarat viemme juhannuksen jälkeen Ukrainalaisten avustuskeskukseen.
URL:https://kalenteri.niemikoti.fi/tapahtuma/valtti-valmennuksen-kierratystori/2023-06-19/
LOCATION:Valtti Valmennus\, Elimäenkatu 26\, Helsinki\, 00510\, Finland
CATEGORIES:Valtti Valmennus
ATTACH;FMTTYPE=image/jpeg:https://kalenteri.niemikoti.fi/wp-content/uploads/2023/06/kierratystori-1-scaled.jpg
END:VEVENT
BEGIN:VEVENT
DTSTART;TZID=Europe/Helsinki:20230620T100000
DTEND;TZID=Europe/Helsinki:20230620T130000
DTSTAMP:20260423T154751
CREATED:20230602T083719Z
LAST-MODIFIED:20230602T083719Z
UID:10001146-1687255200-1687266000@kalenteri.niemikoti.fi
SUMMARY:Valtti Valmennuksen kierrätystori
DESCRIPTION:Kesäkuun ympäristöteemaan sopivasti (Kierrätetään koko kesä) Valtti Valmennus järjestää kierrätystorin. Voit tuoda itselle tarpeettomia ehjiä ja siistejä tavaroita Valtti Valmennukseen\, ja katsoa josko muiden tuomista tavaroista löytyisi jotain sinulle tarpeellista. Ylijääneet tavarat viemme juhannuksen jälkeen Ukrainalaisten avustuskeskukseen.
URL:https://kalenteri.niemikoti.fi/tapahtuma/valtti-valmennuksen-kierratystori/2023-06-20/
LOCATION:Valtti Valmennus\, Elimäenkatu 26\, Helsinki\, 00510\, Finland
CATEGORIES:Valtti Valmennus
ATTACH;FMTTYPE=image/jpeg:https://kalenteri.niemikoti.fi/wp-content/uploads/2023/06/kierratystori-1-scaled.jpg
END:VEVENT
BEGIN:VEVENT
DTSTART;TZID=Europe/Helsinki:20230621T100000
DTEND;TZID=Europe/Helsinki:20230621T130000
DTSTAMP:20260423T154751
CREATED:20230602T083719Z
LAST-MODIFIED:20230602T083719Z
UID:10001147-1687341600-1687352400@kalenteri.niemikoti.fi
SUMMARY:Valtti Valmennuksen kierrätystori
DESCRIPTION:Kesäkuun ympäristöteemaan sopivasti (Kierrätetään koko kesä) Valtti Valmennus järjestää kierrätystorin. Voit tuoda itselle tarpeettomia ehjiä ja siistejä tavaroita Valtti Valmennukseen\, ja katsoa josko muiden tuomista tavaroista löytyisi jotain sinulle tarpeellista. Ylijääneet tavarat viemme juhannuksen jälkeen Ukrainalaisten avustuskeskukseen.
URL:https://kalenteri.niemikoti.fi/tapahtuma/valtti-valmennuksen-kierratystori/2023-06-21/
LOCATION:Valtti Valmennus\, Elimäenkatu 26\, Helsinki\, 00510\, Finland
CATEGORIES:Valtti Valmennus
ATTACH;FMTTYPE=image/jpeg:https://kalenteri.niemikoti.fi/wp-content/uploads/2023/06/kierratystori-1-scaled.jpg
END:VEVENT
BEGIN:VEVENT
DTSTART;TZID=Europe/Helsinki:20230621T110000
DTEND;TZID=Europe/Helsinki:20230621T140000
DTSTAMP:20260423T154751
CREATED:20230601T065018Z
LAST-MODIFIED:20230601T065018Z
UID:10001133-1687345200-1687356000@kalenteri.niemikoti.fi
SUMMARY:Juhannusjuhla
DESCRIPTION:Yrttijalkakylpyjä\, makkaran grillausta ja sauna kuumana. Ilmoittaudu!
URL:https://kalenteri.niemikoti.fi/tapahtuma/juhannusjuhla/
LOCATION:Toimintakeskus Villa Borgis\, Linnavuorentie 13\, Helsinki\, 00950\, Finland
CATEGORIES:Toimintakeskus Villa Borgis
END:VEVENT
BEGIN:VEVENT
DTSTART;TZID=Europe/Helsinki:20230622T100000
DTEND;TZID=Europe/Helsinki:20230622T130000
DTSTAMP:20260423T154751
CREATED:20230602T083719Z
LAST-MODIFIED:20230602T083719Z
UID:10001148-1687428000-1687438800@kalenteri.niemikoti.fi
SUMMARY:Valtti Valmennuksen kierrätystori
DESCRIPTION:Kesäkuun ympäristöteemaan sopivasti (Kierrätetään koko kesä) Valtti Valmennus järjestää kierrätystorin. Voit tuoda itselle tarpeettomia ehjiä ja siistejä tavaroita Valtti Valmennukseen\, ja katsoa josko muiden tuomista tavaroista löytyisi jotain sinulle tarpeellista. Ylijääneet tavarat viemme juhannuksen jälkeen Ukrainalaisten avustuskeskukseen.
URL:https://kalenteri.niemikoti.fi/tapahtuma/valtti-valmennuksen-kierratystori/2023-06-22/
LOCATION:Valtti Valmennus\, Elimäenkatu 26\, Helsinki\, 00510\, Finland
CATEGORIES:Valtti Valmennus
ATTACH;FMTTYPE=image/jpeg:https://kalenteri.niemikoti.fi/wp-content/uploads/2023/06/kierratystori-1-scaled.jpg
END:VEVENT
BEGIN:VEVENT
DTSTART;TZID=Europe/Helsinki:20230626T100000
DTEND;TZID=Europe/Helsinki:20230626T150000
DTSTAMP:20260423T154751
CREATED:20230608T091516Z
LAST-MODIFIED:20230608T091516Z
UID:10001394-1687773600-1687791600@kalenteri.niemikoti.fi
SUMMARY:Avoin kesätoiminta
DESCRIPTION:Kaikille Niemikotisäätiön palvelunkäyttäjille avointa kesätoimintaa. Villa Borgis avoinna klo 10-15. Katso päiväkohtainen ohjelma kalenteristamme. Voit tulla mukaan myös vain oleskelemaan\, seurustelemaan muiden kanssa\, ompelemaan\, piirtämään\, juomaan kahvia\, rentoutumaan…
URL:https://kalenteri.niemikoti.fi/tapahtuma/avoin-kesatoiminta/2023-06-26/
LOCATION:Toimintakeskus Villa Borgis\, Linnavuorentie 13\, Helsinki\, 00950\, Finland
CATEGORIES:Toimintakeskus Villa Borgis
END:VEVENT
BEGIN:VEVENT
DTSTART;TZID=Europe/Helsinki:20230627T100000
DTEND;TZID=Europe/Helsinki:20230627T150000
DTSTAMP:20260423T154751
CREATED:20230608T091516Z
LAST-MODIFIED:20230608T091516Z
UID:10001395-1687860000-1687878000@kalenteri.niemikoti.fi
SUMMARY:Avoin kesätoiminta
DESCRIPTION:Kaikille Niemikotisäätiön palvelunkäyttäjille avointa kesätoimintaa. Villa Borgis avoinna klo 10-15. Katso päiväkohtainen ohjelma kalenteristamme. Voit tulla mukaan myös vain oleskelemaan\, seurustelemaan muiden kanssa\, ompelemaan\, piirtämään\, juomaan kahvia\, rentoutumaan…
URL:https://kalenteri.niemikoti.fi/tapahtuma/avoin-kesatoiminta/2023-06-27/
LOCATION:Toimintakeskus Villa Borgis\, Linnavuorentie 13\, Helsinki\, 00950\, Finland
CATEGORIES:Toimintakeskus Villa Borgis
END:VEVENT
BEGIN:VEVENT
DTSTART;TZID=Europe/Helsinki:20230628T100000
DTEND;TZID=Europe/Helsinki:20230628T150000
DTSTAMP:20260423T154751
CREATED:20230608T091516Z
LAST-MODIFIED:20230608T091516Z
UID:10001396-1687946400-1687964400@kalenteri.niemikoti.fi
SUMMARY:Avoin kesätoiminta
DESCRIPTION:Kaikille Niemikotisäätiön palvelunkäyttäjille avointa kesätoimintaa. Villa Borgis avoinna klo 10-15. Katso päiväkohtainen ohjelma kalenteristamme. Voit tulla mukaan myös vain oleskelemaan\, seurustelemaan muiden kanssa\, ompelemaan\, piirtämään\, juomaan kahvia\, rentoutumaan…
URL:https://kalenteri.niemikoti.fi/tapahtuma/avoin-kesatoiminta/2023-06-28/
LOCATION:Toimintakeskus Villa Borgis\, Linnavuorentie 13\, Helsinki\, 00950\, Finland
CATEGORIES:Toimintakeskus Villa Borgis
END:VEVENT
BEGIN:VEVENT
DTSTART;TZID=Europe/Helsinki:20230629T100000
DTEND;TZID=Europe/Helsinki:20230629T150000
DTSTAMP:20260423T154751
CREATED:20230608T091516Z
LAST-MODIFIED:20230608T091516Z
UID:10001397-1688032800-1688050800@kalenteri.niemikoti.fi
SUMMARY:Avoin kesätoiminta
DESCRIPTION:Kaikille Niemikotisäätiön palvelunkäyttäjille avointa kesätoimintaa. Villa Borgis avoinna klo 10-15. Katso päiväkohtainen ohjelma kalenteristamme. Voit tulla mukaan myös vain oleskelemaan\, seurustelemaan muiden kanssa\, ompelemaan\, piirtämään\, juomaan kahvia\, rentoutumaan…
URL:https://kalenteri.niemikoti.fi/tapahtuma/avoin-kesatoiminta/2023-06-29/
LOCATION:Toimintakeskus Villa Borgis\, Linnavuorentie 13\, Helsinki\, 00950\, Finland
CATEGORIES:Toimintakeskus Villa Borgis
END:VEVENT
BEGIN:VEVENT
DTSTART;TZID=Europe/Helsinki:20230630T100000
DTEND;TZID=Europe/Helsinki:20230630T140000
DTSTAMP:20260423T154751
CREATED:20230608T092337Z
LAST-MODIFIED:20230608T092337Z
UID:10001414-1688119200-1688133600@kalenteri.niemikoti.fi
SUMMARY:Avoin kesätoiminta
DESCRIPTION:Kaikille Niemikotisäätiön palvelunkäyttäjille avointa kesätoimintaa. Villa Borgis avoinna klo 10-14. Katso päiväkohtainen ohjelma kalenteristamme. Voit tulla mukaan myös vain oleskelemaan\, seurustelemaan muiden kanssa\, ompelemaan\, piirtämään\, juomaan kahvia\, rentoutumaan…
URL:https://kalenteri.niemikoti.fi/tapahtuma/avoin-kesatoiminta-2/2023-06-30/
LOCATION:Toimintakeskus Villa Borgis\, Linnavuorentie 13\, Helsinki\, 00950\, Finland
CATEGORIES:Toimintakeskus Villa Borgis
END:VEVENT
BEGIN:VEVENT
DTSTART;TZID=Europe/Helsinki:20230703T100000
DTEND;TZID=Europe/Helsinki:20230703T150000
DTSTAMP:20260423T154751
CREATED:20230608T091516Z
LAST-MODIFIED:20230608T091516Z
UID:10001398-1688378400-1688396400@kalenteri.niemikoti.fi
SUMMARY:Avoin kesätoiminta
DESCRIPTION:Kaikille Niemikotisäätiön palvelunkäyttäjille avointa kesätoimintaa. Villa Borgis avoinna klo 10-15. Katso päiväkohtainen ohjelma kalenteristamme. Voit tulla mukaan myös vain oleskelemaan\, seurustelemaan muiden kanssa\, ompelemaan\, piirtämään\, juomaan kahvia\, rentoutumaan…
URL:https://kalenteri.niemikoti.fi/tapahtuma/avoin-kesatoiminta/2023-07-03/
LOCATION:Toimintakeskus Villa Borgis\, Linnavuorentie 13\, Helsinki\, 00950\, Finland
CATEGORIES:Toimintakeskus Villa Borgis
END:VEVENT
BEGIN:VEVENT
DTSTART;TZID=Europe/Helsinki:20230704T100000
DTEND;TZID=Europe/Helsinki:20230704T150000
DTSTAMP:20260423T154751
CREATED:20230608T091516Z
LAST-MODIFIED:20230608T091516Z
UID:10001399-1688464800-1688482800@kalenteri.niemikoti.fi
SUMMARY:Avoin kesätoiminta
DESCRIPTION:Kaikille Niemikotisäätiön palvelunkäyttäjille avointa kesätoimintaa. Villa Borgis avoinna klo 10-15. Katso päiväkohtainen ohjelma kalenteristamme. Voit tulla mukaan myös vain oleskelemaan\, seurustelemaan muiden kanssa\, ompelemaan\, piirtämään\, juomaan kahvia\, rentoutumaan…
URL:https://kalenteri.niemikoti.fi/tapahtuma/avoin-kesatoiminta/2023-07-04/
LOCATION:Toimintakeskus Villa Borgis\, Linnavuorentie 13\, Helsinki\, 00950\, Finland
CATEGORIES:Toimintakeskus Villa Borgis
END:VEVENT
BEGIN:VEVENT
DTSTART;TZID=Europe/Helsinki:20230705T100000
DTEND;TZID=Europe/Helsinki:20230705T150000
DTSTAMP:20260423T154751
CREATED:20230608T091516Z
LAST-MODIFIED:20230608T091516Z
UID:10001400-1688551200-1688569200@kalenteri.niemikoti.fi
SUMMARY:Avoin kesätoiminta
DESCRIPTION:Kaikille Niemikotisäätiön palvelunkäyttäjille avointa kesätoimintaa. Villa Borgis avoinna klo 10-15. Katso päiväkohtainen ohjelma kalenteristamme. Voit tulla mukaan myös vain oleskelemaan\, seurustelemaan muiden kanssa\, ompelemaan\, piirtämään\, juomaan kahvia\, rentoutumaan…
URL:https://kalenteri.niemikoti.fi/tapahtuma/avoin-kesatoiminta/2023-07-05/
LOCATION:Toimintakeskus Villa Borgis\, Linnavuorentie 13\, Helsinki\, 00950\, Finland
CATEGORIES:Toimintakeskus Villa Borgis
END:VEVENT
BEGIN:VEVENT
DTSTART;TZID=Europe/Helsinki:20230706T100000
DTEND;TZID=Europe/Helsinki:20230706T150000
DTSTAMP:20260423T154751
CREATED:20230608T091516Z
LAST-MODIFIED:20230608T091516Z
UID:10001401-1688637600-1688655600@kalenteri.niemikoti.fi
SUMMARY:Avoin kesätoiminta
DESCRIPTION:Kaikille Niemikotisäätiön palvelunkäyttäjille avointa kesätoimintaa. Villa Borgis avoinna klo 10-15. Katso päiväkohtainen ohjelma kalenteristamme. Voit tulla mukaan myös vain oleskelemaan\, seurustelemaan muiden kanssa\, ompelemaan\, piirtämään\, juomaan kahvia\, rentoutumaan…
URL:https://kalenteri.niemikoti.fi/tapahtuma/avoin-kesatoiminta/2023-07-06/
LOCATION:Toimintakeskus Villa Borgis\, Linnavuorentie 13\, Helsinki\, 00950\, Finland
CATEGORIES:Toimintakeskus Villa Borgis
END:VEVENT
BEGIN:VEVENT
DTSTART;TZID=Europe/Helsinki:20230707T100000
DTEND;TZID=Europe/Helsinki:20230707T140000
DTSTAMP:20260423T154751
CREATED:20230608T092337Z
LAST-MODIFIED:20230608T092337Z
UID:10001415-1688724000-1688738400@kalenteri.niemikoti.fi
SUMMARY:Avoin kesätoiminta
DESCRIPTION:Kaikille Niemikotisäätiön palvelunkäyttäjille avointa kesätoimintaa. Villa Borgis avoinna klo 10-14. Katso päiväkohtainen ohjelma kalenteristamme. Voit tulla mukaan myös vain oleskelemaan\, seurustelemaan muiden kanssa\, ompelemaan\, piirtämään\, juomaan kahvia\, rentoutumaan…
URL:https://kalenteri.niemikoti.fi/tapahtuma/avoin-kesatoiminta-2/2023-07-07/
LOCATION:Toimintakeskus Villa Borgis\, Linnavuorentie 13\, Helsinki\, 00950\, Finland
CATEGORIES:Toimintakeskus Villa Borgis
END:VEVENT
BEGIN:VEVENT
DTSTART;TZID=Europe/Helsinki:20230710T100000
DTEND;TZID=Europe/Helsinki:20230710T150000
DTSTAMP:20260423T154751
CREATED:20230608T091516Z
LAST-MODIFIED:20230608T091516Z
UID:10001402-1688983200-1689001200@kalenteri.niemikoti.fi
SUMMARY:Avoin kesätoiminta
DESCRIPTION:Kaikille Niemikotisäätiön palvelunkäyttäjille avointa kesätoimintaa. Villa Borgis avoinna klo 10-15. Katso päiväkohtainen ohjelma kalenteristamme. Voit tulla mukaan myös vain oleskelemaan\, seurustelemaan muiden kanssa\, ompelemaan\, piirtämään\, juomaan kahvia\, rentoutumaan…
URL:https://kalenteri.niemikoti.fi/tapahtuma/avoin-kesatoiminta/2023-07-10/
LOCATION:Toimintakeskus Villa Borgis\, Linnavuorentie 13\, Helsinki\, 00950\, Finland
CATEGORIES:Toimintakeskus Villa Borgis
END:VEVENT
BEGIN:VEVENT
DTSTART;TZID=Europe/Helsinki:20230711T100000
DTEND;TZID=Europe/Helsinki:20230711T150000
DTSTAMP:20260423T154751
CREATED:20230608T091516Z
LAST-MODIFIED:20230608T091516Z
UID:10001403-1689069600-1689087600@kalenteri.niemikoti.fi
SUMMARY:Avoin kesätoiminta
DESCRIPTION:Kaikille Niemikotisäätiön palvelunkäyttäjille avointa kesätoimintaa. Villa Borgis avoinna klo 10-15. Katso päiväkohtainen ohjelma kalenteristamme. Voit tulla mukaan myös vain oleskelemaan\, seurustelemaan muiden kanssa\, ompelemaan\, piirtämään\, juomaan kahvia\, rentoutumaan…
URL:https://kalenteri.niemikoti.fi/tapahtuma/avoin-kesatoiminta/2023-07-11/
LOCATION:Toimintakeskus Villa Borgis\, Linnavuorentie 13\, Helsinki\, 00950\, Finland
CATEGORIES:Toimintakeskus Villa Borgis
END:VEVENT
BEGIN:VEVENT
DTSTART;TZID=Europe/Helsinki:20230712T100000
DTEND;TZID=Europe/Helsinki:20230712T150000
DTSTAMP:20260423T154751
CREATED:20230608T091516Z
LAST-MODIFIED:20230608T091516Z
UID:10001404-1689156000-1689174000@kalenteri.niemikoti.fi
SUMMARY:Avoin kesätoiminta
DESCRIPTION:Kaikille Niemikotisäätiön palvelunkäyttäjille avointa kesätoimintaa. Villa Borgis avoinna klo 10-15. Katso päiväkohtainen ohjelma kalenteristamme. Voit tulla mukaan myös vain oleskelemaan\, seurustelemaan muiden kanssa\, ompelemaan\, piirtämään\, juomaan kahvia\, rentoutumaan…
URL:https://kalenteri.niemikoti.fi/tapahtuma/avoin-kesatoiminta/2023-07-12/
LOCATION:Toimintakeskus Villa Borgis\, Linnavuorentie 13\, Helsinki\, 00950\, Finland
CATEGORIES:Toimintakeskus Villa Borgis
END:VEVENT
BEGIN:VEVENT
DTSTART;TZID=Europe/Helsinki:20230713T100000
DTEND;TZID=Europe/Helsinki:20230713T150000
DTSTAMP:20260423T154751
CREATED:20230608T091516Z
LAST-MODIFIED:20230608T091516Z
UID:10001405-1689242400-1689260400@kalenteri.niemikoti.fi
SUMMARY:Avoin kesätoiminta
DESCRIPTION:Kaikille Niemikotisäätiön palvelunkäyttäjille avointa kesätoimintaa. Villa Borgis avoinna klo 10-15. Katso päiväkohtainen ohjelma kalenteristamme. Voit tulla mukaan myös vain oleskelemaan\, seurustelemaan muiden kanssa\, ompelemaan\, piirtämään\, juomaan kahvia\, rentoutumaan…
URL:https://kalenteri.niemikoti.fi/tapahtuma/avoin-kesatoiminta/2023-07-13/
LOCATION:Toimintakeskus Villa Borgis\, Linnavuorentie 13\, Helsinki\, 00950\, Finland
CATEGORIES:Toimintakeskus Villa Borgis
END:VEVENT
BEGIN:VEVENT
DTSTART;TZID=Europe/Helsinki:20230714T100000
DTEND;TZID=Europe/Helsinki:20230714T140000
DTSTAMP:20260423T154751
CREATED:20230608T092337Z
LAST-MODIFIED:20230608T092337Z
UID:10001416-1689328800-1689343200@kalenteri.niemikoti.fi
SUMMARY:Avoin kesätoiminta
DESCRIPTION:Kaikille Niemikotisäätiön palvelunkäyttäjille avointa kesätoimintaa. Villa Borgis avoinna klo 10-14. Katso päiväkohtainen ohjelma kalenteristamme. Voit tulla mukaan myös vain oleskelemaan\, seurustelemaan muiden kanssa\, ompelemaan\, piirtämään\, juomaan kahvia\, rentoutumaan…
URL:https://kalenteri.niemikoti.fi/tapahtuma/avoin-kesatoiminta-2/2023-07-14/
LOCATION:Toimintakeskus Villa Borgis\, Linnavuorentie 13\, Helsinki\, 00950\, Finland
CATEGORIES:Toimintakeskus Villa Borgis
END:VEVENT
BEGIN:VEVENT
DTSTART;TZID=Europe/Helsinki:20230717T100000
DTEND;TZID=Europe/Helsinki:20230717T150000
DTSTAMP:20260423T154751
CREATED:20230608T091516Z
LAST-MODIFIED:20230608T091516Z
UID:10001406-1689588000-1689606000@kalenteri.niemikoti.fi
SUMMARY:Avoin kesätoiminta
DESCRIPTION:Kaikille Niemikotisäätiön palvelunkäyttäjille avointa kesätoimintaa. Villa Borgis avoinna klo 10-15. Katso päiväkohtainen ohjelma kalenteristamme. Voit tulla mukaan myös vain oleskelemaan\, seurustelemaan muiden kanssa\, ompelemaan\, piirtämään\, juomaan kahvia\, rentoutumaan…
URL:https://kalenteri.niemikoti.fi/tapahtuma/avoin-kesatoiminta/2023-07-17/
LOCATION:Toimintakeskus Villa Borgis\, Linnavuorentie 13\, Helsinki\, 00950\, Finland
CATEGORIES:Toimintakeskus Villa Borgis
END:VEVENT
BEGIN:VEVENT
DTSTART;TZID=Europe/Helsinki:20230718T100000
DTEND;TZID=Europe/Helsinki:20230718T150000
DTSTAMP:20260423T154751
CREATED:20230608T091516Z
LAST-MODIFIED:20230608T091516Z
UID:10001407-1689674400-1689692400@kalenteri.niemikoti.fi
SUMMARY:Avoin kesätoiminta
DESCRIPTION:Kaikille Niemikotisäätiön palvelunkäyttäjille avointa kesätoimintaa. Villa Borgis avoinna klo 10-15. Katso päiväkohtainen ohjelma kalenteristamme. Voit tulla mukaan myös vain oleskelemaan\, seurustelemaan muiden kanssa\, ompelemaan\, piirtämään\, juomaan kahvia\, rentoutumaan…
URL:https://kalenteri.niemikoti.fi/tapahtuma/avoin-kesatoiminta/2023-07-18/
LOCATION:Toimintakeskus Villa Borgis\, Linnavuorentie 13\, Helsinki\, 00950\, Finland
CATEGORIES:Toimintakeskus Villa Borgis
END:VEVENT
BEGIN:VEVENT
DTSTART;TZID=Europe/Helsinki:20230719T100000
DTEND;TZID=Europe/Helsinki:20230719T150000
DTSTAMP:20260423T154751
CREATED:20230608T091516Z
LAST-MODIFIED:20230608T091516Z
UID:10001408-1689760800-1689778800@kalenteri.niemikoti.fi
SUMMARY:Avoin kesätoiminta
DESCRIPTION:Kaikille Niemikotisäätiön palvelunkäyttäjille avointa kesätoimintaa. Villa Borgis avoinna klo 10-15. Katso päiväkohtainen ohjelma kalenteristamme. Voit tulla mukaan myös vain oleskelemaan\, seurustelemaan muiden kanssa\, ompelemaan\, piirtämään\, juomaan kahvia\, rentoutumaan…
URL:https://kalenteri.niemikoti.fi/tapahtuma/avoin-kesatoiminta/2023-07-19/
LOCATION:Toimintakeskus Villa Borgis\, Linnavuorentie 13\, Helsinki\, 00950\, Finland
CATEGORIES:Toimintakeskus Villa Borgis
END:VEVENT
BEGIN:VEVENT
DTSTART;TZID=Europe/Helsinki:20230720T100000
DTEND;TZID=Europe/Helsinki:20230720T150000
DTSTAMP:20260423T154751
CREATED:20230608T091516Z
LAST-MODIFIED:20230608T091516Z
UID:10001409-1689847200-1689865200@kalenteri.niemikoti.fi
SUMMARY:Avoin kesätoiminta
DESCRIPTION:Kaikille Niemikotisäätiön palvelunkäyttäjille avointa kesätoimintaa. Villa Borgis avoinna klo 10-15. Katso päiväkohtainen ohjelma kalenteristamme. Voit tulla mukaan myös vain oleskelemaan\, seurustelemaan muiden kanssa\, ompelemaan\, piirtämään\, juomaan kahvia\, rentoutumaan…
URL:https://kalenteri.niemikoti.fi/tapahtuma/avoin-kesatoiminta/2023-07-20/
LOCATION:Toimintakeskus Villa Borgis\, Linnavuorentie 13\, Helsinki\, 00950\, Finland
CATEGORIES:Toimintakeskus Villa Borgis
END:VEVENT
BEGIN:VEVENT
DTSTART;TZID=Europe/Helsinki:20230721T100000
DTEND;TZID=Europe/Helsinki:20230721T140000
DTSTAMP:20260423T154751
CREATED:20230608T092337Z
LAST-MODIFIED:20230608T092337Z
UID:10001417-1689933600-1689948000@kalenteri.niemikoti.fi
SUMMARY:Avoin kesätoiminta
DESCRIPTION:Kaikille Niemikotisäätiön palvelunkäyttäjille avointa kesätoimintaa. Villa Borgis avoinna klo 10-14. Katso päiväkohtainen ohjelma kalenteristamme. Voit tulla mukaan myös vain oleskelemaan\, seurustelemaan muiden kanssa\, ompelemaan\, piirtämään\, juomaan kahvia\, rentoutumaan…
URL:https://kalenteri.niemikoti.fi/tapahtuma/avoin-kesatoiminta-2/2023-07-21/
LOCATION:Toimintakeskus Villa Borgis\, Linnavuorentie 13\, Helsinki\, 00950\, Finland
CATEGORIES:Toimintakeskus Villa Borgis
END:VEVENT
BEGIN:VEVENT
DTSTART;TZID=Europe/Helsinki:20230724T100000
DTEND;TZID=Europe/Helsinki:20230724T150000
DTSTAMP:20260423T154751
CREATED:20230608T091516Z
LAST-MODIFIED:20230608T091516Z
UID:10001410-1690192800-1690210800@kalenteri.niemikoti.fi
SUMMARY:Avoin kesätoiminta
DESCRIPTION:Kaikille Niemikotisäätiön palvelunkäyttäjille avointa kesätoimintaa. Villa Borgis avoinna klo 10-15. Katso päiväkohtainen ohjelma kalenteristamme. Voit tulla mukaan myös vain oleskelemaan\, seurustelemaan muiden kanssa\, ompelemaan\, piirtämään\, juomaan kahvia\, rentoutumaan…
URL:https://kalenteri.niemikoti.fi/tapahtuma/avoin-kesatoiminta/2023-07-24/
LOCATION:Toimintakeskus Villa Borgis\, Linnavuorentie 13\, Helsinki\, 00950\, Finland
CATEGORIES:Toimintakeskus Villa Borgis
END:VEVENT
BEGIN:VEVENT
DTSTART;TZID=Europe/Helsinki:20230725T100000
DTEND;TZID=Europe/Helsinki:20230725T150000
DTSTAMP:20260423T154751
CREATED:20230608T091516Z
LAST-MODIFIED:20230608T091516Z
UID:10001411-1690279200-1690297200@kalenteri.niemikoti.fi
SUMMARY:Avoin kesätoiminta
DESCRIPTION:Kaikille Niemikotisäätiön palvelunkäyttäjille avointa kesätoimintaa. Villa Borgis avoinna klo 10-15. Katso päiväkohtainen ohjelma kalenteristamme. Voit tulla mukaan myös vain oleskelemaan\, seurustelemaan muiden kanssa\, ompelemaan\, piirtämään\, juomaan kahvia\, rentoutumaan…
URL:https://kalenteri.niemikoti.fi/tapahtuma/avoin-kesatoiminta/2023-07-25/
LOCATION:Toimintakeskus Villa Borgis\, Linnavuorentie 13\, Helsinki\, 00950\, Finland
CATEGORIES:Toimintakeskus Villa Borgis
END:VEVENT
BEGIN:VEVENT
DTSTART;TZID=Europe/Helsinki:20230726T100000
DTEND;TZID=Europe/Helsinki:20230726T150000
DTSTAMP:20260423T154751
CREATED:20230608T091516Z
LAST-MODIFIED:20230608T091516Z
UID:10001412-1690365600-1690383600@kalenteri.niemikoti.fi
SUMMARY:Avoin kesätoiminta
DESCRIPTION:Kaikille Niemikotisäätiön palvelunkäyttäjille avointa kesätoimintaa. Villa Borgis avoinna klo 10-15. Katso päiväkohtainen ohjelma kalenteristamme. Voit tulla mukaan myös vain oleskelemaan\, seurustelemaan muiden kanssa\, ompelemaan\, piirtämään\, juomaan kahvia\, rentoutumaan…
URL:https://kalenteri.niemikoti.fi/tapahtuma/avoin-kesatoiminta/2023-07-26/
LOCATION:Toimintakeskus Villa Borgis\, Linnavuorentie 13\, Helsinki\, 00950\, Finland
CATEGORIES:Toimintakeskus Villa Borgis
END:VEVENT
END:VCALENDAR