BEGIN:VCALENDAR
VERSION:2.0
PRODID:-//Tapahtumakalenteri - ECPv6.15.18//NONSGML v1.0//EN
CALSCALE:GREGORIAN
METHOD:PUBLISH
X-WR-CALNAME:Tapahtumakalenteri
X-ORIGINAL-URL:https://kalenteri.niemikoti.fi
X-WR-CALDESC:Tapahtumat Tapahtumakalenteri
REFRESH-INTERVAL;VALUE=DURATION:PT1H
X-Robots-Tag:noindex
X-PUBLISHED-TTL:PT1H
BEGIN:VTIMEZONE
TZID:Europe/Helsinki
BEGIN:DAYLIGHT
TZOFFSETFROM:+0200
TZOFFSETTO:+0300
TZNAME:EEST
DTSTART:20240331T010000
END:DAYLIGHT
BEGIN:STANDARD
TZOFFSETFROM:+0300
TZOFFSETTO:+0200
TZNAME:EET
DTSTART:20241027T010000
END:STANDARD
BEGIN:DAYLIGHT
TZOFFSETFROM:+0200
TZOFFSETTO:+0300
TZNAME:EEST
DTSTART:20250330T010000
END:DAYLIGHT
BEGIN:STANDARD
TZOFFSETFROM:+0300
TZOFFSETTO:+0200
TZNAME:EET
DTSTART:20251026T010000
END:STANDARD
BEGIN:DAYLIGHT
TZOFFSETFROM:+0200
TZOFFSETTO:+0300
TZNAME:EEST
DTSTART:20260329T010000
END:DAYLIGHT
BEGIN:STANDARD
TZOFFSETFROM:+0300
TZOFFSETTO:+0200
TZNAME:EET
DTSTART:20261025T010000
END:STANDARD
END:VTIMEZONE
BEGIN:VEVENT
DTSTART;TZID=Europe/Helsinki:20251209T110000
DTEND;TZID=Europe/Helsinki:20251209T130000
DTSTAMP:20260423T071221
CREATED:20251128T081734Z
LAST-MODIFIED:20251128T081734Z
UID:10025549-1765278000-1765285200@kalenteri.niemikoti.fi
SUMMARY:CV-PAJA
DESCRIPTION:Vuoden 2025 viimeinen CV-paja järjestetään tiistaina 9.12. klo 11-13.\nTyöpajaan ei tarvitse ilmoittautua ennakkoon\, eikä työpajaan osallistuminen vaadi valmennuksessamme olemista. Saat työpajassa vinkkejä mm. osaamispohjaisen CV:n tekemiseen sekä Canva-ohjelman käyttöön. Työpajaa on ohjaamassa työvalmentajan lisäksi kokemusasiantuntija Aino.\n\n\n\nTervetuloa mukaan\, matalalla kynnyksellä!
URL:https://kalenteri.niemikoti.fi/tapahtuma/cv-paja-12/
LOCATION:Valtti Valmennus\, Elimäenkatu 26\, Helsinki\, 00510\, Finland
CATEGORIES:Tapahtumat palvelunkäyttäjille,Valtti Valmennus
ATTACH;FMTTYPE=image/png:https://kalenteri.niemikoti.fi/wp-content/uploads/2025/11/Ansioluettelo-eli-CV-Curriculum-Vitae-Instagram-postaus-45-4.png
END:VEVENT
BEGIN:VEVENT
DTSTART;TZID=Europe/Helsinki:20251209T110000
DTEND;TZID=Europe/Helsinki:20251209T130000
DTSTAMP:20260423T071221
CREATED:20251030T082556Z
LAST-MODIFIED:20251030T082556Z
UID:10024944-1765278000-1765285200@kalenteri.niemikoti.fi
SUMMARY:CV-PAJA
DESCRIPTION:Valtti Valmennus järjestää loppu vuodesta vielä kaksi CV-pajaa: 25.11. sekä 9.12. CV-pajassa saat vinkkejä ja tarvittaessa tukea oman ansioluettelon tekemiseen. Tutustumme työpajassa osaamispohjaisen CV:n eli ansioluettelon tekemiseen ja Canva-ohjelman käyttöön. Ohjaamassa työpajaa on työvalmentajan lisäksi Valtti Valmennuksessa toimiva kokemusasiantuntija Aino.\n\n\n\nTyöpajat toimivat matalan kynnyksen periaatteella\, eikä ennakkoilmoittautumista vaadita. Olet myös lämpimästi tervetullut mukaan\, vaikket olisikaan valmennuksessa Valtissa.\n\n\n\nPistetään CV:t yhdessä kuntoon!
URL:https://kalenteri.niemikoti.fi/tapahtuma/cv-paja-11/
LOCATION:Valtti Valmennus\, Elimäenkatu 26\, Helsinki\, 00510\, Finland
CATEGORIES:Valtti Valmennus
ATTACH;FMTTYPE=image/png:https://kalenteri.niemikoti.fi/wp-content/uploads/2025/10/Ansioluettelo-eli-CV-Curriculum-Vitae-Instagram-postaus-45-3-1.png
END:VEVENT
BEGIN:VEVENT
DTSTART;TZID=Europe/Helsinki:20251125T110000
DTEND;TZID=Europe/Helsinki:20251125T130000
DTSTAMP:20260423T071221
CREATED:20251030T082024Z
LAST-MODIFIED:20251030T082024Z
UID:10024943-1764068400-1764075600@kalenteri.niemikoti.fi
SUMMARY:CV-PAJA
DESCRIPTION:Valtti Valmennus järjestää loppu vuodesta vielä kaksi CV-pajaa: 25.11. sekä 9.12. Cv-pajassa saat vinkkejä ja tarvittaessa tukea oman ansioluettelon tekemiseen. Tutustumme työpajassa osaamispohjaisen CV:n eli ansioluettelon tekemiseen ja Canva-ohjelman käyttöön. Ohjaamassa työpajaa on työvalmentajan lisäksi Valtti Valmennuksessa toimiva kokemusasiantuntija Aino.\n\n\n\nTyöpajat toimivat matalan kynnyksen periaatteella\, eikä ennakkoilmoittautumista vaadita. Olet myös lämpimästi tervetullut mukaan\, vaikket olisikaan valmennuksessa Valtissa.\n\n\n\nPistetään CV:t yhdessä kuntoon!
URL:https://kalenteri.niemikoti.fi/tapahtuma/cv-paja-10/
LOCATION:Valtti Valmennus\, Elimäenkatu 26\, Helsinki\, 00510\, Finland
CATEGORIES:Valtti Valmennus
ATTACH;FMTTYPE=image/png:https://kalenteri.niemikoti.fi/wp-content/uploads/2025/10/Ansioluettelo-eli-CV-Curriculum-Vitae-Instagram-postaus-45-3.png
END:VEVENT
BEGIN:VEVENT
DTSTART;TZID=Europe/Helsinki:20251014T110000
DTEND;TZID=Europe/Helsinki:20251014T130000
DTSTAMP:20260423T071221
CREATED:20250929T124704Z
LAST-MODIFIED:20250929T124704Z
UID:10024849-1760439600-1760446800@kalenteri.niemikoti.fi
SUMMARY:CV-PAJA
DESCRIPTION:Valtti Valmennuksen CV-pajassa saat apua CV:n eli ansioluettelon tekemiseen työvalmentajalta sekä kokemusasiantuntijalta. Työpajassa tutustumme osaamispohjaisen CV:n rakentamiseen sekä Canva-ohjelman käyttöön. CV-pajaan ei tarvitse ilmoittautua ennakkoon eikä CV-pajaan osallistuminen vaadi valmennuksessa olemista. Tervetuloa siis mukaan matalalla kynnyksellä!
URL:https://kalenteri.niemikoti.fi/tapahtuma/cv-paja-9/
LOCATION:Valtti Valmennus\, Elimäenkatu 26\, Helsinki\, 00510\, Finland
CATEGORIES:Valtti Valmennus
ATTACH;FMTTYPE=image/png:https://kalenteri.niemikoti.fi/wp-content/uploads/2025/09/Ansioluettelo-eli-CV-Curriculum-Vitae-Instagram-postaus-45-1.png
END:VEVENT
BEGIN:VEVENT
DTSTART;TZID=Europe/Helsinki:20251001T100000
DTEND;TZID=Europe/Helsinki:20251001T120000
DTSTAMP:20260423T071221
CREATED:20250930T095605Z
LAST-MODIFIED:20250930T095605Z
UID:10024908-1759312800-1759320000@kalenteri.niemikoti.fi
SUMMARY:Pihatalkoot
DESCRIPTION:Haravointia ja syyskukkien istutusta. Osallistujille talkootarjoilu.
URL:https://kalenteri.niemikoti.fi/tapahtuma/pihatalkoot-2/
LOCATION:Malmin päivätoimintakeskus\, Vanha Helsingintie 9\, Helsinki\, 00700\, Finland
CATEGORIES:Malmin päivätoimintakeskus
ATTACH;FMTTYPE=image/jpeg:https://kalenteri.niemikoti.fi/wp-content/uploads/2025/09/IMG_20240925_102155_HDR-scaled.jpg
END:VEVENT
BEGIN:VEVENT
DTSTART;TZID=Europe/Helsinki:20250930T110000
DTEND;TZID=Europe/Helsinki:20250930T130000
DTSTAMP:20260423T071221
CREATED:20250815T073555Z
LAST-MODIFIED:20250815T073555Z
UID:10024487-1759230000-1759237200@kalenteri.niemikoti.fi
SUMMARY:CV-Paja
DESCRIPTION:Tervetuloa Valtti Valmennuksen CV-pajaan aloittamaan ansioluettelon tekemistä\, tai jatkamaan keskeneräistä. Saat työvalmentajan vinkit ja halutessasi myös henkilökohtaista tukea. Työpajassa voit käyttää Valtin pöytätietokoneita\, tai tuoda oman kannettavan. Työpajassa on mukana myös kokemusasiantuntija. \nSinun ei tarvitse valmistautua tai ilmoittautua CV-pajaan\, vaan voit vain saapua paikalle.
URL:https://kalenteri.niemikoti.fi/tapahtuma/cv-paja-8/
LOCATION:Valtti Valmennus\, Elimäenkatu 26\, Helsinki\, 00510\, Finland
CATEGORIES:Työ- ja valmennustoiminta,Valtti Valmennus
ATTACH;FMTTYPE=image/png:https://kalenteri.niemikoti.fi/wp-content/uploads/2025/08/cvpaja-1.png
END:VEVENT
BEGIN:VEVENT
DTSTART;TZID=Europe/Helsinki:20250926T130000
DTEND;TZID=Europe/Helsinki:20250926T150000
DTSTAMP:20260423T071221
CREATED:20250907T084237Z
LAST-MODIFIED:20250907T084237Z
UID:10024817-1758891600-1758898800@kalenteri.niemikoti.fi
SUMMARY:🌿 Hyvinvoinnin ja kohtaamisen tila
DESCRIPTION:🌿 Hyvinvoinnin ja kohtaamisen tila \n\nTule mukaan ryhmään\, jossa jaetaan kokemuksia\, vahvistetaan hyvinvointia ja tehdään unelmista toteuttamiskelpoisia. \nRyhmä on avoin kaikille Niemikotisäätiön palveluidenkäyttäjille. Ryhmään osallistuminen ei vaadi aikaisempaa kokemusta. Kokemusta karttuu tekemällä! \nHyvinvoinnin ja kohtaamisen tila on paikka\, jossa yhdessä tekeminen\, keskustelu ja ideat muuttuvat teoiksi.
URL:https://kalenteri.niemikoti.fi/tapahtuma/%f0%9f%8c%bf-hyvinvoinnin-ja-kohtaamisen-tila-3/
CATEGORIES:Kulttuuripaja ELVIS,Malmin päivätoimintakeskus,Niilo-sovellus,Tapahtumat palvelunkäyttäjille,Toimintakeskus Villa Borgis
ATTACH;FMTTYPE=image/jpeg:https://kalenteri.niemikoti.fi/wp-content/uploads/2025/09/HVKT-syyskuu-2.jpg
END:VEVENT
BEGIN:VEVENT
DTSTART;TZID=Europe/Helsinki:20250919T130000
DTEND;TZID=Europe/Helsinki:20250919T150000
DTSTAMP:20260423T071221
CREATED:20250907T084034Z
LAST-MODIFIED:20250907T084034Z
UID:10024816-1758286800-1758294000@kalenteri.niemikoti.fi
SUMMARY:🌿 Hyvinvoinnin ja kohtaamisen tila
DESCRIPTION:🌿 Hyvinvoinnin ja kohtaamisen tila \n\nTule mukaan ryhmään\, jossa jaetaan kokemuksia\, vahvistetaan hyvinvointia ja tehdään unelmista toteuttamiskelpoisia. \nRyhmä on avoin kaikille Niemikotisäätiön palveluidenkäyttäjille. Ryhmään osallistuminen ei vaadi aikaisempaa kokemusta. Kokemusta karttuu tekemällä! \nHyvinvoinnin ja kohtaamisen tila on paikka\, jossa yhdessä tekeminen\, keskustelu ja ideat muuttuvat teoiksi.
URL:https://kalenteri.niemikoti.fi/tapahtuma/%f0%9f%8c%bf-hyvinvoinnin-ja-kohtaamisen-tila-2/
CATEGORIES:Kulttuuripaja ELVIS,Malmin päivätoimintakeskus,Niilo-sovellus,Tapahtumat palvelunkäyttäjille,Toimintakeskus Villa Borgis
ATTACH;FMTTYPE=image/jpeg:https://kalenteri.niemikoti.fi/wp-content/uploads/2025/09/HVKT-syyskuu-1.jpg
END:VEVENT
BEGIN:VEVENT
DTSTART;TZID=Europe/Helsinki:20250912T110000
DTEND;TZID=Europe/Helsinki:20250912T130000
DTSTAMP:20260423T071221
CREATED:20250907T083535Z
LAST-MODIFIED:20250907T083712Z
UID:10024815-1757674800-1757682000@kalenteri.niemikoti.fi
SUMMARY:🌿 Hyvinvoinnin ja kohtaamisen tila
DESCRIPTION:🌿 Hyvinvoinnin ja kohtaamisen tila \n\n\nTule mukaan ryhmään\, jossa jaetaan kokemuksia\, vahvistetaan hyvinvointia ja tehdään unelmista toteuttamiskelpoisia. \n\n \nRyhmä on avoin kaikille Niemikotisäätiön palveluidenkäyttäjille. Ryhmään osallistuminen ei vaadi aikaisempaa kokemusta. Kokemusta karttuu tekemällä! \n \nHyvinvoinnin ja kohtaamisen tila on paikka\, jossa yhdessä tekeminen\, keskustelu ja ideat muuttuvat teoiksi. \n \n  \nTervetuloa!
URL:https://kalenteri.niemikoti.fi/tapahtuma/%f0%9f%8c%bf-hyvinvoinnin-ja-kohtaamisen-tila/
CATEGORIES:Kulttuuripaja ELVIS,Malmin päivätoimintakeskus,Tapahtumat palvelunkäyttäjille,Toimintakeskus Villa Borgis
ATTACH;FMTTYPE=image/jpeg:https://kalenteri.niemikoti.fi/wp-content/uploads/2025/09/HVKT-syyskuu.jpg
END:VEVENT
BEGIN:VEVENT
DTSTART;TZID=Europe/Helsinki:20250826T110000
DTEND;TZID=Europe/Helsinki:20250826T130000
DTSTAMP:20260423T071221
CREATED:20250815T073324Z
LAST-MODIFIED:20250815T073324Z
UID:10024486-1756206000-1756213200@kalenteri.niemikoti.fi
SUMMARY:CV-Paja
DESCRIPTION:Tervetuloa Valtti Valmennuksen CV-pajaan aloittamaan ansioluettelon tekemistä\, tai jatkamaan keskeneräistä. Saat työvalmentajan vinkit ja halutessasi myös henkilökohtaista tukea. Työpajassa voit käyttää Valtin pöytätietokoneita\, tai tuoda oman kannettavan. Työpajassa on mukana myös kokemusasiantuntija. \nSinun ei tarvitse valmistautua tai ilmoittautua CV-pajaan\, vaan voit vain saapua paikalle.
URL:https://kalenteri.niemikoti.fi/tapahtuma/cv-paja-7/
LOCATION:Valtti Valmennus\, Elimäenkatu 26\, Helsinki\, 00510\, Finland
CATEGORIES:Valtti Valmennus
ATTACH;FMTTYPE=image/png:https://kalenteri.niemikoti.fi/wp-content/uploads/2025/08/cvpaja.png
END:VEVENT
BEGIN:VEVENT
DTSTART;TZID=Europe/Helsinki:20250826T110000
DTEND;TZID=Europe/Helsinki:20250826T130000
DTSTAMP:20260423T071221
CREATED:20250815T071615Z
LAST-MODIFIED:20250815T071615Z
UID:10024485-1756206000-1756213200@kalenteri.niemikoti.fi
SUMMARY:CV-Paja
DESCRIPTION:Valtti Valmennuksen CV-Pajaan voit tulla ilman ilmoittautumista aloittamaan CV:n tekoa tai jatkamaan keskeneräisen työstämistä. Voit käyttää Valtin pöytätietokoneita\, tai ottaa oman läppärin mukaan. Hyödynnämme CV:n tekemisessä Canvaa tai Wordia. Saat työvalmentajan vinkit sekä henkilökohtaista tukea halutessasi. Mukana työvalmentajan lisäksi kokemusasiantuntija. \n 
URL:https://kalenteri.niemikoti.fi/tapahtuma/cv-paja-6/
LOCATION:Valtti Valmennus\, Elimäenkatu 26\, Helsinki\, 00510\, Finland
CATEGORIES:Valtti Valmennus
END:VEVENT
BEGIN:VEVENT
DTSTART;TZID=Europe/Helsinki:20250731T110000
DTEND;TZID=Europe/Helsinki:20250731T150000
DTSTAMP:20260423T071221
CREATED:20250527T075343Z
LAST-MODIFIED:20250527T075343Z
UID:10023232-1753959600-1753974000@kalenteri.niemikoti.fi
SUMMARY:Retkitorstai
DESCRIPTION:Yhteislähtö retkille Villa Borgiksesta\, voidaan sopia tapaamispaikka myös lähemmäs retkikohdetta. Ilmoittaudu\, samalla saat lisätiedot kellonajoista ym. \n3.7. Mustavuori \n10.7. Linnanmäki \n17.7. Green City Farm \n24.7. Stansvik \n31.7. Kahvila Meridian
URL:https://kalenteri.niemikoti.fi/tapahtuma/retkitorstai-2/2025-07-31/
LOCATION:Toimintakeskus Villa Borgis\, Linnavuorentie 13\, Helsinki\, 00950\, Finland
CATEGORIES:Toimintakeskus Villa Borgis
END:VEVENT
BEGIN:VEVENT
DTSTART;TZID=Europe/Helsinki:20250730T110000
DTEND;TZID=Europe/Helsinki:20250730T130000
DTSTAMP:20260423T071221
CREATED:20250527T074759Z
LAST-MODIFIED:20250527T074759Z
UID:10023226-1753873200-1753880400@kalenteri.niemikoti.fi
SUMMARY:Pleikkapelit
DESCRIPTION:Villa Borgiksessa on monipuolinen valikoima playstation 4:n pelejä. Pelattava peli valitaan osallistujien kesken.
URL:https://kalenteri.niemikoti.fi/tapahtuma/pleikkapelit-3/2025-07-30/
LOCATION:Toimintakeskus Villa Borgis\, Linnavuorentie 13\, Helsinki\, 00950\, Finland
CATEGORIES:Toimintakeskus Villa Borgis
END:VEVENT
BEGIN:VEVENT
DTSTART;TZID=Europe/Helsinki:20250729T130000
DTEND;TZID=Europe/Helsinki:20250729T150000
DTSTAMP:20260423T071221
CREATED:20250527T074143Z
LAST-MODIFIED:20250527T074143Z
UID:10023216-1753794000-1753801200@kalenteri.niemikoti.fi
SUMMARY:Luovaa toimintaa
DESCRIPTION:Kädentaitoja\, kuvataidetta\, kirjoittamista. musiikkia\, sirkustelua\, pelejä ym.
URL:https://kalenteri.niemikoti.fi/tapahtuma/luovaa-toimintaa-2/2025-07-29/
LOCATION:Toimintakeskus Villa Borgis\, Linnavuorentie 13\, Helsinki\, 00950\, Finland
CATEGORIES:Toimintakeskus Villa Borgis
END:VEVENT
BEGIN:VEVENT
DTSTART;TZID=Europe/Helsinki:20250729T120000
DTEND;TZID=Europe/Helsinki:20250729T150000
DTSTAMP:20260423T071221
CREATED:20250527T074500Z
LAST-MODIFIED:20250527T074500Z
UID:10023221-1753790400-1753801200@kalenteri.niemikoti.fi
SUMMARY:Lautapelit
DESCRIPTION:Osallistujien kesken päätetään mitä lautapeliä pelataan. Villa borgiksessa on erilaisia lautapelejä mutta voit tuoda mukaan myös omasi.
URL:https://kalenteri.niemikoti.fi/tapahtuma/lautapelit-5/2025-07-29/
LOCATION:Toimintakeskus Villa Borgis\, Linnavuorentie 13\, Helsinki\, 00950\, Finland
CATEGORIES:Toimintakeskus Villa Borgis
END:VEVENT
BEGIN:VEVENT
DTSTART;TZID=Europe/Helsinki:20250728T130000
DTEND;TZID=Europe/Helsinki:20250728T150000
DTSTAMP:20260423T071221
CREATED:20250527T074143Z
LAST-MODIFIED:20250527T074143Z
UID:10023215-1753707600-1753714800@kalenteri.niemikoti.fi
SUMMARY:Luovaa toimintaa
DESCRIPTION:Kädentaitoja\, kuvataidetta\, kirjoittamista. musiikkia\, sirkustelua\, pelejä ym.
URL:https://kalenteri.niemikoti.fi/tapahtuma/luovaa-toimintaa-2/2025-07-28/
LOCATION:Toimintakeskus Villa Borgis\, Linnavuorentie 13\, Helsinki\, 00950\, Finland
CATEGORIES:Toimintakeskus Villa Borgis
END:VEVENT
BEGIN:VEVENT
DTSTART;TZID=Europe/Helsinki:20250724T110000
DTEND;TZID=Europe/Helsinki:20250724T150000
DTSTAMP:20260423T071221
CREATED:20250527T075343Z
LAST-MODIFIED:20250527T075343Z
UID:10023231-1753354800-1753369200@kalenteri.niemikoti.fi
SUMMARY:Retkitorstai
DESCRIPTION:Yhteislähtö retkille Villa Borgiksesta\, voidaan sopia tapaamispaikka myös lähemmäs retkikohdetta. Ilmoittaudu\, samalla saat lisätiedot kellonajoista ym. \n3.7. Mustavuori \n10.7. Linnanmäki \n17.7. Green City Farm \n24.7. Stansvik \n31.7. Kahvila Meridian
URL:https://kalenteri.niemikoti.fi/tapahtuma/retkitorstai-2/2025-07-24/
LOCATION:Toimintakeskus Villa Borgis\, Linnavuorentie 13\, Helsinki\, 00950\, Finland
CATEGORIES:Toimintakeskus Villa Borgis
END:VEVENT
BEGIN:VEVENT
DTSTART;TZID=Europe/Helsinki:20250723T110000
DTEND;TZID=Europe/Helsinki:20250723T130000
DTSTAMP:20260423T071221
CREATED:20250527T074759Z
LAST-MODIFIED:20250527T074759Z
UID:10023225-1753268400-1753275600@kalenteri.niemikoti.fi
SUMMARY:Pleikkapelit
DESCRIPTION:Villa Borgiksessa on monipuolinen valikoima playstation 4:n pelejä. Pelattava peli valitaan osallistujien kesken.
URL:https://kalenteri.niemikoti.fi/tapahtuma/pleikkapelit-3/2025-07-23/
LOCATION:Toimintakeskus Villa Borgis\, Linnavuorentie 13\, Helsinki\, 00950\, Finland
CATEGORIES:Toimintakeskus Villa Borgis
END:VEVENT
BEGIN:VEVENT
DTSTART;TZID=Europe/Helsinki:20250722T130000
DTEND;TZID=Europe/Helsinki:20250722T150000
DTSTAMP:20260423T071221
CREATED:20250527T074143Z
LAST-MODIFIED:20250527T074143Z
UID:10023214-1753189200-1753196400@kalenteri.niemikoti.fi
SUMMARY:Luovaa toimintaa
DESCRIPTION:Kädentaitoja\, kuvataidetta\, kirjoittamista. musiikkia\, sirkustelua\, pelejä ym.
URL:https://kalenteri.niemikoti.fi/tapahtuma/luovaa-toimintaa-2/2025-07-22/
LOCATION:Toimintakeskus Villa Borgis\, Linnavuorentie 13\, Helsinki\, 00950\, Finland
CATEGORIES:Toimintakeskus Villa Borgis
END:VEVENT
BEGIN:VEVENT
DTSTART;TZID=Europe/Helsinki:20250722T120000
DTEND;TZID=Europe/Helsinki:20250722T150000
DTSTAMP:20260423T071221
CREATED:20250527T074500Z
LAST-MODIFIED:20250527T074500Z
UID:10023220-1753185600-1753196400@kalenteri.niemikoti.fi
SUMMARY:Lautapelit
DESCRIPTION:Osallistujien kesken päätetään mitä lautapeliä pelataan. Villa borgiksessa on erilaisia lautapelejä mutta voit tuoda mukaan myös omasi.
URL:https://kalenteri.niemikoti.fi/tapahtuma/lautapelit-5/2025-07-22/
LOCATION:Toimintakeskus Villa Borgis\, Linnavuorentie 13\, Helsinki\, 00950\, Finland
CATEGORIES:Toimintakeskus Villa Borgis
END:VEVENT
BEGIN:VEVENT
DTSTART;TZID=Europe/Helsinki:20250721T130000
DTEND;TZID=Europe/Helsinki:20250721T150000
DTSTAMP:20260423T071221
CREATED:20250527T074143Z
LAST-MODIFIED:20250527T074143Z
UID:10023213-1753102800-1753110000@kalenteri.niemikoti.fi
SUMMARY:Luovaa toimintaa
DESCRIPTION:Kädentaitoja\, kuvataidetta\, kirjoittamista. musiikkia\, sirkustelua\, pelejä ym.
URL:https://kalenteri.niemikoti.fi/tapahtuma/luovaa-toimintaa-2/2025-07-21/
LOCATION:Toimintakeskus Villa Borgis\, Linnavuorentie 13\, Helsinki\, 00950\, Finland
CATEGORIES:Toimintakeskus Villa Borgis
END:VEVENT
BEGIN:VEVENT
DTSTART;TZID=Europe/Helsinki:20250717T110000
DTEND;TZID=Europe/Helsinki:20250717T150000
DTSTAMP:20260423T071221
CREATED:20250527T075343Z
LAST-MODIFIED:20250527T075343Z
UID:10023230-1752750000-1752764400@kalenteri.niemikoti.fi
SUMMARY:Retkitorstai
DESCRIPTION:Yhteislähtö retkille Villa Borgiksesta\, voidaan sopia tapaamispaikka myös lähemmäs retkikohdetta. Ilmoittaudu\, samalla saat lisätiedot kellonajoista ym. \n3.7. Mustavuori \n10.7. Linnanmäki \n17.7. Green City Farm \n24.7. Stansvik \n31.7. Kahvila Meridian
URL:https://kalenteri.niemikoti.fi/tapahtuma/retkitorstai-2/2025-07-17/
LOCATION:Toimintakeskus Villa Borgis\, Linnavuorentie 13\, Helsinki\, 00950\, Finland
CATEGORIES:Toimintakeskus Villa Borgis
END:VEVENT
BEGIN:VEVENT
DTSTART;TZID=Europe/Helsinki:20250716T110000
DTEND;TZID=Europe/Helsinki:20250716T130000
DTSTAMP:20260423T071221
CREATED:20250527T074759Z
LAST-MODIFIED:20250527T074759Z
UID:10023224-1752663600-1752670800@kalenteri.niemikoti.fi
SUMMARY:Pleikkapelit
DESCRIPTION:Villa Borgiksessa on monipuolinen valikoima playstation 4:n pelejä. Pelattava peli valitaan osallistujien kesken.
URL:https://kalenteri.niemikoti.fi/tapahtuma/pleikkapelit-3/2025-07-16/
LOCATION:Toimintakeskus Villa Borgis\, Linnavuorentie 13\, Helsinki\, 00950\, Finland
CATEGORIES:Toimintakeskus Villa Borgis
END:VEVENT
BEGIN:VEVENT
DTSTART;TZID=Europe/Helsinki:20250715T130000
DTEND;TZID=Europe/Helsinki:20250715T150000
DTSTAMP:20260423T071221
CREATED:20250527T074143Z
LAST-MODIFIED:20250527T074143Z
UID:10023212-1752584400-1752591600@kalenteri.niemikoti.fi
SUMMARY:Luovaa toimintaa
DESCRIPTION:Kädentaitoja\, kuvataidetta\, kirjoittamista. musiikkia\, sirkustelua\, pelejä ym.
URL:https://kalenteri.niemikoti.fi/tapahtuma/luovaa-toimintaa-2/2025-07-15/
LOCATION:Toimintakeskus Villa Borgis\, Linnavuorentie 13\, Helsinki\, 00950\, Finland
CATEGORIES:Toimintakeskus Villa Borgis
END:VEVENT
BEGIN:VEVENT
DTSTART;TZID=Europe/Helsinki:20250715T120000
DTEND;TZID=Europe/Helsinki:20250715T150000
DTSTAMP:20260423T071221
CREATED:20250527T074500Z
LAST-MODIFIED:20250527T074500Z
UID:10023219-1752580800-1752591600@kalenteri.niemikoti.fi
SUMMARY:Lautapelit
DESCRIPTION:Osallistujien kesken päätetään mitä lautapeliä pelataan. Villa borgiksessa on erilaisia lautapelejä mutta voit tuoda mukaan myös omasi.
URL:https://kalenteri.niemikoti.fi/tapahtuma/lautapelit-5/2025-07-15/
LOCATION:Toimintakeskus Villa Borgis\, Linnavuorentie 13\, Helsinki\, 00950\, Finland
CATEGORIES:Toimintakeskus Villa Borgis
END:VEVENT
BEGIN:VEVENT
DTSTART;TZID=Europe/Helsinki:20250714T130000
DTEND;TZID=Europe/Helsinki:20250714T150000
DTSTAMP:20260423T071221
CREATED:20250527T074143Z
LAST-MODIFIED:20250527T074143Z
UID:10023211-1752498000-1752505200@kalenteri.niemikoti.fi
SUMMARY:Luovaa toimintaa
DESCRIPTION:Kädentaitoja\, kuvataidetta\, kirjoittamista. musiikkia\, sirkustelua\, pelejä ym.
URL:https://kalenteri.niemikoti.fi/tapahtuma/luovaa-toimintaa-2/2025-07-14/
LOCATION:Toimintakeskus Villa Borgis\, Linnavuorentie 13\, Helsinki\, 00950\, Finland
CATEGORIES:Toimintakeskus Villa Borgis
END:VEVENT
BEGIN:VEVENT
DTSTART;TZID=Europe/Helsinki:20250710T110000
DTEND;TZID=Europe/Helsinki:20250710T150000
DTSTAMP:20260423T071221
CREATED:20250527T075343Z
LAST-MODIFIED:20250527T075343Z
UID:10023229-1752145200-1752159600@kalenteri.niemikoti.fi
SUMMARY:Retkitorstai
DESCRIPTION:Yhteislähtö retkille Villa Borgiksesta\, voidaan sopia tapaamispaikka myös lähemmäs retkikohdetta. Ilmoittaudu\, samalla saat lisätiedot kellonajoista ym. \n3.7. Mustavuori \n10.7. Linnanmäki \n17.7. Green City Farm \n24.7. Stansvik \n31.7. Kahvila Meridian
URL:https://kalenteri.niemikoti.fi/tapahtuma/retkitorstai-2/2025-07-10/
LOCATION:Toimintakeskus Villa Borgis\, Linnavuorentie 13\, Helsinki\, 00950\, Finland
CATEGORIES:Toimintakeskus Villa Borgis
END:VEVENT
BEGIN:VEVENT
DTSTART;TZID=Europe/Helsinki:20250709T110000
DTEND;TZID=Europe/Helsinki:20250709T140000
DTSTAMP:20260423T071221
CREATED:20250627T073859Z
LAST-MODIFIED:20250627T074327Z
UID:10023307-1752058800-1752069600@kalenteri.niemikoti.fi
SUMMARY:RETKI: Tutustuminen toimintakeskus Villa Borgikseen
DESCRIPTION:Tiesitkö\, että toimintakeskus Villa Borgiksessa on toimintaa koko kesän ajan?\nTervetuloa mukaan Valtti Valmennuksen järjestämälle tutustumisretkelle Villa Borgikseen 9.7. Lähdemme yhdessä liikkeelle Valtti Valmennuksesta (käyntiosoite Kuortaneenkatu 1\, 4. kerros) klo 11.00. Ilmoittaudu mukaan retkelle 8.7. mennessä sähköpostitse valtti@niemikoti.fi. Kaikki Villa Borgiksen toiminnasta kiinnostuneet ovat tervetulleita mukaan retkelle!
URL:https://kalenteri.niemikoti.fi/tapahtuma/retki-tutustuminen-toimintakeskus-villa-borgikseen-2/
LOCATION:Toimintakeskus Villa Borgis\, Linnavuorentie 13\, Helsinki\, 00950\, Finland
CATEGORIES:Tapahtumat palvelunkäyttäjille,Valtti Valmennus
ATTACH;FMTTYPE=image/png:https://kalenteri.niemikoti.fi/wp-content/uploads/2025/06/Tutustumisretki.png
END:VEVENT
BEGIN:VEVENT
DTSTART;TZID=Europe/Helsinki:20250709T110000
DTEND;TZID=Europe/Helsinki:20250709T130000
DTSTAMP:20260423T071221
CREATED:20250527T074759Z
LAST-MODIFIED:20250527T074759Z
UID:10023223-1752058800-1752066000@kalenteri.niemikoti.fi
SUMMARY:Pleikkapelit
DESCRIPTION:Villa Borgiksessa on monipuolinen valikoima playstation 4:n pelejä. Pelattava peli valitaan osallistujien kesken.
URL:https://kalenteri.niemikoti.fi/tapahtuma/pleikkapelit-3/2025-07-09/
LOCATION:Toimintakeskus Villa Borgis\, Linnavuorentie 13\, Helsinki\, 00950\, Finland
CATEGORIES:Toimintakeskus Villa Borgis
END:VEVENT
BEGIN:VEVENT
DTSTART;TZID=Europe/Helsinki:20250708T130000
DTEND;TZID=Europe/Helsinki:20250708T150000
DTSTAMP:20260423T071221
CREATED:20250527T074143Z
LAST-MODIFIED:20250527T074143Z
UID:10023210-1751979600-1751986800@kalenteri.niemikoti.fi
SUMMARY:Luovaa toimintaa
DESCRIPTION:Kädentaitoja\, kuvataidetta\, kirjoittamista. musiikkia\, sirkustelua\, pelejä ym.
URL:https://kalenteri.niemikoti.fi/tapahtuma/luovaa-toimintaa-2/2025-07-08/
LOCATION:Toimintakeskus Villa Borgis\, Linnavuorentie 13\, Helsinki\, 00950\, Finland
CATEGORIES:Toimintakeskus Villa Borgis
END:VEVENT
END:VCALENDAR