BEGIN:VCALENDAR
VERSION:2.0
PRODID:-//Tapahtumakalenteri - ECPv6.15.18//NONSGML v1.0//EN
CALSCALE:GREGORIAN
METHOD:PUBLISH
X-ORIGINAL-URL:https://kalenteri.niemikoti.fi
X-WR-CALDESC:Tapahtumat Tapahtumakalenteri
REFRESH-INTERVAL;VALUE=DURATION:PT1H
X-Robots-Tag:noindex
X-PUBLISHED-TTL:PT1H
BEGIN:VTIMEZONE
TZID:Europe/Helsinki
BEGIN:DAYLIGHT
TZOFFSETFROM:+0200
TZOFFSETTO:+0300
TZNAME:EEST
DTSTART:20240331T010000
END:DAYLIGHT
BEGIN:STANDARD
TZOFFSETFROM:+0300
TZOFFSETTO:+0200
TZNAME:EET
DTSTART:20241027T010000
END:STANDARD
BEGIN:DAYLIGHT
TZOFFSETFROM:+0200
TZOFFSETTO:+0300
TZNAME:EEST
DTSTART:20250330T010000
END:DAYLIGHT
BEGIN:STANDARD
TZOFFSETFROM:+0300
TZOFFSETTO:+0200
TZNAME:EET
DTSTART:20251026T010000
END:STANDARD
BEGIN:DAYLIGHT
TZOFFSETFROM:+0200
TZOFFSETTO:+0300
TZNAME:EEST
DTSTART:20260329T010000
END:DAYLIGHT
BEGIN:STANDARD
TZOFFSETFROM:+0300
TZOFFSETTO:+0200
TZNAME:EET
DTSTART:20261025T010000
END:STANDARD
BEGIN:DAYLIGHT
TZOFFSETFROM:+0200
TZOFFSETTO:+0300
TZNAME:EEST
DTSTART:20270328T010000
END:DAYLIGHT
BEGIN:STANDARD
TZOFFSETFROM:+0300
TZOFFSETTO:+0200
TZNAME:EET
DTSTART:20271031T010000
END:STANDARD
END:VTIMEZONE
BEGIN:VEVENT
DTSTART;TZID=Europe/Helsinki:20260123T100000
DTEND;TZID=Europe/Helsinki:20260123T113000
DTSTAMP:20260426T030209
CREATED:20260112T135447Z
LAST-MODIFIED:20260112T135447Z
UID:10027914-1769162400-1769167800@kalenteri.niemikoti.fi
SUMMARY:Pyjamabileet Malmilla
DESCRIPTION:Yöpaitamuotinäytös\, päiväsatu\, visailua ja herkkuja!
URL:https://kalenteri.niemikoti.fi/tapahtuma/pyjamabileet-malmilla/
LOCATION:Malmin päivätoimintakeskus\, Vanha Helsingintie 9\, Helsinki\, 00700\, Finland
END:VEVENT
BEGIN:VEVENT
DTSTART;TZID=Europe/Helsinki:20251016T140000
DTEND;TZID=Europe/Helsinki:20251016T160000
DTSTAMP:20260426T030209
CREATED:20250930T123452Z
LAST-MODIFIED:20250930T131845Z
UID:10024926-1760623200-1760630400@kalenteri.niemikoti.fi
SUMMARY:Syyskarkelot torstaina 16.10.2025
DESCRIPTION:Päivätoiminnan sadonkorjuuteemaiset syysjuhlat kaikille niemikotisäätiöläisille. Myös omaiset/läheiset ovat tervetulleita. \nOhjelmassa m. livemusiikkia\, yhteisötaidetta ja sadonkorjuukeitto Green City Farm -pellon antimista. \nTorstaina 16.10.2025 kello 14–16 \nMalmin päivätoimintakeskus\, Vanha Helsingintie 9 \nEi ilmoittautumista – paitsi jos tulette isommalla porukalla jostain säätiön yksiköstä: malmi@niemikoti.fi tai 050 404 0025/050 404 0026
URL:https://kalenteri.niemikoti.fi/tapahtuma/syyskarkelot-torstaina-16-10-2025/
LOCATION:Malmin päivätoimintakeskus\, Vanha Helsingintie 9\, Helsinki\, 00700\, Finland
CATEGORIES:Malmin päivätoimintakeskus,Päivätoiminta
ATTACH;FMTTYPE=image/jpeg:https://kalenteri.niemikoti.fi/wp-content/uploads/2025/09/SyyskarkelotMalmilla2025.jpg
END:VEVENT
BEGIN:VEVENT
DTSTART;TZID=Europe/Helsinki:20251001T100000
DTEND;TZID=Europe/Helsinki:20251001T140000
DTSTAMP:20260426T030209
CREATED:20250924T053230Z
LAST-MODIFIED:20250924T053230Z
UID:10024820-1759312800-1759327200@kalenteri.niemikoti.fi
SUMMARY:Retki Giselle-balettiin
DESCRIPTION:Teemme retken Oopperatalolle katsomaan Giselle-baletin kenraaliharjoitusta.
URL:https://kalenteri.niemikoti.fi/tapahtuma/retki-giselle-balettiin/
LOCATION:Toimintakeskus Villa Borgis\, Linnavuorentie 13\, Helsinki\, 00950\, Finland
CATEGORIES:Toimintakeskus Villa Borgis
END:VEVENT
BEGIN:VEVENT
DTSTART;TZID=Europe/Helsinki:20250827T120000
DTEND;TZID=Europe/Helsinki:20250827T150000
DTSTAMP:20260426T030209
CREATED:20250819T084557Z
LAST-MODIFIED:20250825T055943Z
UID:10024602-1756296000-1756306800@kalenteri.niemikoti.fi
SUMMARY:Kesäkauden päättäjäiset
DESCRIPTION:Vietetään yhdessä kesäkauden päättäjäisiä. Mahdollisuus osallistua ilmaisutaidon työpajaan\, veistelyyn\, pihapeleihin\, yhteislauluun ja muuhun mukavaan yhdessäoloon. Tarjolla kasviskeittoa ja kahvit.
URL:https://kalenteri.niemikoti.fi/tapahtuma/kesakauden-paattajaiset-2/
LOCATION:Toimintakeskus Villa Borgis\, Linnavuorentie 13\, Helsinki\, 00950\, Finland
CATEGORIES:Toimintakeskus Villa Borgis
ATTACH;FMTTYPE=image/jpeg:https://kalenteri.niemikoti.fi/wp-content/uploads/2025/08/kesan_paattajaiset.jpg
END:VEVENT
BEGIN:VEVENT
DTSTART;TZID=Europe/Helsinki:20250820T133000
DTEND;TZID=Europe/Helsinki:20250820T150000
DTSTAMP:20260426T030209
CREATED:20250806T062810Z
LAST-MODIFIED:20250806T062810Z
UID:10023337-1755696600-1755702000@kalenteri.niemikoti.fi
SUMMARY:Sateenkaarikahvila 20.8. klo 13.30–15
DESCRIPTION:Kaikkien aikojen ensimmäinen Sateenkaarikahvila Haagan toimintatalossa 20.8.2025 klo 13.30-15. Kokoonkutsujana ja järjestäjänä toimii kokemusasiantuntijatyöryhmä. \nSateenkaarikahvilan teemana on sukupuolten moninaisuus. \nTilaisuus on avoin kaikille kiinnostuneille. Tarjoilujen riittävyyden vuoksi toivomme ilmoittautumista viimeistään 15.8.2025 sirpa.sinisalo@niemikoti.fi. Ja saa tulla vaikka ilmoittautuminen unohtuisi! \nsateenkaarikahvila2025-08.v2
URL:https://kalenteri.niemikoti.fi/tapahtuma/sateenkaarikahvila-20-8-klo-13-30-15/
LOCATION:Haagan toimintatalo\, Vanha viertotie 22\, Helsinki\, 00350\, Finland
CATEGORIES:Haagan toimintatalo,Kokemusasiantuntija- ja vertaistoiminta,Omaisille ja läheisille,Tapahtumat henkilökunnalle,Tapahtumat palvelunkäyttäjille
ATTACH;FMTTYPE=image/png:https://kalenteri.niemikoti.fi/wp-content/uploads/2025/08/sateenkaarikahvila2025-08.png
END:VEVENT
BEGIN:VEVENT
DTSTART;TZID=Europe/Helsinki:20250628T120000
DTEND;TZID=Europe/Helsinki:20250628T160000
DTSTAMP:20260426T030209
CREATED:20250526T115614Z
LAST-MODIFIED:20250616T055936Z
UID:10023204-1751112000-1751126400@kalenteri.niemikoti.fi
SUMMARY:Pride-kulkue
DESCRIPTION:Niemikotisäätiö on mukana Pride -kulkueessa. Lähde mukaan! Ilmoittautuminen virve.mikkonen@niemikoti.fi tai 050-4143138. \nPride-juliste3k
URL:https://kalenteri.niemikoti.fi/tapahtuma/pride-kulkue/
LOCATION:Toimintakeskus Villa Borgis\, Linnavuorentie 13\, Helsinki\, 00950\, Finland
ATTACH;FMTTYPE=image/jpeg:https://kalenteri.niemikoti.fi/wp-content/uploads/2025/05/Pride-juliste3k-scaled.jpg
END:VEVENT
BEGIN:VEVENT
DTSTART;TZID=Europe/Helsinki:20250528T090000
DTEND;TZID=Europe/Helsinki:20250528T100000
DTSTAMP:20260426T030209
CREATED:20250403T064648Z
LAST-MODIFIED:20250403T064648Z
UID:10022024-1748422800-1748426400@kalenteri.niemikoti.fi
SUMMARY:Tutustuminen Haagan toimintataloon 28.5. klo 9.oo
DESCRIPTION:tervetuloa tutustumaan Haagan toimintataloon keskiviikkona 28.5. klo 9.00. Tutustumiskierros alkaa 1 krs kahvilasta klo 9.00 eli olethan ajoissa. Kierros kestää noin tunnin.
URL:https://kalenteri.niemikoti.fi/tapahtuma/tutustuminen-haagan-toimintataloon-28-5-klo-9-oo/
CATEGORIES:Haagan toimintatalo
END:VEVENT
BEGIN:VEVENT
DTSTART;TZID=Europe/Helsinki:20250429T133000
DTEND;TZID=Europe/Helsinki:20250429T153000
DTSTAMP:20260426T030209
CREATED:20250325T090412Z
LAST-MODIFIED:20250326T075118Z
UID:10022019-1745933400-1745940600@kalenteri.niemikoti.fi
SUMMARY:Kaupunkiviljelyryhmän INFO-tilaisuus Malmilla
DESCRIPTION:Tervetuloa kuulemaan infoa Niemikotisäätiön ja Green City Farmin yhteisestä kaupunkiviljelyryhmästä. Ryhmä kokoontuu Malmilla torstaisin klo 14-16. \nInfotilaisuus on tarkoitettu sekä entisille ryhmäläisille että uusille toiminnasta kiinnostuneille. Kahvitarjoilu. Ilmoittaudu ohjaajille. \nkaupunkiviljely2025.v2
URL:https://kalenteri.niemikoti.fi/tapahtuma/kaupunkiviljelyryhman-info-tilaisuus-malmilla/
LOCATION:Green City Farm c/o Perho Liiketalousopisto\, Vanha Helsingintie 13\, Helsinki\, 00700
CATEGORIES:Kulttuuripaja ELVIS,Malmin päivätoimintakeskus,Tapahtumat palvelunkäyttäjille,Toimintakeskus Villa Borgis
ATTACH;FMTTYPE=image/jpeg:https://kalenteri.niemikoti.fi/wp-content/uploads/2025/03/kaupunkiviljely2025-scaled.jpg
END:VEVENT
END:VCALENDAR