BEGIN:VCALENDAR
VERSION:2.0
PRODID:-//Tapahtumakalenteri - ECPv6.15.18//NONSGML v1.0//EN
CALSCALE:GREGORIAN
METHOD:PUBLISH
X-WR-CALNAME:Tapahtumakalenteri
X-ORIGINAL-URL:https://kalenteri.niemikoti.fi
X-WR-CALDESC:Tapahtumat Tapahtumakalenteri
REFRESH-INTERVAL;VALUE=DURATION:PT1H
X-Robots-Tag:noindex
X-PUBLISHED-TTL:PT1H
BEGIN:VTIMEZONE
TZID:Europe/Helsinki
BEGIN:DAYLIGHT
TZOFFSETFROM:+0200
TZOFFSETTO:+0300
TZNAME:EEST
DTSTART:20240331T010000
END:DAYLIGHT
BEGIN:STANDARD
TZOFFSETFROM:+0300
TZOFFSETTO:+0200
TZNAME:EET
DTSTART:20241027T010000
END:STANDARD
BEGIN:DAYLIGHT
TZOFFSETFROM:+0200
TZOFFSETTO:+0300
TZNAME:EEST
DTSTART:20250330T010000
END:DAYLIGHT
BEGIN:STANDARD
TZOFFSETFROM:+0300
TZOFFSETTO:+0200
TZNAME:EET
DTSTART:20251026T010000
END:STANDARD
BEGIN:DAYLIGHT
TZOFFSETFROM:+0200
TZOFFSETTO:+0300
TZNAME:EEST
DTSTART:20260329T010000
END:DAYLIGHT
BEGIN:STANDARD
TZOFFSETFROM:+0300
TZOFFSETTO:+0200
TZNAME:EET
DTSTART:20261025T010000
END:STANDARD
END:VTIMEZONE
BEGIN:VEVENT
DTSTART;TZID=Europe/Helsinki:20251002T140000
DTEND;TZID=Europe/Helsinki:20251002T160000
DTSTAMP:20260426T010503
CREATED:20250415T102003Z
LAST-MODIFIED:20250523T070820Z
UID:10023184-1759413600-1759420800@kalenteri.niemikoti.fi
SUMMARY:Kaupunkiviljely Malmilla
DESCRIPTION:Jo kolmatta kesää yhteistyössä Perho-liiketalousopiston Green City Farm -toiminnan kanssa: Keväästä syksyyn kestävää peltotoimintaa. Peltoryhmään osallistumalla näet kasvin koko kasvukaaren siemenestä sadonkorjuuseen.
URL:https://kalenteri.niemikoti.fi/tapahtuma/kaupunkiviljely-malmilla-6/2025-10-02/
LOCATION:Green City Farm c/o Perho Liiketalousopisto\, Vanha Helsingintie 13\, Helsinki\, 00700
CATEGORIES:Toimintakeskus Villa Borgis
END:VEVENT
BEGIN:VEVENT
DTSTART;TZID=Europe/Helsinki:20251003T130000
DTEND;TZID=Europe/Helsinki:20251003T150000
DTSTAMP:20260426T010503
CREATED:20250930T092523Z
LAST-MODIFIED:20250930T094102Z
UID:10024880-1759496400-1759503600@kalenteri.niemikoti.fi
SUMMARY:Hyvinvoinnin ja kohtaamisen tila Kulttuuripaja Elviksessä perjantaisin
DESCRIPTION:Lokakuun 2025 perjantait\n3.10. klo 13–15 – kuntosali & rentoutus (gongi)10.10. klo 11–14 – omatoiminen kuntosali17.10. klo 13–15 – Asahi ja rentoutus24.10. klo 11–14 – omatoiminen kuntosali31.10. klo 12–16.30 – kuntosali ja leffa \nMitä tarvitaan mukaan?\nKuntosalille sopivat vaatteet ja pyyhe jos menet suihkuun sekä tietysti sinut paikan päälle. \nKulttuuripaja Elvis\, Lautatarhankatu 4\, HkiTeppo 050-5882282
URL:https://kalenteri.niemikoti.fi/tapahtuma/hyvinvoinnin-ja-kohtaamisen-tila-kulttuuripaja-elviksessa-perjantaisin/2025-10-03/
LOCATION:Kulttuuripaja ELVIS\, Lautatarhankatu 4\, Helsinki\, 00580\, Finland
CATEGORIES:Kulttuuripaja ELVIS,Päivätoiminta
ATTACH;FMTTYPE=image/jpeg:https://kalenteri.niemikoti.fi/wp-content/uploads/2025/09/HK-tilalokakuu.jpg
END:VEVENT
BEGIN:VEVENT
DTSTART;TZID=Europe/Helsinki:20251007T110000
DTEND;TZID=Europe/Helsinki:20251007T120000
DTSTAMP:20260426T010503
CREATED:20250930T085815Z
LAST-MODIFIED:20251103T131600Z
UID:10024861-1759834800-1759838400@kalenteri.niemikoti.fi
SUMMARY:Malmin mindfulness
DESCRIPTION:Mindfullness- ja rentoutusharjoituksia. \nTäydentyvä ryhmä\, ilmoittaudu.
URL:https://kalenteri.niemikoti.fi/tapahtuma/malmin-mindfulness/2025-10-07/
LOCATION:Malmin päivätoimintakeskus\, Vanha Helsingintie 9\, Helsinki\, 00700\, Finland
CATEGORIES:Malmin päivätoimintakeskus
ATTACH;FMTTYPE=image/jpeg:https://kalenteri.niemikoti.fi/wp-content/uploads/2025/09/Malmin-mindfulness.jpg
END:VEVENT
BEGIN:VEVENT
DTSTART;TZID=Europe/Helsinki:20251009T140000
DTEND;TZID=Europe/Helsinki:20251009T160000
DTSTAMP:20260426T010503
CREATED:20250415T102003Z
LAST-MODIFIED:20250523T070820Z
UID:10023185-1760018400-1760025600@kalenteri.niemikoti.fi
SUMMARY:Kaupunkiviljely Malmilla
DESCRIPTION:Jo kolmatta kesää yhteistyössä Perho-liiketalousopiston Green City Farm -toiminnan kanssa: Keväästä syksyyn kestävää peltotoimintaa. Peltoryhmään osallistumalla näet kasvin koko kasvukaaren siemenestä sadonkorjuuseen.
URL:https://kalenteri.niemikoti.fi/tapahtuma/kaupunkiviljely-malmilla-6/2025-10-09/
LOCATION:Green City Farm c/o Perho Liiketalousopisto\, Vanha Helsingintie 13\, Helsinki\, 00700
CATEGORIES:Toimintakeskus Villa Borgis
END:VEVENT
BEGIN:VEVENT
DTSTART;TZID=Europe/Helsinki:20251010T110000
DTEND;TZID=Europe/Helsinki:20251010T140000
DTSTAMP:20260426T010503
CREATED:20250930T092523Z
LAST-MODIFIED:20250930T094102Z
UID:10024881-1760094000-1760104800@kalenteri.niemikoti.fi
SUMMARY:Hyvinvoinnin ja kohtaamisen tila Kulttuuripaja Elviksessä perjantaisin
DESCRIPTION:Lokakuun 2025 perjantait\n3.10. klo 13–15 – kuntosali & rentoutus (gongi)10.10. klo 11–14 – omatoiminen kuntosali17.10. klo 13–15 – Asahi ja rentoutus24.10. klo 11–14 – omatoiminen kuntosali31.10. klo 12–16.30 – kuntosali ja leffa \nMitä tarvitaan mukaan?\nKuntosalille sopivat vaatteet ja pyyhe jos menet suihkuun sekä tietysti sinut paikan päälle. \nKulttuuripaja Elvis\, Lautatarhankatu 4\, HkiTeppo 050-5882282
URL:https://kalenteri.niemikoti.fi/tapahtuma/hyvinvoinnin-ja-kohtaamisen-tila-kulttuuripaja-elviksessa-perjantaisin/2025-10-10/
LOCATION:Kulttuuripaja ELVIS\, Lautatarhankatu 4\, Helsinki\, 00580\, Finland
CATEGORIES:Kulttuuripaja ELVIS,Päivätoiminta
ATTACH;FMTTYPE=image/jpeg:https://kalenteri.niemikoti.fi/wp-content/uploads/2025/09/HK-tilalokakuu.jpg
END:VEVENT
BEGIN:VEVENT
DTSTART;TZID=Europe/Helsinki:20251014T110000
DTEND;TZID=Europe/Helsinki:20251014T120000
DTSTAMP:20260426T010503
CREATED:20250930T085815Z
LAST-MODIFIED:20251103T131600Z
UID:10024862-1760439600-1760443200@kalenteri.niemikoti.fi
SUMMARY:Malmin mindfulness
DESCRIPTION:Mindfullness- ja rentoutusharjoituksia. \nTäydentyvä ryhmä\, ilmoittaudu.
URL:https://kalenteri.niemikoti.fi/tapahtuma/malmin-mindfulness/2025-10-14/
LOCATION:Malmin päivätoimintakeskus\, Vanha Helsingintie 9\, Helsinki\, 00700\, Finland
CATEGORIES:Malmin päivätoimintakeskus
ATTACH;FMTTYPE=image/jpeg:https://kalenteri.niemikoti.fi/wp-content/uploads/2025/09/Malmin-mindfulness.jpg
END:VEVENT
BEGIN:VEVENT
DTSTART;TZID=Europe/Helsinki:20251016T140000
DTEND;TZID=Europe/Helsinki:20251016T160000
DTSTAMP:20260426T010503
CREATED:20250415T102003Z
LAST-MODIFIED:20250523T070820Z
UID:10023186-1760623200-1760630400@kalenteri.niemikoti.fi
SUMMARY:Kaupunkiviljely Malmilla
DESCRIPTION:Jo kolmatta kesää yhteistyössä Perho-liiketalousopiston Green City Farm -toiminnan kanssa: Keväästä syksyyn kestävää peltotoimintaa. Peltoryhmään osallistumalla näet kasvin koko kasvukaaren siemenestä sadonkorjuuseen.
URL:https://kalenteri.niemikoti.fi/tapahtuma/kaupunkiviljely-malmilla-6/2025-10-16/
LOCATION:Green City Farm c/o Perho Liiketalousopisto\, Vanha Helsingintie 13\, Helsinki\, 00700
CATEGORIES:Toimintakeskus Villa Borgis
END:VEVENT
BEGIN:VEVENT
DTSTART;TZID=Europe/Helsinki:20251017T130000
DTEND;TZID=Europe/Helsinki:20251017T150000
DTSTAMP:20260426T010503
CREATED:20250930T092523Z
LAST-MODIFIED:20250930T094102Z
UID:10024882-1760706000-1760713200@kalenteri.niemikoti.fi
SUMMARY:Hyvinvoinnin ja kohtaamisen tila Kulttuuripaja Elviksessä perjantaisin
DESCRIPTION:Lokakuun 2025 perjantait\n3.10. klo 13–15 – kuntosali & rentoutus (gongi)10.10. klo 11–14 – omatoiminen kuntosali17.10. klo 13–15 – Asahi ja rentoutus24.10. klo 11–14 – omatoiminen kuntosali31.10. klo 12–16.30 – kuntosali ja leffa \nMitä tarvitaan mukaan?\nKuntosalille sopivat vaatteet ja pyyhe jos menet suihkuun sekä tietysti sinut paikan päälle. \nKulttuuripaja Elvis\, Lautatarhankatu 4\, HkiTeppo 050-5882282
URL:https://kalenteri.niemikoti.fi/tapahtuma/hyvinvoinnin-ja-kohtaamisen-tila-kulttuuripaja-elviksessa-perjantaisin/2025-10-17/
LOCATION:Kulttuuripaja ELVIS\, Lautatarhankatu 4\, Helsinki\, 00580\, Finland
CATEGORIES:Kulttuuripaja ELVIS,Päivätoiminta
ATTACH;FMTTYPE=image/jpeg:https://kalenteri.niemikoti.fi/wp-content/uploads/2025/09/HK-tilalokakuu.jpg
END:VEVENT
BEGIN:VEVENT
DTSTART;TZID=Europe/Helsinki:20251021T110000
DTEND;TZID=Europe/Helsinki:20251021T120000
DTSTAMP:20260426T010503
CREATED:20250930T085815Z
LAST-MODIFIED:20251103T131600Z
UID:10024863-1761044400-1761048000@kalenteri.niemikoti.fi
SUMMARY:Malmin mindfulness
DESCRIPTION:Mindfullness- ja rentoutusharjoituksia. \nTäydentyvä ryhmä\, ilmoittaudu.
URL:https://kalenteri.niemikoti.fi/tapahtuma/malmin-mindfulness/2025-10-21/
LOCATION:Malmin päivätoimintakeskus\, Vanha Helsingintie 9\, Helsinki\, 00700\, Finland
CATEGORIES:Malmin päivätoimintakeskus
ATTACH;FMTTYPE=image/jpeg:https://kalenteri.niemikoti.fi/wp-content/uploads/2025/09/Malmin-mindfulness.jpg
END:VEVENT
BEGIN:VEVENT
DTSTART;TZID=Europe/Helsinki:20251024T110000
DTEND;TZID=Europe/Helsinki:20251024T140000
DTSTAMP:20260426T010503
CREATED:20250930T092523Z
LAST-MODIFIED:20250930T094102Z
UID:10024883-1761303600-1761314400@kalenteri.niemikoti.fi
SUMMARY:Hyvinvoinnin ja kohtaamisen tila Kulttuuripaja Elviksessä perjantaisin
DESCRIPTION:Lokakuun 2025 perjantait\n3.10. klo 13–15 – kuntosali & rentoutus (gongi)10.10. klo 11–14 – omatoiminen kuntosali17.10. klo 13–15 – Asahi ja rentoutus24.10. klo 11–14 – omatoiminen kuntosali31.10. klo 12–16.30 – kuntosali ja leffa \nMitä tarvitaan mukaan?\nKuntosalille sopivat vaatteet ja pyyhe jos menet suihkuun sekä tietysti sinut paikan päälle. \nKulttuuripaja Elvis\, Lautatarhankatu 4\, HkiTeppo 050-5882282
URL:https://kalenteri.niemikoti.fi/tapahtuma/hyvinvoinnin-ja-kohtaamisen-tila-kulttuuripaja-elviksessa-perjantaisin/2025-10-24/
LOCATION:Kulttuuripaja ELVIS\, Lautatarhankatu 4\, Helsinki\, 00580\, Finland
CATEGORIES:Kulttuuripaja ELVIS,Päivätoiminta
ATTACH;FMTTYPE=image/jpeg:https://kalenteri.niemikoti.fi/wp-content/uploads/2025/09/HK-tilalokakuu.jpg
END:VEVENT
BEGIN:VEVENT
DTSTART;TZID=Europe/Helsinki:20251028T110000
DTEND;TZID=Europe/Helsinki:20251028T120000
DTSTAMP:20260426T010503
CREATED:20250930T085815Z
LAST-MODIFIED:20251103T131600Z
UID:10024864-1761649200-1761652800@kalenteri.niemikoti.fi
SUMMARY:Malmin mindfulness
DESCRIPTION:Mindfullness- ja rentoutusharjoituksia. \nTäydentyvä ryhmä\, ilmoittaudu.
URL:https://kalenteri.niemikoti.fi/tapahtuma/malmin-mindfulness/2025-10-28/
LOCATION:Malmin päivätoimintakeskus\, Vanha Helsingintie 9\, Helsinki\, 00700\, Finland
CATEGORIES:Malmin päivätoimintakeskus
ATTACH;FMTTYPE=image/jpeg:https://kalenteri.niemikoti.fi/wp-content/uploads/2025/09/Malmin-mindfulness.jpg
END:VEVENT
BEGIN:VEVENT
DTSTART;TZID=Europe/Helsinki:20251031T100000
DTEND;TZID=Europe/Helsinki:20251031T120000
DTSTAMP:20260426T010503
CREATED:20251030T135629Z
LAST-MODIFIED:20260421T135152Z
UID:10024965-1761904800-1761912000@kalenteri.niemikoti.fi
SUMMARY:Sauna
DESCRIPTION:Sauna lämpiää perjantaisin\, jos on ilmoittautuneita. Miehet klo 10 – 11\, naiset klo 11 – 12. Ilmoittautuminen viim. samana päivänä klo 9 mennessä. Oma pyyhe ja pesuaineet mukaan.
URL:https://kalenteri.niemikoti.fi/tapahtuma/sauna-2/2025-10-31/
LOCATION:Toimintakeskus Villa Borgis\, Linnavuorentie 13\, Helsinki\, 00950\, Finland
CATEGORIES:Toimintakeskus Villa Borgis
END:VEVENT
BEGIN:VEVENT
DTSTART;TZID=Europe/Helsinki:20251031T120000
DTEND;TZID=Europe/Helsinki:20251031T163000
DTSTAMP:20260426T010503
CREATED:20250930T092523Z
LAST-MODIFIED:20250930T094102Z
UID:10024884-1761912000-1761928200@kalenteri.niemikoti.fi
SUMMARY:Hyvinvoinnin ja kohtaamisen tila Kulttuuripaja Elviksessä perjantaisin
DESCRIPTION:Lokakuun 2025 perjantait\n3.10. klo 13–15 – kuntosali & rentoutus (gongi)10.10. klo 11–14 – omatoiminen kuntosali17.10. klo 13–15 – Asahi ja rentoutus24.10. klo 11–14 – omatoiminen kuntosali31.10. klo 12–16.30 – kuntosali ja leffa \nMitä tarvitaan mukaan?\nKuntosalille sopivat vaatteet ja pyyhe jos menet suihkuun sekä tietysti sinut paikan päälle. \nKulttuuripaja Elvis\, Lautatarhankatu 4\, HkiTeppo 050-5882282
URL:https://kalenteri.niemikoti.fi/tapahtuma/hyvinvoinnin-ja-kohtaamisen-tila-kulttuuripaja-elviksessa-perjantaisin/2025-10-31/
LOCATION:Kulttuuripaja ELVIS\, Lautatarhankatu 4\, Helsinki\, 00580\, Finland
CATEGORIES:Kulttuuripaja ELVIS,Päivätoiminta
ATTACH;FMTTYPE=image/jpeg:https://kalenteri.niemikoti.fi/wp-content/uploads/2025/09/HK-tilalokakuu.jpg
END:VEVENT
END:VCALENDAR