BEGIN:VCALENDAR
VERSION:2.0
PRODID:-//Tapahtumakalenteri - ECPv6.15.18//NONSGML v1.0//EN
CALSCALE:GREGORIAN
METHOD:PUBLISH
X-WR-CALNAME:Tapahtumakalenteri
X-ORIGINAL-URL:https://kalenteri.niemikoti.fi
X-WR-CALDESC:Tapahtumat Tapahtumakalenteri
REFRESH-INTERVAL;VALUE=DURATION:PT1H
X-Robots-Tag:noindex
X-PUBLISHED-TTL:PT1H
BEGIN:VTIMEZONE
TZID:Europe/Helsinki
BEGIN:DAYLIGHT
TZOFFSETFROM:+0200
TZOFFSETTO:+0300
TZNAME:EEST
DTSTART:20240331T010000
END:DAYLIGHT
BEGIN:STANDARD
TZOFFSETFROM:+0300
TZOFFSETTO:+0200
TZNAME:EET
DTSTART:20241027T010000
END:STANDARD
BEGIN:DAYLIGHT
TZOFFSETFROM:+0200
TZOFFSETTO:+0300
TZNAME:EEST
DTSTART:20250330T010000
END:DAYLIGHT
BEGIN:STANDARD
TZOFFSETFROM:+0300
TZOFFSETTO:+0200
TZNAME:EET
DTSTART:20251026T010000
END:STANDARD
BEGIN:DAYLIGHT
TZOFFSETFROM:+0200
TZOFFSETTO:+0300
TZNAME:EEST
DTSTART:20260329T010000
END:DAYLIGHT
BEGIN:STANDARD
TZOFFSETFROM:+0300
TZOFFSETTO:+0200
TZNAME:EET
DTSTART:20261025T010000
END:STANDARD
END:VTIMEZONE
BEGIN:VEVENT
DTSTART;TZID=Europe/Helsinki:20251202T130000
DTEND;TZID=Europe/Helsinki:20251202T140000
DTSTAMP:20260426T045332
CREATED:20251125T132355Z
LAST-MODIFIED:20251212T070218Z
UID:10025539-1764680400-1764684000@kalenteri.niemikoti.fi
SUMMARY:Yhteisön ohjelmaa
DESCRIPTION:Yhdessäoloa ja vaihtelevaa tekemistä\, esim. pelejä\, ulkoilua\, musiikin kuuntelua ynnä muuta mukavaa.
URL:https://kalenteri.niemikoti.fi/tapahtuma/yhteison-ohjelmaa-12/2025-12-02/
LOCATION:Toimintakeskus Villa Borgis\, Linnavuorentie 13\, Helsinki\, 00950\, Finland
CATEGORIES:Toimintakeskus Villa Borgis
END:VEVENT
BEGIN:VEVENT
DTSTART;TZID=Europe/Helsinki:20251204T110000
DTEND;TZID=Europe/Helsinki:20251204T120000
DTSTAMP:20260426T045332
CREATED:20251128T083815Z
LAST-MODIFIED:20251128T083815Z
UID:10025550-1764846000-1764849600@kalenteri.niemikoti.fi
SUMMARY:Aamuvenyttely
DESCRIPTION:Lempeää kaikille sopivaa aamuista liikettä ja venyttelyä.
URL:https://kalenteri.niemikoti.fi/tapahtuma/aamuvenyttely/2025-12-04/
LOCATION:Toimintakeskus Villa Borgis\, Linnavuorentie 13\, Helsinki\, 00950\, Finland
CATEGORIES:Toimintakeskus Villa Borgis
END:VEVENT
BEGIN:VEVENT
DTSTART;TZID=Europe/Helsinki:20251205T100000
DTEND;TZID=Europe/Helsinki:20251205T120000
DTSTAMP:20260426T045332
CREATED:20251030T135629Z
LAST-MODIFIED:20260421T135152Z
UID:10024969-1764928800-1764936000@kalenteri.niemikoti.fi
SUMMARY:Sauna
DESCRIPTION:Sauna lämpiää perjantaisin\, jos on ilmoittautuneita. Miehet klo 10 – 11\, naiset klo 11 – 12. Ilmoittautuminen viim. samana päivänä klo 9 mennessä. Oma pyyhe ja pesuaineet mukaan.
URL:https://kalenteri.niemikoti.fi/tapahtuma/sauna-2/2025-12-05/
LOCATION:Toimintakeskus Villa Borgis\, Linnavuorentie 13\, Helsinki\, 00950\, Finland
CATEGORIES:Toimintakeskus Villa Borgis
END:VEVENT
BEGIN:VEVENT
DTSTART;TZID=Europe/Helsinki:20251205T120000
DTEND;TZID=Europe/Helsinki:20251205T130000
DTSTAMP:20260426T045332
CREATED:20251128T090529Z
LAST-MODIFIED:20251128T090529Z
UID:10025577-1764936000-1764939600@kalenteri.niemikoti.fi
SUMMARY:Perjantaihygge
DESCRIPTION:Mukavaa yhdessäoloa ja vaihtelevaa rentoa tekemistä.
URL:https://kalenteri.niemikoti.fi/tapahtuma/perjantaihygge/2025-12-05/
LOCATION:Toimintakeskus Villa Borgis\, Linnavuorentie 13\, Helsinki\, 00950\, Finland
CATEGORIES:Toimintakeskus Villa Borgis
END:VEVENT
BEGIN:VEVENT
DTSTART;TZID=Europe/Helsinki:20251210T093000
DTEND;TZID=Europe/Helsinki:20251210T120000
DTSTAMP:20260426T045332
CREATED:20251127T090708Z
LAST-MODIFIED:20251127T090708Z
UID:10025545-1765359000-1765368000@kalenteri.niemikoti.fi
SUMMARY:Joululeipurit
DESCRIPTION:Leivotaan yhdessä joulukuisia herkkuja.
URL:https://kalenteri.niemikoti.fi/tapahtuma/joululeipurit-3/2025-12-10/
LOCATION:Toimintakeskus Villa Borgis\, Linnavuorentie 13\, Helsinki\, 00950\, Finland
CATEGORIES:Toimintakeskus Villa Borgis
END:VEVENT
BEGIN:VEVENT
DTSTART;TZID=Europe/Helsinki:20251211T110000
DTEND;TZID=Europe/Helsinki:20251211T120000
DTSTAMP:20260426T045332
CREATED:20251128T083815Z
LAST-MODIFIED:20251128T083815Z
UID:10025551-1765450800-1765454400@kalenteri.niemikoti.fi
SUMMARY:Aamuvenyttely
DESCRIPTION:Lempeää kaikille sopivaa aamuista liikettä ja venyttelyä.
URL:https://kalenteri.niemikoti.fi/tapahtuma/aamuvenyttely/2025-12-11/
LOCATION:Toimintakeskus Villa Borgis\, Linnavuorentie 13\, Helsinki\, 00950\, Finland
CATEGORIES:Toimintakeskus Villa Borgis
END:VEVENT
BEGIN:VEVENT
DTSTART;TZID=Europe/Helsinki:20251212T100000
DTEND;TZID=Europe/Helsinki:20251212T120000
DTSTAMP:20260426T045332
CREATED:20251030T135629Z
LAST-MODIFIED:20260421T135152Z
UID:10024970-1765533600-1765540800@kalenteri.niemikoti.fi
SUMMARY:Sauna
DESCRIPTION:Sauna lämpiää perjantaisin\, jos on ilmoittautuneita. Miehet klo 10 – 11\, naiset klo 11 – 12. Ilmoittautuminen viim. samana päivänä klo 9 mennessä. Oma pyyhe ja pesuaineet mukaan.
URL:https://kalenteri.niemikoti.fi/tapahtuma/sauna-2/2025-12-12/
LOCATION:Toimintakeskus Villa Borgis\, Linnavuorentie 13\, Helsinki\, 00950\, Finland
CATEGORIES:Toimintakeskus Villa Borgis
END:VEVENT
BEGIN:VEVENT
DTSTART;TZID=Europe/Helsinki:20251212T120000
DTEND;TZID=Europe/Helsinki:20251212T130000
DTSTAMP:20260426T045332
CREATED:20251128T090529Z
LAST-MODIFIED:20251128T090529Z
UID:10025578-1765540800-1765544400@kalenteri.niemikoti.fi
SUMMARY:Perjantaihygge
DESCRIPTION:Mukavaa yhdessäoloa ja vaihtelevaa rentoa tekemistä.
URL:https://kalenteri.niemikoti.fi/tapahtuma/perjantaihygge/2025-12-12/
LOCATION:Toimintakeskus Villa Borgis\, Linnavuorentie 13\, Helsinki\, 00950\, Finland
CATEGORIES:Toimintakeskus Villa Borgis
END:VEVENT
BEGIN:VEVENT
DTSTART;TZID=Europe/Helsinki:20251212T141500
DTEND;TZID=Europe/Helsinki:20251212T153000
DTSTAMP:20260426T045332
CREATED:20251202T113204Z
LAST-MODIFIED:20251202T113204Z
UID:10025640-1765548900-1765553400@kalenteri.niemikoti.fi
SUMMARY:Mindfulness tapahtuma Elviksessä
DESCRIPTION:Mindfulness tapahtuma \nElviksessä \npe 12.12. klo 14:15-15:30 \nOhjaajana toimii kokemusasiantuntija Jennica.
URL:https://kalenteri.niemikoti.fi/tapahtuma/mindfulness-tapahtuma-elviksessa/
CATEGORIES:Kulttuuripaja ELVIS
ATTACH;FMTTYPE=image/png:https://kalenteri.niemikoti.fi/wp-content/uploads/2025/12/Mindfulness-tapahtuma-Elviksessa-pe-12.12.-1415-1530.png
END:VEVENT
BEGIN:VEVENT
DTSTART;TZID=Europe/Helsinki:20251216T130000
DTEND;TZID=Europe/Helsinki:20251216T140000
DTSTAMP:20260426T045332
CREATED:20251125T132355Z
LAST-MODIFIED:20251212T070218Z
UID:10025540-1765890000-1765893600@kalenteri.niemikoti.fi
SUMMARY:Yhteisön ohjelmaa
DESCRIPTION:Yhdessäoloa ja vaihtelevaa tekemistä\, esim. pelejä\, ulkoilua\, musiikin kuuntelua ynnä muuta mukavaa.
URL:https://kalenteri.niemikoti.fi/tapahtuma/yhteison-ohjelmaa-12/2025-12-16/
LOCATION:Toimintakeskus Villa Borgis\, Linnavuorentie 13\, Helsinki\, 00950\, Finland
CATEGORIES:Toimintakeskus Villa Borgis
END:VEVENT
BEGIN:VEVENT
DTSTART;TZID=Europe/Helsinki:20251217T093000
DTEND;TZID=Europe/Helsinki:20251217T120000
DTSTAMP:20260426T045332
CREATED:20251127T090708Z
LAST-MODIFIED:20251127T090708Z
UID:10025546-1765963800-1765972800@kalenteri.niemikoti.fi
SUMMARY:Joululeipurit
DESCRIPTION:Leivotaan yhdessä joulukuisia herkkuja.
URL:https://kalenteri.niemikoti.fi/tapahtuma/joululeipurit-3/2025-12-17/
LOCATION:Toimintakeskus Villa Borgis\, Linnavuorentie 13\, Helsinki\, 00950\, Finland
CATEGORIES:Toimintakeskus Villa Borgis
END:VEVENT
BEGIN:VEVENT
DTSTART;TZID=Europe/Helsinki:20251218T110000
DTEND;TZID=Europe/Helsinki:20251218T120000
DTSTAMP:20260426T045332
CREATED:20251128T083815Z
LAST-MODIFIED:20251128T083815Z
UID:10025552-1766055600-1766059200@kalenteri.niemikoti.fi
SUMMARY:Aamuvenyttely
DESCRIPTION:Lempeää kaikille sopivaa aamuista liikettä ja venyttelyä.
URL:https://kalenteri.niemikoti.fi/tapahtuma/aamuvenyttely/2025-12-18/
LOCATION:Toimintakeskus Villa Borgis\, Linnavuorentie 13\, Helsinki\, 00950\, Finland
CATEGORIES:Toimintakeskus Villa Borgis
END:VEVENT
BEGIN:VEVENT
DTSTART;TZID=Europe/Helsinki:20251219T100000
DTEND;TZID=Europe/Helsinki:20251219T120000
DTSTAMP:20260426T045332
CREATED:20251030T135629Z
LAST-MODIFIED:20260421T135152Z
UID:10024971-1766138400-1766145600@kalenteri.niemikoti.fi
SUMMARY:Sauna
DESCRIPTION:Sauna lämpiää perjantaisin\, jos on ilmoittautuneita. Miehet klo 10 – 11\, naiset klo 11 – 12. Ilmoittautuminen viim. samana päivänä klo 9 mennessä. Oma pyyhe ja pesuaineet mukaan.
URL:https://kalenteri.niemikoti.fi/tapahtuma/sauna-2/2025-12-19/
LOCATION:Toimintakeskus Villa Borgis\, Linnavuorentie 13\, Helsinki\, 00950\, Finland
CATEGORIES:Toimintakeskus Villa Borgis
END:VEVENT
BEGIN:VEVENT
DTSTART;TZID=Europe/Helsinki:20251219T120000
DTEND;TZID=Europe/Helsinki:20251219T130000
DTSTAMP:20260426T045332
CREATED:20251128T090529Z
LAST-MODIFIED:20251128T090529Z
UID:10025579-1766145600-1766149200@kalenteri.niemikoti.fi
SUMMARY:Perjantaihygge
DESCRIPTION:Mukavaa yhdessäoloa ja vaihtelevaa rentoa tekemistä.
URL:https://kalenteri.niemikoti.fi/tapahtuma/perjantaihygge/2025-12-19/
LOCATION:Toimintakeskus Villa Borgis\, Linnavuorentie 13\, Helsinki\, 00950\, Finland
CATEGORIES:Toimintakeskus Villa Borgis
END:VEVENT
BEGIN:VEVENT
DTSTART;TZID=Europe/Helsinki:20251222T120000
DTEND;TZID=Europe/Helsinki:20251222T130000
DTSTAMP:20260426T045332
CREATED:20251212T073324Z
LAST-MODIFIED:20251212T073324Z
UID:10025656-1766404800-1766408400@kalenteri.niemikoti.fi
SUMMARY:Yhteisön lounas
DESCRIPTION:Lounaaksi on herkullinen joulupuuro. Lounaan hinta 3 € sisältää päiväkahvin ja kahvileivän. Ilmoittaudu viim. pe 19.12
URL:https://kalenteri.niemikoti.fi/tapahtuma/yhteison-lounas-3/
LOCATION:Toimintakeskus Villa Borgis\, Linnavuorentie 13\, Helsinki\, 00950\, Finland
CATEGORIES:Toimintakeskus Villa Borgis
ATTACH;FMTTYPE=image/jpeg:https://kalenteri.niemikoti.fi/wp-content/uploads/2025/12/Red-and-White-Watercolor-Illustrative-Christmas-Menu-1-1.jpg
END:VEVENT
BEGIN:VEVENT
DTSTART;TZID=Europe/Helsinki:20251223T120000
DTEND;TZID=Europe/Helsinki:20251223T130000
DTSTAMP:20260426T045332
CREATED:20251212T092414Z
LAST-MODIFIED:20251212T092414Z
UID:10025661-1766491200-1766494800@kalenteri.niemikoti.fi
SUMMARY:Glögiä ja pipareita
DESCRIPTION:Villa Borgiksen joulu-etkoissa laskeudutaan kohti joululomaa glögin ja pipareiden siivittämänä.
URL:https://kalenteri.niemikoti.fi/tapahtuma/glogia-ja-pipareita/
LOCATION:Toimintakeskus Villa Borgis\, Linnavuorentie 13\, Helsinki\, 00950\, Finland
CATEGORIES:Toimintakeskus Villa Borgis
ATTACH;FMTTYPE=image/jpeg:https://kalenteri.niemikoti.fi/wp-content/uploads/2025/12/Red-and-White-Watercolor-Illustrative-Christmas-Menu-1-3.jpg
END:VEVENT
END:VCALENDAR