BEGIN:VCALENDAR
VERSION:2.0
PRODID:-//Tapahtumakalenteri - ECPv6.15.18//NONSGML v1.0//EN
CALSCALE:GREGORIAN
METHOD:PUBLISH
X-WR-CALNAME:Tapahtumakalenteri
X-ORIGINAL-URL:https://kalenteri.niemikoti.fi
X-WR-CALDESC:Tapahtumat Tapahtumakalenteri
REFRESH-INTERVAL;VALUE=DURATION:PT1H
X-Robots-Tag:noindex
X-PUBLISHED-TTL:PT1H
BEGIN:VTIMEZONE
TZID:Europe/Helsinki
BEGIN:DAYLIGHT
TZOFFSETFROM:+0200
TZOFFSETTO:+0300
TZNAME:EEST
DTSTART:20250330T010000
END:DAYLIGHT
BEGIN:STANDARD
TZOFFSETFROM:+0300
TZOFFSETTO:+0200
TZNAME:EET
DTSTART:20251026T010000
END:STANDARD
BEGIN:DAYLIGHT
TZOFFSETFROM:+0200
TZOFFSETTO:+0300
TZNAME:EEST
DTSTART:20260329T010000
END:DAYLIGHT
BEGIN:STANDARD
TZOFFSETFROM:+0300
TZOFFSETTO:+0200
TZNAME:EET
DTSTART:20261025T010000
END:STANDARD
BEGIN:DAYLIGHT
TZOFFSETFROM:+0200
TZOFFSETTO:+0300
TZNAME:EEST
DTSTART:20270328T010000
END:DAYLIGHT
BEGIN:STANDARD
TZOFFSETFROM:+0300
TZOFFSETTO:+0200
TZNAME:EET
DTSTART:20271031T010000
END:STANDARD
END:VTIMEZONE
BEGIN:VEVENT
DTSTART;TZID=Europe/Helsinki:20260504T113000
DTEND;TZID=Europe/Helsinki:20260504T120000
DTSTAMP:20260423T152856
CREATED:20251217T074626Z
LAST-MODIFIED:20260331T081041Z
UID:10036985-1777894200-1777896000@kalenteri.niemikoti.fi
SUMMARY:Kävelyryhmä
DESCRIPTION:Pieni kävelyretki Villa Borgiksen lähiluontoon.
URL:https://kalenteri.niemikoti.fi/tapahtuma/kavelyryhma-4/2026-05-04/
LOCATION:Toimintakeskus Villa Borgis\, Linnavuorentie 13\, Helsinki\, 00950\, Finland
CATEGORIES:Toimintakeskus Villa Borgis
END:VEVENT
BEGIN:VEVENT
DTSTART;TZID=Europe/Helsinki:20260507T113000
DTEND;TZID=Europe/Helsinki:20260507T120000
DTSTAMP:20260423T152856
CREATED:20260421T144256Z
LAST-MODIFIED:20260421T144256Z
UID:10037663-1778153400-1778155200@kalenteri.niemikoti.fi
SUMMARY:Lempeä liikunta
DESCRIPTION:Kaikille sopivaa lempeää liikettä. Sään salliessa ulkona.
URL:https://kalenteri.niemikoti.fi/tapahtuma/lempea-liikunta-6/
LOCATION:Toimintakeskus Villa Borgis\, Linnavuorentie 13\, Helsinki\, 00950\, Finland
CATEGORIES:Toimintakeskus Villa Borgis
END:VEVENT
BEGIN:VEVENT
DTSTART;TZID=Europe/Helsinki:20260508T100000
DTEND;TZID=Europe/Helsinki:20260508T120000
DTSTAMP:20260423T152856
CREATED:20251030T135629Z
LAST-MODIFIED:20260421T135152Z
UID:10026024-1778234400-1778241600@kalenteri.niemikoti.fi
SUMMARY:Sauna
DESCRIPTION:Sauna lämpiää perjantaisin\, jos on ilmoittautuneita. Miehet klo 10 – 11\, naiset klo 11 – 12. Ilmoittautuminen viim. samana päivänä klo 9 mennessä. Oma pyyhe ja pesuaineet mukaan.
URL:https://kalenteri.niemikoti.fi/tapahtuma/sauna-2/2026-05-08/
LOCATION:Toimintakeskus Villa Borgis\, Linnavuorentie 13\, Helsinki\, 00950\, Finland
CATEGORIES:Toimintakeskus Villa Borgis
END:VEVENT
BEGIN:VEVENT
DTSTART;TZID=Europe/Helsinki:20260508T100000
DTEND;TZID=Europe/Helsinki:20260731T110000
DTSTAMP:20260423T152856
CREATED:20250522T084825Z
LAST-MODIFIED:20260422T165922Z
UID:10025573-1778234400-1785495600@kalenteri.niemikoti.fi
SUMMARY:Aamujooga
DESCRIPTION:Kaikille sopivaa\, lempeää ja rauhallista joogaa. Max. 10 osallistujaa. Ilmoittaudu.
URL:https://kalenteri.niemikoti.fi/tapahtuma/aamujooga-3/2026-05-08/
LOCATION:Toimintakeskus Villa Borgis\, Linnavuorentie 13\, Helsinki\, 00950\, Finland
CATEGORIES:Toimintakeskus Villa Borgis
ATTACH;FMTTYPE=image/jpeg:https://kalenteri.niemikoti.fi/wp-content/uploads/2025/05/VillaBorgiksen-Aamujooga.jpg
END:VEVENT
BEGIN:VEVENT
DTSTART;TZID=Europe/Helsinki:20260511T113000
DTEND;TZID=Europe/Helsinki:20260511T120000
DTSTAMP:20260423T152856
CREATED:20251217T074626Z
LAST-MODIFIED:20260331T081041Z
UID:10036986-1778499000-1778500800@kalenteri.niemikoti.fi
SUMMARY:Kävelyryhmä
DESCRIPTION:Pieni kävelyretki Villa Borgiksen lähiluontoon.
URL:https://kalenteri.niemikoti.fi/tapahtuma/kavelyryhma-4/2026-05-11/
LOCATION:Toimintakeskus Villa Borgis\, Linnavuorentie 13\, Helsinki\, 00950\, Finland
CATEGORIES:Toimintakeskus Villa Borgis
END:VEVENT
BEGIN:VEVENT
DTSTART;TZID=Europe/Helsinki:20260515T100000
DTEND;TZID=Europe/Helsinki:20260515T120000
DTSTAMP:20260423T152856
CREATED:20251030T135629Z
LAST-MODIFIED:20260421T135152Z
UID:10026025-1778839200-1778846400@kalenteri.niemikoti.fi
SUMMARY:Sauna
DESCRIPTION:Sauna lämpiää perjantaisin\, jos on ilmoittautuneita. Miehet klo 10 – 11\, naiset klo 11 – 12. Ilmoittautuminen viim. samana päivänä klo 9 mennessä. Oma pyyhe ja pesuaineet mukaan.
URL:https://kalenteri.niemikoti.fi/tapahtuma/sauna-2/2026-05-15/
LOCATION:Toimintakeskus Villa Borgis\, Linnavuorentie 13\, Helsinki\, 00950\, Finland
CATEGORIES:Toimintakeskus Villa Borgis
END:VEVENT
BEGIN:VEVENT
DTSTART;TZID=Europe/Helsinki:20260515T100000
DTEND;TZID=Europe/Helsinki:20260807T110000
DTSTAMP:20260423T152856
CREATED:20250522T084825Z
LAST-MODIFIED:20260422T165922Z
UID:10025574-1778839200-1786100400@kalenteri.niemikoti.fi
SUMMARY:Aamujooga
DESCRIPTION:Kaikille sopivaa\, lempeää ja rauhallista joogaa. Max. 10 osallistujaa. Ilmoittaudu.
URL:https://kalenteri.niemikoti.fi/tapahtuma/aamujooga-3/2026-05-15/
LOCATION:Toimintakeskus Villa Borgis\, Linnavuorentie 13\, Helsinki\, 00950\, Finland
CATEGORIES:Toimintakeskus Villa Borgis
ATTACH;FMTTYPE=image/jpeg:https://kalenteri.niemikoti.fi/wp-content/uploads/2025/05/VillaBorgiksen-Aamujooga.jpg
END:VEVENT
BEGIN:VEVENT
DTSTART;TZID=Europe/Helsinki:20260515T120000
DTEND;TZID=Europe/Helsinki:20260515T140000
DTSTAMP:20260423T152856
CREATED:20260421T141933Z
LAST-MODIFIED:20260421T143302Z
UID:10037661-1778846400-1778853600@kalenteri.niemikoti.fi
SUMMARY:Retki Hallainvuoren luonnonsuojelualueelle
DESCRIPTION:Villa Borgis tekee luontoretken Viikin ja Myllypuron välissä sijaitsevalle Hallainvuoren luonnonsuojelualueelle. Kävelyä tulee 4-5 km\, joten laita hyvät kävelykengät ja ota mukaan pienet eväät\, ainakin vesipullo. Reitti ei ole esteetön. Lähtö Villa Borgiksesta klo 12 julkisilla liikennevälineillä. Ilmoittaudu p. 0400-560 176 tai 050-424 3138. Säävaraus.
URL:https://kalenteri.niemikoti.fi/tapahtuma/retki-hallainvuoren-luonnonsuojelualueelle/
CATEGORIES:Toimintakeskus Villa Borgis
END:VEVENT
BEGIN:VEVENT
DTSTART;TZID=Europe/Helsinki:20260518T113000
DTEND;TZID=Europe/Helsinki:20260518T120000
DTSTAMP:20260423T152856
CREATED:20251217T074626Z
LAST-MODIFIED:20260331T081041Z
UID:10036987-1779103800-1779105600@kalenteri.niemikoti.fi
SUMMARY:Kävelyryhmä
DESCRIPTION:Pieni kävelyretki Villa Borgiksen lähiluontoon.
URL:https://kalenteri.niemikoti.fi/tapahtuma/kavelyryhma-4/2026-05-18/
LOCATION:Toimintakeskus Villa Borgis\, Linnavuorentie 13\, Helsinki\, 00950\, Finland
CATEGORIES:Toimintakeskus Villa Borgis
END:VEVENT
BEGIN:VEVENT
DTSTART;TZID=Europe/Helsinki:20260521T111500
DTEND;TZID=Europe/Helsinki:20260521T120000
DTSTAMP:20260423T152856
CREATED:20260422T175129Z
LAST-MODIFIED:20260422T175129Z
UID:10037666-1779362100-1779364800@kalenteri.niemikoti.fi
SUMMARY:Lempeä liikunta
DESCRIPTION:Kaikille sopivaa lempeää liikahtelua\, venyttelyä yms.
URL:https://kalenteri.niemikoti.fi/tapahtuma/lempea-liikunta-7/2026-05-21/
LOCATION:Toimintakeskus Villa Borgis\, Linnavuorentie 13\, Helsinki\, 00950\, Finland
CATEGORIES:Toimintakeskus Villa Borgis
END:VEVENT
BEGIN:VEVENT
DTSTART;TZID=Europe/Helsinki:20260525T113000
DTEND;TZID=Europe/Helsinki:20260525T120000
DTSTAMP:20260423T152856
CREATED:20251217T074626Z
LAST-MODIFIED:20260331T081041Z
UID:10036988-1779708600-1779710400@kalenteri.niemikoti.fi
SUMMARY:Kävelyryhmä
DESCRIPTION:Pieni kävelyretki Villa Borgiksen lähiluontoon.
URL:https://kalenteri.niemikoti.fi/tapahtuma/kavelyryhma-4/2026-05-25/
LOCATION:Toimintakeskus Villa Borgis\, Linnavuorentie 13\, Helsinki\, 00950\, Finland
CATEGORIES:Toimintakeskus Villa Borgis
END:VEVENT
BEGIN:VEVENT
DTSTART;TZID=Europe/Helsinki:20260528T111500
DTEND;TZID=Europe/Helsinki:20260528T120000
DTSTAMP:20260423T152856
CREATED:20260422T175129Z
LAST-MODIFIED:20260422T175129Z
UID:10037667-1779966900-1779969600@kalenteri.niemikoti.fi
SUMMARY:Lempeä liikunta
DESCRIPTION:Kaikille sopivaa lempeää liikahtelua\, venyttelyä yms.
URL:https://kalenteri.niemikoti.fi/tapahtuma/lempea-liikunta-7/2026-05-28/
LOCATION:Toimintakeskus Villa Borgis\, Linnavuorentie 13\, Helsinki\, 00950\, Finland
CATEGORIES:Toimintakeskus Villa Borgis
END:VEVENT
BEGIN:VEVENT
DTSTART;TZID=Europe/Helsinki:20260529T100000
DTEND;TZID=Europe/Helsinki:20260529T120000
DTSTAMP:20260423T152856
CREATED:20251030T135629Z
LAST-MODIFIED:20260421T135152Z
UID:10026027-1780048800-1780056000@kalenteri.niemikoti.fi
SUMMARY:Sauna
DESCRIPTION:Sauna lämpiää perjantaisin\, jos on ilmoittautuneita. Miehet klo 10 – 11\, naiset klo 11 – 12. Ilmoittautuminen viim. samana päivänä klo 9 mennessä. Oma pyyhe ja pesuaineet mukaan.
URL:https://kalenteri.niemikoti.fi/tapahtuma/sauna-2/2026-05-29/
LOCATION:Toimintakeskus Villa Borgis\, Linnavuorentie 13\, Helsinki\, 00950\, Finland
CATEGORIES:Toimintakeskus Villa Borgis
END:VEVENT
BEGIN:VEVENT
DTSTART;TZID=Europe/Helsinki:20260529T100000
DTEND;TZID=Europe/Helsinki:20260821T110000
DTSTAMP:20260423T152856
CREATED:20250522T084825Z
LAST-MODIFIED:20260422T165922Z
UID:10025576-1780048800-1787310000@kalenteri.niemikoti.fi
SUMMARY:Aamujooga
DESCRIPTION:Kaikille sopivaa\, lempeää ja rauhallista joogaa. Max. 10 osallistujaa. Ilmoittaudu.
URL:https://kalenteri.niemikoti.fi/tapahtuma/aamujooga-3/2026-05-29/
LOCATION:Toimintakeskus Villa Borgis\, Linnavuorentie 13\, Helsinki\, 00950\, Finland
CATEGORIES:Toimintakeskus Villa Borgis
ATTACH;FMTTYPE=image/jpeg:https://kalenteri.niemikoti.fi/wp-content/uploads/2025/05/VillaBorgiksen-Aamujooga.jpg
END:VEVENT
BEGIN:VEVENT
DTSTART;TZID=Europe/Helsinki:20260529T120000
DTEND;TZID=Europe/Helsinki:20260529T140000
DTSTAMP:20260423T152856
CREATED:20260421T142626Z
LAST-MODIFIED:20260421T142626Z
UID:10037662-1780056000-1780063200@kalenteri.niemikoti.fi
SUMMARY:Retki Viikin Arboretumiin
DESCRIPTION:Villa Borgis tekee luontoretken Viikin puulajipuistoon. Kävelyä tulee 5-6 km\, joten laita jalkaan hyvät kävelykengät. Voit ottaa mukaan pienet eväät tai ainakin vesipullon. Lähtö Villa Borgiksesta klo 12. Ilmoittaudu p. 0400-560 176 tai 050-414 3138.
URL:https://kalenteri.niemikoti.fi/tapahtuma/retki-viikin-arboretumiin/
END:VEVENT
END:VCALENDAR