BEGIN:VCALENDAR
VERSION:2.0
PRODID:-//Tapahtumakalenteri - ECPv6.15.18//NONSGML v1.0//EN
CALSCALE:GREGORIAN
METHOD:PUBLISH
X-WR-CALNAME:Tapahtumakalenteri
X-ORIGINAL-URL:https://kalenteri.niemikoti.fi
X-WR-CALDESC:Tapahtumat Tapahtumakalenteri
REFRESH-INTERVAL;VALUE=DURATION:PT1H
X-Robots-Tag:noindex
X-PUBLISHED-TTL:PT1H
BEGIN:VTIMEZONE
TZID:Europe/Helsinki
BEGIN:DAYLIGHT
TZOFFSETFROM:+0200
TZOFFSETTO:+0300
TZNAME:EEST
DTSTART:20250330T010000
END:DAYLIGHT
BEGIN:STANDARD
TZOFFSETFROM:+0300
TZOFFSETTO:+0200
TZNAME:EET
DTSTART:20251026T010000
END:STANDARD
BEGIN:DAYLIGHT
TZOFFSETFROM:+0200
TZOFFSETTO:+0300
TZNAME:EEST
DTSTART:20260329T010000
END:DAYLIGHT
BEGIN:STANDARD
TZOFFSETFROM:+0300
TZOFFSETTO:+0200
TZNAME:EET
DTSTART:20261025T010000
END:STANDARD
BEGIN:DAYLIGHT
TZOFFSETFROM:+0200
TZOFFSETTO:+0300
TZNAME:EEST
DTSTART:20270328T010000
END:DAYLIGHT
BEGIN:STANDARD
TZOFFSETFROM:+0300
TZOFFSETTO:+0200
TZNAME:EET
DTSTART:20271031T010000
END:STANDARD
END:VTIMEZONE
BEGIN:VEVENT
DTSTART;TZID=Europe/Helsinki:20260102T120000
DTEND;TZID=Europe/Helsinki:20260102T150000
DTSTAMP:20260426T062418
CREATED:20251217T143617Z
LAST-MODIFIED:20251217T143617Z
UID:10026037-1767355200-1767366000@kalenteri.niemikoti.fi
SUMMARY:Aloita vuosi 2026 lempeästi ja tee tilaa itsellesi rentoutuen✨
DESCRIPTION:Tervetuloa Kulttuuripaja Elvikseen viettämään Hyvinvoinnin ja kohtaamisen iltapäivää heti vuoden alussa\, perjantaina 2.1.2026. Tämä on täydellinen tilaisuus laskeutua uuteen vuoteen rauhassa ja hyvässä seurassa. \nPäivän ohjelmassa on huomioitu sekä keho että mieli: \n💪 Klo 12.00–13.30: Kuntosali – tule liikkumaan omaan tahtiisi. \n🎶 Klo 14.00–15.00: Rentouttava äänikylpy – anna sointumaljojen värähtelyn rauhoittaa. \nTapahtuma on avoin kaikille Niemikotisäätiön kävijöille. Voit osallistua molempiin osioihin tai vain toiseen. \n📍 Paikka: Kulttuuripaja Elvis\, Lautatarhankatu 4\, Helsinki \n📞 Lisätiedot: Teppo\, 050-5882282 \nLämpimästi tervetuloa mukaan!
URL:https://kalenteri.niemikoti.fi/tapahtuma/aloita-vuosi-2026-lempeasti-ja-tee-tilaa-itsellesi-rentoutuen%e2%9c%a8/
ATTACH;FMTTYPE=image/png:https://kalenteri.niemikoti.fi/wp-content/uploads/2025/12/HKT-2.1.2026-Elviksessa-klo-12-15.png
END:VEVENT
END:VCALENDAR