BEGIN:VCALENDAR
VERSION:2.0
PRODID:-//Tapahtumakalenteri - ECPv6.15.18//NONSGML v1.0//EN
CALSCALE:GREGORIAN
METHOD:PUBLISH
X-WR-CALNAME:Tapahtumakalenteri
X-ORIGINAL-URL:https://kalenteri.niemikoti.fi
X-WR-CALDESC:Tapahtumat Tapahtumakalenteri
REFRESH-INTERVAL;VALUE=DURATION:PT1H
X-Robots-Tag:noindex
X-PUBLISHED-TTL:PT1H
BEGIN:VTIMEZONE
TZID:Europe/Helsinki
BEGIN:DAYLIGHT
TZOFFSETFROM:+0200
TZOFFSETTO:+0300
TZNAME:EEST
DTSTART:20250330T010000
END:DAYLIGHT
BEGIN:STANDARD
TZOFFSETFROM:+0300
TZOFFSETTO:+0200
TZNAME:EET
DTSTART:20251026T010000
END:STANDARD
BEGIN:DAYLIGHT
TZOFFSETFROM:+0200
TZOFFSETTO:+0300
TZNAME:EEST
DTSTART:20260329T010000
END:DAYLIGHT
BEGIN:STANDARD
TZOFFSETFROM:+0300
TZOFFSETTO:+0200
TZNAME:EET
DTSTART:20261025T010000
END:STANDARD
BEGIN:DAYLIGHT
TZOFFSETFROM:+0200
TZOFFSETTO:+0300
TZNAME:EEST
DTSTART:20270328T010000
END:DAYLIGHT
BEGIN:STANDARD
TZOFFSETFROM:+0300
TZOFFSETTO:+0200
TZNAME:EET
DTSTART:20271031T010000
END:STANDARD
END:VTIMEZONE
BEGIN:VEVENT
DTSTART;TZID=Europe/Helsinki:20260309T113000
DTEND;TZID=Europe/Helsinki:20260309T120000
DTSTAMP:20260423T205717
CREATED:20251217T074626Z
LAST-MODIFIED:20260331T081041Z
UID:10033953-1773055800-1773057600@kalenteri.niemikoti.fi
SUMMARY:Kävelyryhmä
DESCRIPTION:Pieni kävelyretki Villa Borgiksen lähiluontoon.
URL:https://kalenteri.niemikoti.fi/tapahtuma/kavelyryhma-4/2026-03-09/
LOCATION:Toimintakeskus Villa Borgis\, Linnavuorentie 13\, Helsinki\, 00950\, Finland
CATEGORIES:Toimintakeskus Villa Borgis
END:VEVENT
BEGIN:VEVENT
DTSTART;TZID=Europe/Helsinki:20260310T130000
DTEND;TZID=Europe/Helsinki:20260310T140000
DTSTAMP:20260423T205717
CREATED:20260213T083434Z
LAST-MODIFIED:20260331T082245Z
UID:10033599-1773147600-1773151200@kalenteri.niemikoti.fi
SUMMARY:Yhteislaulua
DESCRIPTION:Laulaminen tekee hyvää : ) Tule mukaan\, ei tarvitse ilmoittautua.
URL:https://kalenteri.niemikoti.fi/tapahtuma/yhteislaulua/2026-03-10/
LOCATION:Toimintakeskus Villa Borgis\, Linnavuorentie 13\, Helsinki\, 00950\, Finland
CATEGORIES:Toimintakeskus Villa Borgis
END:VEVENT
BEGIN:VEVENT
DTSTART;TZID=Europe/Helsinki:20260313T100000
DTEND;TZID=Europe/Helsinki:20260313T120000
DTSTAMP:20260423T205717
CREATED:20251030T135629Z
LAST-MODIFIED:20260421T135152Z
UID:10026016-1773396000-1773403200@kalenteri.niemikoti.fi
SUMMARY:Sauna
DESCRIPTION:Sauna lämpiää perjantaisin\, jos on ilmoittautuneita. Miehet klo 10 – 11\, naiset klo 11 – 12. Ilmoittautuminen viim. samana päivänä klo 9 mennessä. Oma pyyhe ja pesuaineet mukaan.
URL:https://kalenteri.niemikoti.fi/tapahtuma/sauna-2/2026-03-13/
LOCATION:Toimintakeskus Villa Borgis\, Linnavuorentie 13\, Helsinki\, 00950\, Finland
CATEGORIES:Toimintakeskus Villa Borgis
END:VEVENT
BEGIN:VEVENT
DTSTART;TZID=Europe/Helsinki:20260313T120000
DTEND;TZID=Europe/Helsinki:20260313T130000
DTSTAMP:20260423T205717
CREATED:20260217T130252Z
LAST-MODIFIED:20260327T091849Z
UID:10033946-1773403200-1773406800@kalenteri.niemikoti.fi
SUMMARY:Perjantai-chillailut
DESCRIPTION:Leppoisaa yhteistä tekemistä; kädentaitoja\, lautapelejä\, musiikin kuuntelua yms.
URL:https://kalenteri.niemikoti.fi/tapahtuma/perjantai-chillailut/2026-03-13/
LOCATION:Toimintakeskus Villa Borgis\, Linnavuorentie 13\, Helsinki\, 00950\, Finland
CATEGORIES:Toimintakeskus Villa Borgis
END:VEVENT
END:VCALENDAR