BEGIN:VCALENDAR
VERSION:2.0
PRODID:-//Tapahtumakalenteri - ECPv6.15.18//NONSGML v1.0//EN
CALSCALE:GREGORIAN
METHOD:PUBLISH
X-WR-CALNAME:Tapahtumakalenteri
X-ORIGINAL-URL:https://kalenteri.niemikoti.fi
X-WR-CALDESC:Tapahtumat Tapahtumakalenteri
REFRESH-INTERVAL;VALUE=DURATION:PT1H
X-Robots-Tag:noindex
X-PUBLISHED-TTL:PT1H
BEGIN:VTIMEZONE
TZID:Europe/Helsinki
BEGIN:DAYLIGHT
TZOFFSETFROM:+0200
TZOFFSETTO:+0300
TZNAME:EEST
DTSTART:20240331T010000
END:DAYLIGHT
BEGIN:STANDARD
TZOFFSETFROM:+0300
TZOFFSETTO:+0200
TZNAME:EET
DTSTART:20241027T010000
END:STANDARD
BEGIN:DAYLIGHT
TZOFFSETFROM:+0200
TZOFFSETTO:+0300
TZNAME:EEST
DTSTART:20250330T010000
END:DAYLIGHT
BEGIN:STANDARD
TZOFFSETFROM:+0300
TZOFFSETTO:+0200
TZNAME:EET
DTSTART:20251026T010000
END:STANDARD
BEGIN:DAYLIGHT
TZOFFSETFROM:+0200
TZOFFSETTO:+0300
TZNAME:EEST
DTSTART:20260329T010000
END:DAYLIGHT
BEGIN:STANDARD
TZOFFSETFROM:+0300
TZOFFSETTO:+0200
TZNAME:EET
DTSTART:20261025T010000
END:STANDARD
BEGIN:DAYLIGHT
TZOFFSETFROM:+0200
TZOFFSETTO:+0300
TZNAME:EEST
DTSTART:20270328T010000
END:DAYLIGHT
BEGIN:STANDARD
TZOFFSETFROM:+0300
TZOFFSETTO:+0200
TZNAME:EET
DTSTART:20271031T010000
END:STANDARD
END:VTIMEZONE
BEGIN:VEVENT
DTSTART;TZID=Europe/Helsinki:20260417T100000
DTEND;TZID=Europe/Helsinki:20260417T110000
DTSTAMP:20260423T160744
CREATED:20260126T132848Z
LAST-MODIFIED:20260304T131909Z
UID:10036064-1776420000-1776423600@kalenteri.niemikoti.fi
SUMMARY:Tuolijooga
DESCRIPTION:Rauhallista venyttelyä tuolilla istuen ja tuolia tukena käyttäen. Lopussa rentoutus. \nTäydentyvä ryhmä\, ilmoittaudu.
URL:https://kalenteri.niemikoti.fi/tapahtuma/tuolijooga-malmilla/2026-04-17/
LOCATION:Malmin päivätoimintakeskus\, Vanha Helsingintie 9\, Helsinki\, 00700\, Finland
CATEGORIES:Malmin päivätoimintakeskus
ATTACH;FMTTYPE=image/jpeg:https://kalenteri.niemikoti.fi/wp-content/uploads/2026/01/Tuolijooga.jpg
END:VEVENT
BEGIN:VEVENT
DTSTART;TZID=Europe/Helsinki:20260410T100000
DTEND;TZID=Europe/Helsinki:20260410T110000
DTSTAMP:20260423T160744
CREATED:20260126T132848Z
LAST-MODIFIED:20260304T131909Z
UID:10036063-1775815200-1775818800@kalenteri.niemikoti.fi
SUMMARY:Tuolijooga
DESCRIPTION:Rauhallista venyttelyä tuolilla istuen ja tuolia tukena käyttäen. Lopussa rentoutus. \nTäydentyvä ryhmä\, ilmoittaudu.
URL:https://kalenteri.niemikoti.fi/tapahtuma/tuolijooga-malmilla/2026-04-10/
LOCATION:Malmin päivätoimintakeskus\, Vanha Helsingintie 9\, Helsinki\, 00700\, Finland
CATEGORIES:Malmin päivätoimintakeskus
ATTACH;FMTTYPE=image/jpeg:https://kalenteri.niemikoti.fi/wp-content/uploads/2026/01/Tuolijooga.jpg
END:VEVENT
BEGIN:VEVENT
DTSTART;TZID=Europe/Helsinki:20260403T100000
DTEND;TZID=Europe/Helsinki:20260403T110000
DTSTAMP:20260423T160744
CREATED:20260126T132848Z
LAST-MODIFIED:20260304T131909Z
UID:10036062-1775210400-1775214000@kalenteri.niemikoti.fi
SUMMARY:Tuolijooga
DESCRIPTION:Rauhallista venyttelyä tuolilla istuen ja tuolia tukena käyttäen. Lopussa rentoutus. \nTäydentyvä ryhmä\, ilmoittaudu.
URL:https://kalenteri.niemikoti.fi/tapahtuma/tuolijooga-malmilla/2026-04-03/
LOCATION:Malmin päivätoimintakeskus\, Vanha Helsingintie 9\, Helsinki\, 00700\, Finland
CATEGORIES:Malmin päivätoimintakeskus
ATTACH;FMTTYPE=image/jpeg:https://kalenteri.niemikoti.fi/wp-content/uploads/2026/01/Tuolijooga.jpg
END:VEVENT
BEGIN:VEVENT
DTSTART;TZID=Europe/Helsinki:20260327T100000
DTEND;TZID=Europe/Helsinki:20260327T110000
DTSTAMP:20260423T160744
CREATED:20260126T132848Z
LAST-MODIFIED:20260304T131909Z
UID:10036061-1774605600-1774609200@kalenteri.niemikoti.fi
SUMMARY:Tuolijooga
DESCRIPTION:Rauhallista venyttelyä tuolilla istuen ja tuolia tukena käyttäen. Lopussa rentoutus. \nTäydentyvä ryhmä\, ilmoittaudu.
URL:https://kalenteri.niemikoti.fi/tapahtuma/tuolijooga-malmilla/2026-03-27/
LOCATION:Malmin päivätoimintakeskus\, Vanha Helsingintie 9\, Helsinki\, 00700\, Finland
CATEGORIES:Malmin päivätoimintakeskus
ATTACH;FMTTYPE=image/jpeg:https://kalenteri.niemikoti.fi/wp-content/uploads/2026/01/Tuolijooga.jpg
END:VEVENT
BEGIN:VEVENT
DTSTART;TZID=Europe/Helsinki:20260320T100000
DTEND;TZID=Europe/Helsinki:20260320T110000
DTSTAMP:20260423T160744
CREATED:20260126T132848Z
LAST-MODIFIED:20260304T131909Z
UID:10036060-1774000800-1774004400@kalenteri.niemikoti.fi
SUMMARY:Tuolijooga
DESCRIPTION:Rauhallista venyttelyä tuolilla istuen ja tuolia tukena käyttäen. Lopussa rentoutus. \nTäydentyvä ryhmä\, ilmoittaudu.
URL:https://kalenteri.niemikoti.fi/tapahtuma/tuolijooga-malmilla/2026-03-20/
LOCATION:Malmin päivätoimintakeskus\, Vanha Helsingintie 9\, Helsinki\, 00700\, Finland
CATEGORIES:Malmin päivätoimintakeskus
ATTACH;FMTTYPE=image/jpeg:https://kalenteri.niemikoti.fi/wp-content/uploads/2026/01/Tuolijooga.jpg
END:VEVENT
BEGIN:VEVENT
DTSTART;TZID=Europe/Helsinki:20260313T100000
DTEND;TZID=Europe/Helsinki:20260313T110000
DTSTAMP:20260423T160744
CREATED:20260126T132848Z
LAST-MODIFIED:20260304T131909Z
UID:10036059-1773396000-1773399600@kalenteri.niemikoti.fi
SUMMARY:Tuolijooga
DESCRIPTION:Rauhallista venyttelyä tuolilla istuen ja tuolia tukena käyttäen. Lopussa rentoutus. \nTäydentyvä ryhmä\, ilmoittaudu.
URL:https://kalenteri.niemikoti.fi/tapahtuma/tuolijooga-malmilla/2026-03-13/
LOCATION:Malmin päivätoimintakeskus\, Vanha Helsingintie 9\, Helsinki\, 00700\, Finland
CATEGORIES:Malmin päivätoimintakeskus
ATTACH;FMTTYPE=image/jpeg:https://kalenteri.niemikoti.fi/wp-content/uploads/2026/01/Tuolijooga.jpg
END:VEVENT
BEGIN:VEVENT
DTSTART;TZID=Europe/Helsinki:20260306T100000
DTEND;TZID=Europe/Helsinki:20260306T110000
DTSTAMP:20260423T160744
CREATED:20260126T132848Z
LAST-MODIFIED:20260304T131909Z
UID:10036058-1772791200-1772794800@kalenteri.niemikoti.fi
SUMMARY:Tuolijooga
DESCRIPTION:Rauhallista venyttelyä tuolilla istuen ja tuolia tukena käyttäen. Lopussa rentoutus. \nTäydentyvä ryhmä\, ilmoittaudu.
URL:https://kalenteri.niemikoti.fi/tapahtuma/tuolijooga-malmilla/2026-03-06/
LOCATION:Malmin päivätoimintakeskus\, Vanha Helsingintie 9\, Helsinki\, 00700\, Finland
CATEGORIES:Malmin päivätoimintakeskus
ATTACH;FMTTYPE=image/jpeg:https://kalenteri.niemikoti.fi/wp-content/uploads/2026/01/Tuolijooga.jpg
END:VEVENT
BEGIN:VEVENT
DTSTART;TZID=Europe/Helsinki:20260227T100000
DTEND;TZID=Europe/Helsinki:20260227T110000
DTSTAMP:20260423T160744
CREATED:20260126T132848Z
LAST-MODIFIED:20260304T131909Z
UID:10036057-1772186400-1772190000@kalenteri.niemikoti.fi
SUMMARY:Tuolijooga
DESCRIPTION:Rauhallista venyttelyä tuolilla istuen ja tuolia tukena käyttäen. Lopussa rentoutus. \nTäydentyvä ryhmä\, ilmoittaudu.
URL:https://kalenteri.niemikoti.fi/tapahtuma/tuolijooga-malmilla/2026-02-27/
LOCATION:Malmin päivätoimintakeskus\, Vanha Helsingintie 9\, Helsinki\, 00700\, Finland
CATEGORIES:Malmin päivätoimintakeskus
ATTACH;FMTTYPE=image/jpeg:https://kalenteri.niemikoti.fi/wp-content/uploads/2026/01/Tuolijooga.jpg
END:VEVENT
BEGIN:VEVENT
DTSTART;TZID=Europe/Helsinki:20260220T100000
DTEND;TZID=Europe/Helsinki:20260220T110000
DTSTAMP:20260423T160744
CREATED:20260126T132848Z
LAST-MODIFIED:20260304T131909Z
UID:10036056-1771581600-1771585200@kalenteri.niemikoti.fi
SUMMARY:Tuolijooga
DESCRIPTION:Rauhallista venyttelyä tuolilla istuen ja tuolia tukena käyttäen. Lopussa rentoutus. \nTäydentyvä ryhmä\, ilmoittaudu.
URL:https://kalenteri.niemikoti.fi/tapahtuma/tuolijooga-malmilla/2026-02-20/
LOCATION:Malmin päivätoimintakeskus\, Vanha Helsingintie 9\, Helsinki\, 00700\, Finland
CATEGORIES:Malmin päivätoimintakeskus
ATTACH;FMTTYPE=image/jpeg:https://kalenteri.niemikoti.fi/wp-content/uploads/2026/01/Tuolijooga.jpg
END:VEVENT
BEGIN:VEVENT
DTSTART;TZID=Europe/Helsinki:20260213T100000
DTEND;TZID=Europe/Helsinki:20260213T110000
DTSTAMP:20260423T160744
CREATED:20260126T132848Z
LAST-MODIFIED:20260304T131909Z
UID:10036055-1770976800-1770980400@kalenteri.niemikoti.fi
SUMMARY:Tuolijooga
DESCRIPTION:Rauhallista venyttelyä tuolilla istuen ja tuolia tukena käyttäen. Lopussa rentoutus. \nTäydentyvä ryhmä\, ilmoittaudu.
URL:https://kalenteri.niemikoti.fi/tapahtuma/tuolijooga-malmilla/2026-02-13/
LOCATION:Malmin päivätoimintakeskus\, Vanha Helsingintie 9\, Helsinki\, 00700\, Finland
CATEGORIES:Malmin päivätoimintakeskus
ATTACH;FMTTYPE=image/jpeg:https://kalenteri.niemikoti.fi/wp-content/uploads/2026/01/Tuolijooga.jpg
END:VEVENT
BEGIN:VEVENT
DTSTART;TZID=Europe/Helsinki:20260206T100000
DTEND;TZID=Europe/Helsinki:20260206T110000
DTSTAMP:20260423T160744
CREATED:20260126T132848Z
LAST-MODIFIED:20260304T131909Z
UID:10036054-1770372000-1770375600@kalenteri.niemikoti.fi
SUMMARY:Tuolijooga
DESCRIPTION:Rauhallista venyttelyä tuolilla istuen ja tuolia tukena käyttäen. Lopussa rentoutus. \nTäydentyvä ryhmä\, ilmoittaudu.
URL:https://kalenteri.niemikoti.fi/tapahtuma/tuolijooga-malmilla/2026-02-06/
LOCATION:Malmin päivätoimintakeskus\, Vanha Helsingintie 9\, Helsinki\, 00700\, Finland
CATEGORIES:Malmin päivätoimintakeskus
ATTACH;FMTTYPE=image/jpeg:https://kalenteri.niemikoti.fi/wp-content/uploads/2026/01/Tuolijooga.jpg
END:VEVENT
BEGIN:VEVENT
DTSTART;TZID=Europe/Helsinki:20251218T110000
DTEND;TZID=Europe/Helsinki:20251218T120000
DTSTAMP:20260423T160744
CREATED:20250930T093937Z
LAST-MODIFIED:20250930T093937Z
UID:10024896-1766055600-1766059200@kalenteri.niemikoti.fi
SUMMARY:Rento jooga
DESCRIPTION:Lempeää ja helppoa venyttelyä sekä rentoutusta. \nTäydentyvä ryhmä\, ilmoittaudu mukaan!
URL:https://kalenteri.niemikoti.fi/tapahtuma/rento-jooga-3/2025-12-18/
LOCATION:Malmin päivätoimintakeskus\, Vanha Helsingintie 9\, Helsinki\, 00700\, Finland
CATEGORIES:Malmin päivätoimintakeskus
ATTACH;FMTTYPE=image/jpeg:https://kalenteri.niemikoti.fi/wp-content/uploads/2025/09/Jooga.jpg
END:VEVENT
BEGIN:VEVENT
DTSTART;TZID=Europe/Helsinki:20251211T110000
DTEND;TZID=Europe/Helsinki:20251211T120000
DTSTAMP:20260423T160744
CREATED:20250930T093937Z
LAST-MODIFIED:20250930T093937Z
UID:10024895-1765450800-1765454400@kalenteri.niemikoti.fi
SUMMARY:Rento jooga
DESCRIPTION:Lempeää ja helppoa venyttelyä sekä rentoutusta. \nTäydentyvä ryhmä\, ilmoittaudu mukaan!
URL:https://kalenteri.niemikoti.fi/tapahtuma/rento-jooga-3/2025-12-11/
LOCATION:Malmin päivätoimintakeskus\, Vanha Helsingintie 9\, Helsinki\, 00700\, Finland
CATEGORIES:Malmin päivätoimintakeskus
ATTACH;FMTTYPE=image/jpeg:https://kalenteri.niemikoti.fi/wp-content/uploads/2025/09/Jooga.jpg
END:VEVENT
BEGIN:VEVENT
DTSTART;TZID=Europe/Helsinki:20251204T110000
DTEND;TZID=Europe/Helsinki:20251204T120000
DTSTAMP:20260423T160744
CREATED:20250930T093937Z
LAST-MODIFIED:20250930T093937Z
UID:10024894-1764846000-1764849600@kalenteri.niemikoti.fi
SUMMARY:Rento jooga
DESCRIPTION:Lempeää ja helppoa venyttelyä sekä rentoutusta. \nTäydentyvä ryhmä\, ilmoittaudu mukaan!
URL:https://kalenteri.niemikoti.fi/tapahtuma/rento-jooga-3/2025-12-04/
LOCATION:Malmin päivätoimintakeskus\, Vanha Helsingintie 9\, Helsinki\, 00700\, Finland
CATEGORIES:Malmin päivätoimintakeskus
ATTACH;FMTTYPE=image/jpeg:https://kalenteri.niemikoti.fi/wp-content/uploads/2025/09/Jooga.jpg
END:VEVENT
BEGIN:VEVENT
DTSTART;TZID=Europe/Helsinki:20251127T110000
DTEND;TZID=Europe/Helsinki:20251127T120000
DTSTAMP:20260423T160744
CREATED:20250930T093937Z
LAST-MODIFIED:20250930T093937Z
UID:10024893-1764241200-1764244800@kalenteri.niemikoti.fi
SUMMARY:Rento jooga
DESCRIPTION:Lempeää ja helppoa venyttelyä sekä rentoutusta. \nTäydentyvä ryhmä\, ilmoittaudu mukaan!
URL:https://kalenteri.niemikoti.fi/tapahtuma/rento-jooga-3/2025-11-27/
LOCATION:Malmin päivätoimintakeskus\, Vanha Helsingintie 9\, Helsinki\, 00700\, Finland
CATEGORIES:Malmin päivätoimintakeskus
ATTACH;FMTTYPE=image/jpeg:https://kalenteri.niemikoti.fi/wp-content/uploads/2025/09/Jooga.jpg
END:VEVENT
BEGIN:VEVENT
DTSTART;TZID=Europe/Helsinki:20251120T110000
DTEND;TZID=Europe/Helsinki:20251120T120000
DTSTAMP:20260423T160744
CREATED:20250930T093937Z
LAST-MODIFIED:20250930T093937Z
UID:10024892-1763636400-1763640000@kalenteri.niemikoti.fi
SUMMARY:Rento jooga
DESCRIPTION:Lempeää ja helppoa venyttelyä sekä rentoutusta. \nTäydentyvä ryhmä\, ilmoittaudu mukaan!
URL:https://kalenteri.niemikoti.fi/tapahtuma/rento-jooga-3/2025-11-20/
LOCATION:Malmin päivätoimintakeskus\, Vanha Helsingintie 9\, Helsinki\, 00700\, Finland
CATEGORIES:Malmin päivätoimintakeskus
ATTACH;FMTTYPE=image/jpeg:https://kalenteri.niemikoti.fi/wp-content/uploads/2025/09/Jooga.jpg
END:VEVENT
BEGIN:VEVENT
DTSTART;TZID=Europe/Helsinki:20251113T110000
DTEND;TZID=Europe/Helsinki:20251113T120000
DTSTAMP:20260423T160744
CREATED:20250930T093937Z
LAST-MODIFIED:20250930T093937Z
UID:10024891-1763031600-1763035200@kalenteri.niemikoti.fi
SUMMARY:Rento jooga
DESCRIPTION:Lempeää ja helppoa venyttelyä sekä rentoutusta. \nTäydentyvä ryhmä\, ilmoittaudu mukaan!
URL:https://kalenteri.niemikoti.fi/tapahtuma/rento-jooga-3/2025-11-13/
LOCATION:Malmin päivätoimintakeskus\, Vanha Helsingintie 9\, Helsinki\, 00700\, Finland
CATEGORIES:Malmin päivätoimintakeskus
ATTACH;FMTTYPE=image/jpeg:https://kalenteri.niemikoti.fi/wp-content/uploads/2025/09/Jooga.jpg
END:VEVENT
BEGIN:VEVENT
DTSTART;TZID=Europe/Helsinki:20251106T110000
DTEND;TZID=Europe/Helsinki:20251106T120000
DTSTAMP:20260423T160744
CREATED:20250930T093937Z
LAST-MODIFIED:20250930T093937Z
UID:10024890-1762426800-1762430400@kalenteri.niemikoti.fi
SUMMARY:Rento jooga
DESCRIPTION:Lempeää ja helppoa venyttelyä sekä rentoutusta. \nTäydentyvä ryhmä\, ilmoittaudu mukaan!
URL:https://kalenteri.niemikoti.fi/tapahtuma/rento-jooga-3/2025-11-06/
LOCATION:Malmin päivätoimintakeskus\, Vanha Helsingintie 9\, Helsinki\, 00700\, Finland
CATEGORIES:Malmin päivätoimintakeskus
ATTACH;FMTTYPE=image/jpeg:https://kalenteri.niemikoti.fi/wp-content/uploads/2025/09/Jooga.jpg
END:VEVENT
BEGIN:VEVENT
DTSTART;TZID=Europe/Helsinki:20251030T110000
DTEND;TZID=Europe/Helsinki:20251030T120000
DTSTAMP:20260423T160744
CREATED:20250930T093937Z
LAST-MODIFIED:20250930T093937Z
UID:10024889-1761822000-1761825600@kalenteri.niemikoti.fi
SUMMARY:Rento jooga
DESCRIPTION:Lempeää ja helppoa venyttelyä sekä rentoutusta. \nTäydentyvä ryhmä\, ilmoittaudu mukaan!
URL:https://kalenteri.niemikoti.fi/tapahtuma/rento-jooga-3/2025-10-30/
LOCATION:Malmin päivätoimintakeskus\, Vanha Helsingintie 9\, Helsinki\, 00700\, Finland
CATEGORIES:Malmin päivätoimintakeskus
ATTACH;FMTTYPE=image/jpeg:https://kalenteri.niemikoti.fi/wp-content/uploads/2025/09/Jooga.jpg
END:VEVENT
BEGIN:VEVENT
DTSTART;TZID=Europe/Helsinki:20251023T110000
DTEND;TZID=Europe/Helsinki:20251023T120000
DTSTAMP:20260423T160744
CREATED:20250930T093937Z
LAST-MODIFIED:20250930T093937Z
UID:10024888-1761217200-1761220800@kalenteri.niemikoti.fi
SUMMARY:Rento jooga
DESCRIPTION:Lempeää ja helppoa venyttelyä sekä rentoutusta. \nTäydentyvä ryhmä\, ilmoittaudu mukaan!
URL:https://kalenteri.niemikoti.fi/tapahtuma/rento-jooga-3/2025-10-23/
LOCATION:Malmin päivätoimintakeskus\, Vanha Helsingintie 9\, Helsinki\, 00700\, Finland
CATEGORIES:Malmin päivätoimintakeskus
ATTACH;FMTTYPE=image/jpeg:https://kalenteri.niemikoti.fi/wp-content/uploads/2025/09/Jooga.jpg
END:VEVENT
BEGIN:VEVENT
DTSTART;TZID=Europe/Helsinki:20251016T110000
DTEND;TZID=Europe/Helsinki:20251016T120000
DTSTAMP:20260423T160744
CREATED:20250930T093937Z
LAST-MODIFIED:20250930T093937Z
UID:10024887-1760612400-1760616000@kalenteri.niemikoti.fi
SUMMARY:Rento jooga
DESCRIPTION:Lempeää ja helppoa venyttelyä sekä rentoutusta. \nTäydentyvä ryhmä\, ilmoittaudu mukaan!
URL:https://kalenteri.niemikoti.fi/tapahtuma/rento-jooga-3/2025-10-16/
LOCATION:Malmin päivätoimintakeskus\, Vanha Helsingintie 9\, Helsinki\, 00700\, Finland
CATEGORIES:Malmin päivätoimintakeskus
ATTACH;FMTTYPE=image/jpeg:https://kalenteri.niemikoti.fi/wp-content/uploads/2025/09/Jooga.jpg
END:VEVENT
BEGIN:VEVENT
DTSTART;TZID=Europe/Helsinki:20251009T110000
DTEND;TZID=Europe/Helsinki:20251009T120000
DTSTAMP:20260423T160744
CREATED:20250930T093937Z
LAST-MODIFIED:20250930T093937Z
UID:10024886-1760007600-1760011200@kalenteri.niemikoti.fi
SUMMARY:Rento jooga
DESCRIPTION:Lempeää ja helppoa venyttelyä sekä rentoutusta. \nTäydentyvä ryhmä\, ilmoittaudu mukaan!
URL:https://kalenteri.niemikoti.fi/tapahtuma/rento-jooga-3/2025-10-09/
LOCATION:Malmin päivätoimintakeskus\, Vanha Helsingintie 9\, Helsinki\, 00700\, Finland
CATEGORIES:Malmin päivätoimintakeskus
ATTACH;FMTTYPE=image/jpeg:https://kalenteri.niemikoti.fi/wp-content/uploads/2025/09/Jooga.jpg
END:VEVENT
BEGIN:VEVENT
DTSTART;TZID=Europe/Helsinki:20251002T110000
DTEND;TZID=Europe/Helsinki:20251002T120000
DTSTAMP:20260423T160744
CREATED:20250930T093937Z
LAST-MODIFIED:20250930T093937Z
UID:10024885-1759402800-1759406400@kalenteri.niemikoti.fi
SUMMARY:Rento jooga
DESCRIPTION:Lempeää ja helppoa venyttelyä sekä rentoutusta. \nTäydentyvä ryhmä\, ilmoittaudu mukaan!
URL:https://kalenteri.niemikoti.fi/tapahtuma/rento-jooga-3/2025-10-02/
LOCATION:Malmin päivätoimintakeskus\, Vanha Helsingintie 9\, Helsinki\, 00700\, Finland
CATEGORIES:Malmin päivätoimintakeskus
ATTACH;FMTTYPE=image/jpeg:https://kalenteri.niemikoti.fi/wp-content/uploads/2025/09/Jooga.jpg
END:VEVENT
BEGIN:VEVENT
DTSTART;TZID=Europe/Helsinki:20250530T100000
DTEND;TZID=Europe/Helsinki:20250530T110000
DTSTAMP:20260423T160744
CREATED:20240814T074844Z
LAST-MODIFIED:20250321T104144Z
UID:10014027-1748599200-1748602800@kalenteri.niemikoti.fi
SUMMARY:Aamujooga
DESCRIPTION:Lempeää ja rauhallista kaikille sopivaa joogaa. Ei vaadi aiempaa osaamista tai harrastuneisuutta.
URL:https://kalenteri.niemikoti.fi/tapahtuma/aamujooga-2/2025-05-30/
LOCATION:Toimintakeskus Villa Borgis\, Linnavuorentie 13\, Helsinki\, 00950\, Finland
CATEGORIES:Toimintakeskus Villa Borgis
ATTACH;FMTTYPE=image/jpeg:https://kalenteri.niemikoti.fi/wp-content/uploads/2024/08/VillaBorgiksen-Aamujooga.jpg
END:VEVENT
BEGIN:VEVENT
DTSTART;TZID=Europe/Helsinki:20250523T100000
DTEND;TZID=Europe/Helsinki:20250523T110000
DTSTAMP:20260423T160744
CREATED:20240814T074844Z
LAST-MODIFIED:20250321T104144Z
UID:10014026-1747994400-1747998000@kalenteri.niemikoti.fi
SUMMARY:Aamujooga
DESCRIPTION:Lempeää ja rauhallista kaikille sopivaa joogaa. Ei vaadi aiempaa osaamista tai harrastuneisuutta.
URL:https://kalenteri.niemikoti.fi/tapahtuma/aamujooga-2/2025-05-23/
LOCATION:Toimintakeskus Villa Borgis\, Linnavuorentie 13\, Helsinki\, 00950\, Finland
CATEGORIES:Toimintakeskus Villa Borgis
ATTACH;FMTTYPE=image/jpeg:https://kalenteri.niemikoti.fi/wp-content/uploads/2024/08/VillaBorgiksen-Aamujooga.jpg
END:VEVENT
BEGIN:VEVENT
DTSTART;TZID=Europe/Helsinki:20250509T100000
DTEND;TZID=Europe/Helsinki:20250509T110000
DTSTAMP:20260423T160744
CREATED:20240814T074844Z
LAST-MODIFIED:20250321T104144Z
UID:10014024-1746784800-1746788400@kalenteri.niemikoti.fi
SUMMARY:Aamujooga
DESCRIPTION:Lempeää ja rauhallista kaikille sopivaa joogaa. Ei vaadi aiempaa osaamista tai harrastuneisuutta.
URL:https://kalenteri.niemikoti.fi/tapahtuma/aamujooga-2/2025-05-09/
LOCATION:Toimintakeskus Villa Borgis\, Linnavuorentie 13\, Helsinki\, 00950\, Finland
CATEGORIES:Toimintakeskus Villa Borgis
ATTACH;FMTTYPE=image/jpeg:https://kalenteri.niemikoti.fi/wp-content/uploads/2024/08/VillaBorgiksen-Aamujooga.jpg
END:VEVENT
BEGIN:VEVENT
DTSTART;TZID=Europe/Helsinki:20250502T100000
DTEND;TZID=Europe/Helsinki:20250502T110000
DTSTAMP:20260423T160744
CREATED:20240814T074844Z
LAST-MODIFIED:20250321T104144Z
UID:10014023-1746180000-1746183600@kalenteri.niemikoti.fi
SUMMARY:Aamujooga
DESCRIPTION:Lempeää ja rauhallista kaikille sopivaa joogaa. Ei vaadi aiempaa osaamista tai harrastuneisuutta.
URL:https://kalenteri.niemikoti.fi/tapahtuma/aamujooga-2/2025-05-02/
LOCATION:Toimintakeskus Villa Borgis\, Linnavuorentie 13\, Helsinki\, 00950\, Finland
CATEGORIES:Toimintakeskus Villa Borgis
ATTACH;FMTTYPE=image/jpeg:https://kalenteri.niemikoti.fi/wp-content/uploads/2024/08/VillaBorgiksen-Aamujooga.jpg
END:VEVENT
BEGIN:VEVENT
DTSTART;TZID=Europe/Helsinki:20250425T100000
DTEND;TZID=Europe/Helsinki:20250425T110000
DTSTAMP:20260423T160744
CREATED:20240814T074844Z
LAST-MODIFIED:20250321T104144Z
UID:10014022-1745575200-1745578800@kalenteri.niemikoti.fi
SUMMARY:Aamujooga
DESCRIPTION:Lempeää ja rauhallista kaikille sopivaa joogaa. Ei vaadi aiempaa osaamista tai harrastuneisuutta.
URL:https://kalenteri.niemikoti.fi/tapahtuma/aamujooga-2/2025-04-25/
LOCATION:Toimintakeskus Villa Borgis\, Linnavuorentie 13\, Helsinki\, 00950\, Finland
CATEGORIES:Toimintakeskus Villa Borgis
ATTACH;FMTTYPE=image/jpeg:https://kalenteri.niemikoti.fi/wp-content/uploads/2024/08/VillaBorgiksen-Aamujooga.jpg
END:VEVENT
BEGIN:VEVENT
DTSTART;TZID=Europe/Helsinki:20250411T100000
DTEND;TZID=Europe/Helsinki:20250411T110000
DTSTAMP:20260423T160744
CREATED:20240814T074844Z
LAST-MODIFIED:20250321T104144Z
UID:10014020-1744365600-1744369200@kalenteri.niemikoti.fi
SUMMARY:Aamujooga
DESCRIPTION:Lempeää ja rauhallista kaikille sopivaa joogaa. Ei vaadi aiempaa osaamista tai harrastuneisuutta.
URL:https://kalenteri.niemikoti.fi/tapahtuma/aamujooga-2/2025-04-11/
LOCATION:Toimintakeskus Villa Borgis\, Linnavuorentie 13\, Helsinki\, 00950\, Finland
CATEGORIES:Toimintakeskus Villa Borgis
ATTACH;FMTTYPE=image/jpeg:https://kalenteri.niemikoti.fi/wp-content/uploads/2024/08/VillaBorgiksen-Aamujooga.jpg
END:VEVENT
BEGIN:VEVENT
DTSTART;TZID=Europe/Helsinki:20250404T100000
DTEND;TZID=Europe/Helsinki:20250404T110000
DTSTAMP:20260423T160744
CREATED:20240814T074844Z
LAST-MODIFIED:20250321T104144Z
UID:10014019-1743760800-1743764400@kalenteri.niemikoti.fi
SUMMARY:Aamujooga
DESCRIPTION:Lempeää ja rauhallista kaikille sopivaa joogaa. Ei vaadi aiempaa osaamista tai harrastuneisuutta.
URL:https://kalenteri.niemikoti.fi/tapahtuma/aamujooga-2/2025-04-04/
LOCATION:Toimintakeskus Villa Borgis\, Linnavuorentie 13\, Helsinki\, 00950\, Finland
CATEGORIES:Toimintakeskus Villa Borgis
ATTACH;FMTTYPE=image/jpeg:https://kalenteri.niemikoti.fi/wp-content/uploads/2024/08/VillaBorgiksen-Aamujooga.jpg
END:VEVENT
END:VCALENDAR