BEGIN:VCALENDAR
VERSION:2.0
PRODID:-//Tapahtumakalenteri - ECPv6.15.18//NONSGML v1.0//EN
CALSCALE:GREGORIAN
METHOD:PUBLISH
X-WR-CALNAME:Tapahtumakalenteri
X-ORIGINAL-URL:https://kalenteri.niemikoti.fi
X-WR-CALDESC:Tapahtumat Tapahtumakalenteri
REFRESH-INTERVAL;VALUE=DURATION:PT1H
X-Robots-Tag:noindex
X-PUBLISHED-TTL:PT1H
BEGIN:VTIMEZONE
TZID:Europe/Helsinki
BEGIN:DAYLIGHT
TZOFFSETFROM:+0200
TZOFFSETTO:+0300
TZNAME:EEST
DTSTART:20240331T010000
END:DAYLIGHT
BEGIN:STANDARD
TZOFFSETFROM:+0300
TZOFFSETTO:+0200
TZNAME:EET
DTSTART:20241027T010000
END:STANDARD
BEGIN:DAYLIGHT
TZOFFSETFROM:+0200
TZOFFSETTO:+0300
TZNAME:EEST
DTSTART:20250330T010000
END:DAYLIGHT
BEGIN:STANDARD
TZOFFSETFROM:+0300
TZOFFSETTO:+0200
TZNAME:EET
DTSTART:20251026T010000
END:STANDARD
BEGIN:DAYLIGHT
TZOFFSETFROM:+0200
TZOFFSETTO:+0300
TZNAME:EEST
DTSTART:20260329T010000
END:DAYLIGHT
BEGIN:STANDARD
TZOFFSETFROM:+0300
TZOFFSETTO:+0200
TZNAME:EET
DTSTART:20261025T010000
END:STANDARD
END:VTIMEZONE
BEGIN:VEVENT
DTSTART;TZID=Europe/Helsinki:20251222T110000
DTEND;TZID=Europe/Helsinki:20251222T140000
DTSTAMP:20260426T054333
CREATED:20251212T071518Z
LAST-MODIFIED:20251217T075342Z
UID:10025654-1766401200-1766412000@kalenteri.niemikoti.fi
SUMMARY:Puutyöpajat
DESCRIPTION:Tule mukaan Villa Borgiksen joulu-etkoille! Puutyöpajoissa tehdään pieniä puutöitä käsityökaluilla. Ilmoittaudu. \nMa 22.12 klo 11 – 14 \nTi 23.12 klo 11 – 13
URL:https://kalenteri.niemikoti.fi/tapahtuma/puutyopajat/
LOCATION:Toimintakeskus Villa Borgis\, Linnavuorentie 13\, Helsinki\, 00950\, Finland
CATEGORIES:Toimintakeskus Villa Borgis
ATTACH;FMTTYPE=image/jpeg:https://kalenteri.niemikoti.fi/wp-content/uploads/2025/12/Red-and-White-Watercolor-Illustrative-Christmas-Menu.jpg
END:VEVENT
BEGIN:VEVENT
DTSTART;TZID=Europe/Helsinki:20251222T120000
DTEND;TZID=Europe/Helsinki:20251222T130000
DTSTAMP:20260426T054333
CREATED:20251212T073324Z
LAST-MODIFIED:20251212T073324Z
UID:10025656-1766404800-1766408400@kalenteri.niemikoti.fi
SUMMARY:Yhteisön lounas
DESCRIPTION:Lounaaksi on herkullinen joulupuuro. Lounaan hinta 3 € sisältää päiväkahvin ja kahvileivän. Ilmoittaudu viim. pe 19.12
URL:https://kalenteri.niemikoti.fi/tapahtuma/yhteison-lounas-3/
LOCATION:Toimintakeskus Villa Borgis\, Linnavuorentie 13\, Helsinki\, 00950\, Finland
CATEGORIES:Toimintakeskus Villa Borgis
ATTACH;FMTTYPE=image/jpeg:https://kalenteri.niemikoti.fi/wp-content/uploads/2025/12/Red-and-White-Watercolor-Illustrative-Christmas-Menu-1-1.jpg
END:VEVENT
BEGIN:VEVENT
DTSTART;TZID=Europe/Helsinki:20251222T130000
DTEND;TZID=Europe/Helsinki:20251222T140000
DTSTAMP:20260426T054333
CREATED:20251212T074320Z
LAST-MODIFIED:20251212T074320Z
UID:10025660-1766408400-1766412000@kalenteri.niemikoti.fi
SUMMARY:Joululauluja
DESCRIPTION:Tule Villa Borgiksen joulu-etkoille laulamaan ja musisoimaan yhdessä kohti joulua.
URL:https://kalenteri.niemikoti.fi/tapahtuma/joululauluja/
LOCATION:Toimintakeskus Villa Borgis\, Linnavuorentie 13\, Helsinki\, 00950\, Finland
CATEGORIES:Toimintakeskus Villa Borgis
ATTACH;FMTTYPE=image/jpeg:https://kalenteri.niemikoti.fi/wp-content/uploads/2025/12/Red-and-White-Watercolor-Illustrative-Christmas-Menu-1-2.jpg
END:VEVENT
BEGIN:VEVENT
DTSTART;TZID=Europe/Helsinki:20251223T110000
DTEND;TZID=Europe/Helsinki:20251223T130000
DTSTAMP:20260426T054333
CREATED:20251212T072026Z
LAST-MODIFIED:20251212T072026Z
UID:10025655-1766487600-1766494800@kalenteri.niemikoti.fi
SUMMARY:Puutyöpajat
DESCRIPTION:Tule mukaan Villa Borgiksen joulu-etkoille! Puutyöpajoissa tehdään pieniä puutöitä käsityökaluilla. Ilmoittaudu. \nMa 22.12 klo 11 – 14 \nTi 23.12 klo 11 – 13
URL:https://kalenteri.niemikoti.fi/tapahtuma/puutyopajat-2/
LOCATION:Toimintakeskus Villa Borgis\, Linnavuorentie 13\, Helsinki\, 00950\, Finland
CATEGORIES:Toimintakeskus Villa Borgis
ATTACH;FMTTYPE=image/jpeg:https://kalenteri.niemikoti.fi/wp-content/uploads/2025/12/Red-and-White-Watercolor-Illustrative-Christmas-Menu-1.jpg
END:VEVENT
BEGIN:VEVENT
DTSTART;VALUE=DATE:20251224
DTEND;VALUE=DATE:20251225
DTSTAMP:20260426T054333
CREATED:20251212T093352Z
LAST-MODIFIED:20251212T093352Z
UID:10025662-1766534400-1766620799@kalenteri.niemikoti.fi
SUMMARY:Päivätoimintakeskus kiinni
DESCRIPTION:Villa Borgis on kiinni 24.12.2025 – 6.1.2026. Avaamme ovet taas joulutauon jälkeen 7.1.2026 klo 9
URL:https://kalenteri.niemikoti.fi/tapahtuma/paivatoimintakeskus-kiinni/2025-12-24/
LOCATION:Toimintakeskus Villa Borgis\, Linnavuorentie 13\, Helsinki\, 00950\, Finland
CATEGORIES:Toimintakeskus Villa Borgis
ATTACH;FMTTYPE=image/jpeg:https://kalenteri.niemikoti.fi/wp-content/uploads/2025/12/pexels-kevinbidwell-1692861-scaled.jpg
END:VEVENT
BEGIN:VEVENT
DTSTART;VALUE=DATE:20251225
DTEND;VALUE=DATE:20251226
DTSTAMP:20260426T054333
CREATED:20251212T093352Z
LAST-MODIFIED:20251212T093352Z
UID:10025663-1766620800-1766707199@kalenteri.niemikoti.fi
SUMMARY:Päivätoimintakeskus kiinni
DESCRIPTION:Villa Borgis on kiinni 24.12.2025 – 6.1.2026. Avaamme ovet taas joulutauon jälkeen 7.1.2026 klo 9
URL:https://kalenteri.niemikoti.fi/tapahtuma/paivatoimintakeskus-kiinni/2025-12-25/
LOCATION:Toimintakeskus Villa Borgis\, Linnavuorentie 13\, Helsinki\, 00950\, Finland
CATEGORIES:Toimintakeskus Villa Borgis
ATTACH;FMTTYPE=image/jpeg:https://kalenteri.niemikoti.fi/wp-content/uploads/2025/12/pexels-kevinbidwell-1692861-scaled.jpg
END:VEVENT
BEGIN:VEVENT
DTSTART;VALUE=DATE:20251226
DTEND;VALUE=DATE:20251227
DTSTAMP:20260426T054333
CREATED:20251212T093352Z
LAST-MODIFIED:20251212T093352Z
UID:10025664-1766707200-1766793599@kalenteri.niemikoti.fi
SUMMARY:Päivätoimintakeskus kiinni
DESCRIPTION:Villa Borgis on kiinni 24.12.2025 – 6.1.2026. Avaamme ovet taas joulutauon jälkeen 7.1.2026 klo 9
URL:https://kalenteri.niemikoti.fi/tapahtuma/paivatoimintakeskus-kiinni/2025-12-26/
LOCATION:Toimintakeskus Villa Borgis\, Linnavuorentie 13\, Helsinki\, 00950\, Finland
CATEGORIES:Toimintakeskus Villa Borgis
ATTACH;FMTTYPE=image/jpeg:https://kalenteri.niemikoti.fi/wp-content/uploads/2025/12/pexels-kevinbidwell-1692861-scaled.jpg
END:VEVENT
BEGIN:VEVENT
DTSTART;VALUE=DATE:20251227
DTEND;VALUE=DATE:20251228
DTSTAMP:20260426T054333
CREATED:20251212T093352Z
LAST-MODIFIED:20251212T093352Z
UID:10025665-1766793600-1766879999@kalenteri.niemikoti.fi
SUMMARY:Päivätoimintakeskus kiinni
DESCRIPTION:Villa Borgis on kiinni 24.12.2025 – 6.1.2026. Avaamme ovet taas joulutauon jälkeen 7.1.2026 klo 9
URL:https://kalenteri.niemikoti.fi/tapahtuma/paivatoimintakeskus-kiinni/2025-12-27/
LOCATION:Toimintakeskus Villa Borgis\, Linnavuorentie 13\, Helsinki\, 00950\, Finland
CATEGORIES:Toimintakeskus Villa Borgis
ATTACH;FMTTYPE=image/jpeg:https://kalenteri.niemikoti.fi/wp-content/uploads/2025/12/pexels-kevinbidwell-1692861-scaled.jpg
END:VEVENT
BEGIN:VEVENT
DTSTART;VALUE=DATE:20251228
DTEND;VALUE=DATE:20251229
DTSTAMP:20260426T054333
CREATED:20251212T093352Z
LAST-MODIFIED:20251212T093352Z
UID:10025666-1766880000-1766966399@kalenteri.niemikoti.fi
SUMMARY:Päivätoimintakeskus kiinni
DESCRIPTION:Villa Borgis on kiinni 24.12.2025 – 6.1.2026. Avaamme ovet taas joulutauon jälkeen 7.1.2026 klo 9
URL:https://kalenteri.niemikoti.fi/tapahtuma/paivatoimintakeskus-kiinni/2025-12-28/
LOCATION:Toimintakeskus Villa Borgis\, Linnavuorentie 13\, Helsinki\, 00950\, Finland
CATEGORIES:Toimintakeskus Villa Borgis
ATTACH;FMTTYPE=image/jpeg:https://kalenteri.niemikoti.fi/wp-content/uploads/2025/12/pexels-kevinbidwell-1692861-scaled.jpg
END:VEVENT
END:VCALENDAR